Uber Exif Photo
Object Name : Waiting 8
Keywords : Canon 35mm 1.8, Hong Kong, Leica M9
By-line : Os Ishmael
Sub-location : Hong Kong
Copyright Notice : Os Ishmael
Copyright Flag : True
Make : Leica Camera AG
Camera Model Name : M9 Digital Camera
Software : 1.138
Modify Date : 2011:04:21 04:59:00
Copyright : Os Ishmael
Exposure Time : 1/180
Exposure Program : Manual
ISO : 320
Date/Time Original : 2011:04:17 16:48:59
Create Date : 2011:04:17 16:48:59
Shutter Speed Value : 1/180
Exposure Compensation : -0.664
Max Aperture Value : 2.0
Metering Mode : Center-weighted average
Light Source : Unknown
Focal Length : 35.0 mm
Contrast : Normal
Sharpening : Normal
Saturation : Normal
White Balance : Auto
JPEG Quality : Basic
WB RGB Levels : 0.4836462392 1 0.6921549575
User Profile : Ossie 1
JPEG Size : 3840x2592
Serial Number : 3908455
Firmware Version : 1.138
Base ISO : 160
Sensor Width : 5270
Sensor Height : 3516
Sensor Bit Depth : 14
Camera Temperature : 23 C
Lens Type : Summicron-M 35mm f/2 (IV)
Approximate F Number : 2.0
Measured LV : 3.19
External Sensor Brightness Value : 0.84
Scene Type : Directly photographed
Exposure Mode : Manual
Digital Zoom Ratio : 0
Focal Length In 35mm Format : 35 mm
Scene Capture Type : Standard
Maker Note Safety : Safe
Profile Description : sRGB IEC61966-2.1
Date/Time Digitized : 2011:04:17 16:48:59+08:00
Exif Image Width : 4520
Exif Image Height : 3013
Creator Tool : Adobe Photoshop Lightroom
Marked : True
Location : Hong Kong
Version : 5.2
Color Temperature : 3650
Tint : -74
Exposure : +0.35
Shadows : 10
Brightness : +125
Sharpness : 25
Luminance Smoothing : 0
Color Noise Reduction : 25
Chromatic Aberration R : 0
Chromatic Aberration B : 0
Vignette Amount : 0
Shadow Tint : -4
Red Hue : +100
Red Saturation : -100
Green Hue : +100
Green Saturation : +100
Blue Hue : -60
Blue Saturation : +3
Fill Light : 0
Vibrance : +25
Highlight Recovery : 62
Clarity : +50
Defringe : 0
Hue Adjustment Red : 0
Hue Adjustment Orange : 0
Hue Adjustment Yellow : 0
Hue Adjustment Green : 0
Hue Adjustment Aqua : 0
Hue Adjustment Blue : 0
Hue Adjustment Purple : 0
Hue Adjustment Magenta : 0
Saturation Adjustment Red : 0
Saturation Adjustment Orange : 0
Saturation Adjustment Yellow : 0
Saturation Adjustment Green : 0
Saturation Adjustment Aqua : 0
Saturation Adjustment Blue : +83
Saturation Adjustment Purple : +42
Saturation Adjustment Magenta : 0
Luminance Adjustment Red : 0
Luminance Adjustment Orange : 0
Luminance Adjustment Yellow : 0
Luminance Adjustment Green : 0
Luminance Adjustment Aqua : 0
Luminance Adjustment Blue : 0
Luminance Adjustment Purple : 0
Luminance Adjustment Magenta : 0
Split Toning Shadow Hue : 0
Split Toning Shadow Saturation : 0
Split Toning Highlight Hue : 0
Split Toning Highlight Saturation : 0
Split Toning Balance : 0
Parametric Shadows : -14
Parametric Darks : -3
Parametric Lights : 0
Parametric Highlights : 0
Parametric Shadow Split : 25
Parametric Midtone Split : 50
Parametric Highlight Split : 75
Sharpen Radius : +1.0
Sharpen Detail : 25
Sharpen Edge Masking : 0
Post Crop Vignette Amount : 0
Convert To Grayscale : False
Tone Curve Name : Linear
Camera Profile : Embedded
Has Settings : True
Crop Top : 0.016931
Crop Left : 0.125315
Crop Bottom : 0.868841
Crop Right : 1
Crop Angle : -0.744314
Crop Width : 4520
Crop Height : 3013
Crop Unit : pixels
Has Crop : True
Already Applied : True
Flash Fired : False
Flash Return : No return detection
Flash Mode : Unknown
Flash Function : False
Flash Red Eye Mode : False
Creator : Os Ishmael
Title : Waiting 8
Rights : Os Ishmael
Subject : Canon 35mm 1.8, Hong Kong, Leica M9
Tone Curve : 0, 0, 255, 255
Image Width : 300
Image Height : 200
Bits Per Sample : 8
Color Components : 3
Blue Balance : 0.692155
Image Size : 300x200
Lens ID : Summicron-M 35mm f/2 (IV)
Megapixels : 0.060
Red Balance : 0.483646
Scale Factor To 35 mm Equivalent : 1.0
Shutter Speed : 1/180
Flash : No Flash
Circle Of Confusion : 0.030 mm
Field Of View : 54.4 deg
Focal Length : 35.0 mm (35 mm equivalent: 35.0 mm)