Uber Exif Photo
By-line : David English
By-line Title : Photographer
Copyright Notice : ©Copyright 2010
Copyright Flag : True
Make : Leica Camera AG
Camera Model Name : M8 Digital Camera
Software : 2.005
Modify Date : 2011:02:16 12:27:25
Copyright : (C)Copyright 2010
Exposure Time : 1/500
F Number : 8.0
Exposure Program : Manual
ISO : 160
Sensitivity Type : Unknown
Date/Time Original : 2011:02:16 09:57:19
Create Date : 2011:02:16 09:57:19
Shutter Speed Value : 1/500
Aperture Value : 8.0
Exposure Compensation : 0
Max Aperture Value : 2.0
Metering Mode : Center-weighted average
Light Source : Unknown
Focal Length : 50.0 mm
Scene Type : Directly photographed
White Balance : Auto
Digital Zoom Ratio : 0
Focal Length In 35mm Format : 67 mm
Scene Capture Type : Standard
Serial Number : 3556703
Lens Model : Leica Summicron-M 50mm f/2 (IV, V)
Date/Time Digitized : 2011:02:16 09:57:19-08:00
Exif Image Width : 675
Exif Image Height : 454
Creator Tool : Adobe Photoshop Lightroom
Rating : 2
Lens : Leica Summicron-M 50mm f/2 (IV, V)
Marked : True
Authors Position : Photographer
Version : 6.2
Process Version : 5.7
Color Temperature : 5700
Tint : +26
Exposure : +0.87
Shadows : 15
Brightness : -2
Contrast : +25
Sharpness : 57
Luminance Smoothing : 0
Color Noise Reduction : 25
Chromatic Aberration R : 0
Chromatic Aberration B : 0
Vignette Amount : 0
Shadow Tint : 0
Red Hue : 0
Red Saturation : 0
Green Hue : 0
Green Saturation : 0
Blue Hue : 0
Blue Saturation : 0
Fill Light : 0
Highlight Recovery : 92
Clarity : +24
Defringe : 0
Gray Mixer Red : 0
Gray Mixer Orange : 0
Gray Mixer Yellow : 0
Gray Mixer Green : 0
Gray Mixer Aqua : 0
Gray Mixer Blue : 0
Gray Mixer Purple : 0
Gray Mixer Magenta : 0
Split Toning Shadow Hue : 0
Split Toning Shadow Saturation : 0
Split Toning Highlight Hue : 0
Split Toning Highlight Saturation : 0
Split Toning Balance : 0
Parametric Shadows : 0
Parametric Darks : 0
Parametric Lights : 0
Parametric Highlights : 0
Parametric Shadow Split : 25
Parametric Midtone Split : 50
Parametric Highlight Split : 75
Sharpen Radius : +1.0
Sharpen Detail : 25
Sharpen Edge Masking : 0
Post Crop Vignette Amount : 0
Grain Amount : 0
Color Noise Reduction Detail : 50
Lens Profile Enable : 0
Lens Manual Distortion Amount : 0
Perspective Vertical : 0
Perspective Horizontal : 0
Perspective Rotate : 0.0
Perspective Scale : 100
Convert To Grayscale : True
Tone Curve Name : Medium Contrast
Camera Profile : Adobe Standard
Lens Profile Setup : LensDefaults
Has Settings : True
Crop Top : 0.310169
Crop Left : 0.365066
Crop Bottom : 0.802977
Crop Right : 0.86257
Crop Angle : -0.251202
Crop Constrain To Warp : 0
Crop Width : 675
Crop Height : 454
Crop Unit : pixels
Has Crop : True
Already Applied : True
Flash Fired : False
Flash Return : No return detection
Flash Mode : Off
Flash Function : False
Flash Red Eye Mode : False
Creator Postal Code : 94966
Creator Work Email : davidEnglish@yahoo.com
Creator Work Telephone : 415-331-2085
Creator Region : CA
Creator Country : USA
Creator City : Sausalito
Creator Address : PO Box 1335
Creator Work URL : www.DavidEnglishPhotos.com
Usage Terms : All Rights Reserved
Creator : David English
Rights : ©Copyright 2010
Tone Curve : 0, 0, 32, 22, 64, 56, 128, 128, 192, 196, 255, 255
Image Width : 300
Image Height : 202
Bits Per Sample : 8
Color Components : 1
Aperture : 8.0
Image Size : 300x202
Megapixels : 0.061
Scale Factor To 35 mm Equivalent : 1.3
Shutter Speed : 1/500
Flash : Off, Did not fire
Circle Of Confusion : 0.022 mm
Field Of View : 30.1 deg
Focal Length : 50.0 mm (35 mm equivalent: 67.0 mm)
Hyperfocal Distance : 13.94 m
Light Value : 14.3
Lens ID : Summicron-M 50mm f/2 (IV, V)