Uber Exif Photo
Make : Leica Camera AG
Camera Model Name : M9 Digital Camera
Software : Adobe Photoshop Lightroom 4.4 (Macintosh)
Modify Date : 2013:05:28 09:30:33
Exposure Time : 1/180
Exposure Program : Aperture-priority AE
ISO : 160
Create Date : 2013:05:28 06:29:41
Shutter Speed Value : 1/180
Exposure Compensation : 0
Max Aperture Value : 1.0
Metering Mode : Center-weighted average
Light Source : Unknown
Flash : No Flash
Focal Length : 50.0 mm
Profile Description : sRGB IEC61966-2.1
Creator Tool : Adobe Photoshop Lightroom 4.4 (Macintosh)
Format : image/jpeg
Version : 7.4
Process Version : 6.7
White Balance : As Shot
Incremental Temperature : 0
Incremental Tint : 0
Saturation : 0
Sharpness : 52
Luminance Smoothing : 0
Color Noise Reduction : 0
Vignette Amount : 0
Shadow Tint : 0
Red Hue : +60
Red Saturation : +18
Green Hue : -35
Green Saturation : +32
Blue Hue : -29
Blue Saturation : -37
Vibrance : -17
Hue Adjustment Red : 0
Hue Adjustment Orange : -34
Hue Adjustment Yellow : -29
Hue Adjustment Green : -30
Hue Adjustment Aqua : -48
Hue Adjustment Blue : 0
Hue Adjustment Purple : 0
Hue Adjustment Magenta : 0
Saturation Adjustment Red : 0
Saturation Adjustment Orange : -9
Saturation Adjustment Yellow : -3
Saturation Adjustment Green : +13
Saturation Adjustment Aqua : +24
Saturation Adjustment Blue : -47
Saturation Adjustment Purple : 0
Saturation Adjustment Magenta : 0
Luminance Adjustment Red : 0
Luminance Adjustment Orange : +37
Luminance Adjustment Yellow : -38
Luminance Adjustment Green : -94
Luminance Adjustment Aqua : -86
Luminance Adjustment Blue : +96
Luminance Adjustment Purple : 0
Luminance Adjustment Magenta : 0
Split Toning Shadow Hue : 0
Split Toning Shadow Saturation : 0
Split Toning Highlight Hue : 0
Split Toning Highlight Saturation : 0
Split Toning Balance : 0
Parametric Shadows : -22
Parametric Darks : +5
Parametric Lights : -43
Parametric Highlights : +27
Parametric Shadow Split : 25
Parametric Midtone Split : 50
Parametric Highlight Split : 75
Sharpen Radius : +0.5
Sharpen Detail : 0
Sharpen Edge Masking : 0
Post Crop Vignette Amount : 0
Grain Amount : 0
Lens Profile Enable : 0
Lens Manual Distortion Amount : 0
Perspective Vertical : 0
Perspective Horizontal : 0
Perspective Rotate : 0.0
Perspective Scale : 100
Auto Lateral CA : 0
Exposure 2012 : -0.20
Contrast 2012 : +53
Highlights 2012 : -1
Shadows 2012 : +100
Whites 2012 : +34
Blacks 2012 : +14
Clarity 2012 : 0
Defringe Purple Amount : 0
Defringe Purple Hue Lo : 30
Defringe Purple Hue Hi : 70
Defringe Green Amount : 0
Defringe Green Hue Lo : 40
Defringe Green Hue Hi : 60
Convert To Grayscale : False
Tone Curve Name 2012 : Linear
Camera Profile : Embedded
Lens Profile Setup : LensDefaults
Has Settings : True
Crop Top : 0.050825
Crop Left : 0.142661
Crop Bottom : 1
Crop Right : 0.708093
Crop Angle : 0
Crop Constrain To Warp : 0
Crop Width : 2947
Crop Height : 3292
Crop Unit : pixels
Has Crop : True
Already Applied : True
Tone Curve PV2012 : 0, 0, 255, 255
Tone Curve PV2012 Red : 0, 0, 255, 255
Tone Curve PV2012 Green : 0, 0, 255, 255
Tone Curve PV2012 Blue : 0, 0, 255, 255
Image Width : 269
Image Height : 300
Bits Per Sample : 8
Color Components : 3
Image Size : 269x300
Megapixels : 0.081
Shutter Speed : 1/180