Uber Exif Photo
Make : Leica Camera AG
Camera Model Name : M9 Digital Camera
Software : Adobe Photoshop Lightroom 4.4 (Macintosh)
Modify Date : 2013:05:29 16:12:48
Exposure Time : 1/2000
Exposure Program : Aperture-priority AE
ISO : 160
Create Date : 2013:05:29 05:36:12
Shutter Speed Value : 1/2000
Exposure Compensation : 0
Max Aperture Value : 2.0
Metering Mode : Center-weighted average
Light Source : Unknown
Flash : No Flash
Focal Length : 35.0 mm
Profile Description : sRGB IEC61966-2.1
Creator Tool : Adobe Photoshop Lightroom 4.4 (Macintosh)
Format : image/jpeg
Version : 7.4
Process Version : 6.7
White Balance : Custom
Incremental Temperature : +5
Incremental Tint : 0
Saturation : -3
Sharpness : 105
Luminance Smoothing : 0
Color Noise Reduction : 0
Vignette Amount : 0
Shadow Tint : 0
Red Hue : 0
Red Saturation : +1
Green Hue : -18
Green Saturation : +26
Blue Hue : -7
Blue Saturation : +24
Vibrance : -2
Hue Adjustment Red : +8
Hue Adjustment Orange : +6
Hue Adjustment Yellow : +7
Hue Adjustment Green : -6
Hue Adjustment Aqua : 0
Hue Adjustment Blue : +4
Hue Adjustment Purple : 0
Hue Adjustment Magenta : 0
Saturation Adjustment Red : +4
Saturation Adjustment Orange : 0
Saturation Adjustment Yellow : -44
Saturation Adjustment Green : +2
Saturation Adjustment Aqua : -35
Saturation Adjustment Blue : -33
Saturation Adjustment Purple : +9
Saturation Adjustment Magenta : 0
Luminance Adjustment Red : 0
Luminance Adjustment Orange : +3
Luminance Adjustment Yellow : 0
Luminance Adjustment Green : 0
Luminance Adjustment Aqua : 0
Luminance Adjustment Blue : 0
Luminance Adjustment Purple : 0
Luminance Adjustment Magenta : 0
Split Toning Shadow Hue : 0
Split Toning Shadow Saturation : 0
Split Toning Highlight Hue : 0
Split Toning Highlight Saturation : 0
Split Toning Balance : 0
Parametric Shadows : -40
Parametric Darks : -23
Parametric Lights : +27
Parametric Highlights : +32
Parametric Shadow Split : 25
Parametric Midtone Split : 50
Parametric Highlight Split : 75
Sharpen Radius : +2.6
Sharpen Detail : 0
Sharpen Edge Masking : 0
Post Crop Vignette Amount : 0
Grain Amount : 0
Lens Profile Enable : 0
Lens Manual Distortion Amount : 0
Perspective Vertical : 0
Perspective Horizontal : 0
Perspective Rotate : 0.0
Perspective Scale : 100
Auto Lateral CA : 0
Exposure 2012 : +0.75
Contrast 2012 : +1
Highlights 2012 : -59
Shadows 2012 : +6
Whites 2012 : +11
Blacks 2012 : -10
Clarity 2012 : +48
Defringe Purple Amount : 0
Defringe Purple Hue Lo : 30
Defringe Purple Hue Hi : 70
Defringe Green Amount : 0
Defringe Green Hue Lo : 40
Defringe Green Hue Hi : 60
Convert To Grayscale : False
Tone Curve Name 2012 : Linear
Camera Profile : Embedded
Lens Profile Setup : LensDefaults
Has Settings : True
Crop Top : 0.060159
Crop Left : 0.123023
Crop Bottom : 0.94164
Crop Right : 0.876675
Crop Angle : 0
Crop Constrain To Warp : 0
Crop Width : 3928
Crop Height : 3057
Crop Unit : pixels
Has Crop : True
Already Applied : True
Tone Curve PV2012 : 0, 0, 255, 255
Tone Curve PV2012 Red : 0, 0, 255, 255
Tone Curve PV2012 Green : 0, 0, 255, 255
Tone Curve PV2012 Blue : 0, 0, 255, 255
Image Width : 300
Image Height : 234
Bits Per Sample : 8
Color Components : 3
Image Size : 300x234
Megapixels : 0.070
Shutter Speed : 1/2000