Uber Exif Photo
Make : Leica Camera AG
Camera Model Name : M9 Digital Camera
Software : Adobe Photoshop Lightroom 4.4 (Macintosh)
Modify Date : 2013:05:25 14:35:30
Exposure Time : 1/4000
Exposure Program : Aperture-priority AE
ISO : 160
Create Date : 2013:05:25 07:54:20
Shutter Speed Value : 1/4000
Exposure Compensation : 0
Max Aperture Value : 1.4
Metering Mode : Center-weighted average
Light Source : Unknown
Flash : No Flash
Focal Length : 50.0 mm
Profile Description : sRGB IEC61966-2.1
Creator Tool : Adobe Photoshop Lightroom 4.4 (Macintosh)
Format : image/jpeg
Version : 7.4
Process Version : 6.7
White Balance : Custom
Incremental Temperature : +15
Incremental Tint : 0
Saturation : 0
Sharpness : 8
Luminance Smoothing : 0
Color Noise Reduction : 0
Vignette Amount : 0
Shadow Tint : 0
Red Hue : 0
Red Saturation : 0
Green Hue : -25
Green Saturation : +33
Blue Hue : -3
Blue Saturation : +39
Vibrance : +26
Hue Adjustment Red : -4
Hue Adjustment Orange : 0
Hue Adjustment Yellow : +10
Hue Adjustment Green : 0
Hue Adjustment Aqua : 0
Hue Adjustment Blue : 0
Hue Adjustment Purple : 0
Hue Adjustment Magenta : 0
Saturation Adjustment Red : -4
Saturation Adjustment Orange : +2
Saturation Adjustment Yellow : -31
Saturation Adjustment Green : 0
Saturation Adjustment Aqua : 0
Saturation Adjustment Blue : +68
Saturation Adjustment Purple : 0
Saturation Adjustment Magenta : 0
Luminance Adjustment Red : 0
Luminance Adjustment Orange : +25
Luminance Adjustment Yellow : -40
Luminance Adjustment Green : -15
Luminance Adjustment Aqua : -16
Luminance Adjustment Blue : -25
Luminance Adjustment Purple : 0
Luminance Adjustment Magenta : 0
Split Toning Shadow Hue : 0
Split Toning Shadow Saturation : 0
Split Toning Highlight Hue : 0
Split Toning Highlight Saturation : 0
Split Toning Balance : 0
Parametric Shadows : -18
Parametric Darks : +30
Parametric Lights : +27
Parametric Highlights : -48
Parametric Shadow Split : 25
Parametric Midtone Split : 50
Parametric Highlight Split : 75
Sharpen Radius : +0.5
Sharpen Detail : 0
Sharpen Edge Masking : 0
Post Crop Vignette Amount : 0
Grain Amount : 0
Lens Profile Enable : 0
Lens Manual Distortion Amount : 0
Perspective Vertical : 0
Perspective Horizontal : 0
Perspective Rotate : 0.0
Perspective Scale : 100
Auto Lateral CA : 0
Exposure 2012 : -1.65
Contrast 2012 : 0
Highlights 2012 : 0
Shadows 2012 : +50
Whites 2012 : -40
Blacks 2012 : -48
Clarity 2012 : +20
Defringe Purple Amount : 0
Defringe Purple Hue Lo : 30
Defringe Purple Hue Hi : 70
Defringe Green Amount : 0
Defringe Green Hue Lo : 40
Defringe Green Hue Hi : 60
Convert To Grayscale : False
Tone Curve Name 2012 : Linear
Camera Profile : Embedded
Lens Profile Setup : LensDefaults
Has Settings : True
Crop Top : 0.004184
Crop Left : 0.097091
Crop Bottom : 1
Crop Right : 0.816864
Crop Angle : 0
Crop Constrain To Warp : 0
Crop Width : 3751
Crop Height : 3453
Crop Unit : pixels
Has Crop : True
Already Applied : True
Tone Curve PV2012 : 0, 0, 255, 255
Tone Curve PV2012 Red : 0, 0, 255, 255
Tone Curve PV2012 Green : 0, 0, 255, 255
Tone Curve PV2012 Blue : 0, 0, 255, 255
Image Width : 300
Image Height : 276
Bits Per Sample : 8
Color Components : 3
Image Size : 300x276
Megapixels : 0.083
Shutter Speed : 1/4000