Uber Exif Photo
Make : Leica Camera AG
Camera Model Name : M9 Digital Camera
Software : Adobe Photoshop Lightroom 4.4 (Macintosh)
Modify Date : 2013:05:05 21:53:12
Exposure Time : 1/45
Exposure Program : Aperture-priority AE
ISO : 320
Create Date : 2013:05:05 18:52:56
Shutter Speed Value : 1/45
Exposure Compensation : 0
Max Aperture Value : 1.4
Metering Mode : Center-weighted average
Light Source : Unknown
Flash : No Flash
Focal Length : 35.0 mm
Profile Description : sRGB IEC61966-2.1
Creator Tool : Adobe Photoshop Lightroom 4.4 (Macintosh)
Format : image/jpeg
Version : 7.4
Process Version : 6.7
White Balance : As Shot
Incremental Temperature : 0
Incremental Tint : 0
Saturation : 0
Sharpness : 24
Luminance Smoothing : 0
Color Noise Reduction : 0
Vignette Amount : 0
Shadow Tint : 0
Red Hue : 0
Red Saturation : +4
Green Hue : +6
Green Saturation : +5
Blue Hue : +6
Blue Saturation : +19
Vibrance : +34
Hue Adjustment Red : 0
Hue Adjustment Orange : 0
Hue Adjustment Yellow : 0
Hue Adjustment Green : 0
Hue Adjustment Aqua : 0
Hue Adjustment Blue : 0
Hue Adjustment Purple : 0
Hue Adjustment Magenta : 0
Saturation Adjustment Red : 0
Saturation Adjustment Orange : -67
Saturation Adjustment Yellow : +41
Saturation Adjustment Green : 0
Saturation Adjustment Aqua : 0
Saturation Adjustment Blue : 0
Saturation Adjustment Purple : 0
Saturation Adjustment Magenta : 0
Luminance Adjustment Red : -4
Luminance Adjustment Orange : -17
Luminance Adjustment Yellow : -15
Luminance Adjustment Green : 0
Luminance Adjustment Aqua : 0
Luminance Adjustment Blue : 0
Luminance Adjustment Purple : -50
Luminance Adjustment Magenta : -4
Split Toning Shadow Hue : 0
Split Toning Shadow Saturation : 0
Split Toning Highlight Hue : 0
Split Toning Highlight Saturation : 0
Split Toning Balance : 0
Parametric Shadows : +32
Parametric Darks : +6
Parametric Lights : +41
Parametric Highlights : -39
Parametric Shadow Split : 10
Parametric Midtone Split : 63
Parametric Highlight Split : 90
Sharpen Radius : +0.5
Sharpen Detail : 0
Sharpen Edge Masking : 0
Post Crop Vignette Amount : 0
Grain Amount : 0
Lens Profile Enable : 0
Lens Manual Distortion Amount : 0
Perspective Vertical : 0
Perspective Horizontal : 0
Perspective Rotate : 0.0
Perspective Scale : 100
Auto Lateral CA : 0
Exposure 2012 : -0.85
Contrast 2012 : -42
Highlights 2012 : +63
Shadows 2012 : -38
Whites 2012 : -63
Blacks 2012 : +51
Clarity 2012 : +45
Defringe Purple Amount : 0
Defringe Purple Hue Lo : 30
Defringe Purple Hue Hi : 70
Defringe Green Amount : 0
Defringe Green Hue Lo : 40
Defringe Green Hue Hi : 60
Convert To Grayscale : False
Tone Curve Name 2012 : Linear
Camera Profile : Embedded
Lens Profile Setup : LensDefaults
Has Settings : True
Crop Top : 0
Crop Left : 0.182162
Crop Bottom : 0.862945
Crop Right : 1
Crop Angle : 0
Crop Constrain To Warp : 0
Crop Width : 4263
Crop Height : 2993
Crop Unit : pixels
Has Crop : True
Already Applied : True
Tone Curve PV2012 : 0, 0, 255, 255
Tone Curve PV2012 Red : 0, 0, 255, 255
Tone Curve PV2012 Green : 0, 0, 255, 255
Tone Curve PV2012 Blue : 0, 0, 255, 255
Image Width : 300
Image Height : 211
Bits Per Sample : 8
Color Components : 3
Image Size : 300x211
Megapixels : 0.063
Shutter Speed : 1/45