Uber Exif Photo
Make : Leica Camera AG
Camera Model Name : M9 Digital Camera
Software : Adobe Photoshop Lightroom 4.3 (Macintosh)
Modify Date : 2013:03:08 08:52:42
Exposure Time : 1/180
Exposure Program : Aperture-priority AE
ISO : 80
Date/Time Original : 2013:02:27 11:43:55
Create Date : 2013:02:27 11:43:55
Shutter Speed Value : 1/180
Exposure Compensation : 0
Max Aperture Value : 1.0
Metering Mode : Center-weighted average
Light Source : Unknown
Flash : No Flash
Focal Length : 50.0 mm
Exposure Mode : Manual
White Balance : Auto
Digital Zoom Ratio : 0
Focal Length In 35mm Format : 50 mm
Scene Capture Type : Standard
Serial Number : 3839582
Profile Description : sRGB IEC61966-2.1
Creator Tool : Adobe Photoshop Lightroom 4.3 (Macintosh)
Date Created : 2013:02:27 11:43:55
Format : image/jpeg
Version : 7.3
Process Version : 6.7
Incremental Temperature : +11
Incremental Tint : 0
Saturation : 0
Sharpness : 72
Luminance Smoothing : 0
Color Noise Reduction : 0
Vignette Amount : 0
Shadow Tint : 0
Red Hue : 0
Red Saturation : 0
Green Hue : +7
Green Saturation : -1
Blue Hue : 0
Blue Saturation : 0
Vibrance : +12
Hue Adjustment Red : -1
Hue Adjustment Orange : 0
Hue Adjustment Yellow : -16
Hue Adjustment Green : +17
Hue Adjustment Aqua : +34
Hue Adjustment Blue : 0
Hue Adjustment Purple : 0
Hue Adjustment Magenta : 0
Saturation Adjustment Red : -42
Saturation Adjustment Orange : +66
Saturation Adjustment Yellow : -38
Saturation Adjustment Green : +55
Saturation Adjustment Aqua : +45
Saturation Adjustment Blue : +57
Saturation Adjustment Purple : +17
Saturation Adjustment Magenta : -65
Luminance Adjustment Red : +64
Luminance Adjustment Orange : -25
Luminance Adjustment Yellow : -31
Luminance Adjustment Green : +79
Luminance Adjustment Aqua : -40
Luminance Adjustment Blue : +23
Luminance Adjustment Purple : -36
Luminance Adjustment Magenta : -50
Split Toning Shadow Hue : 0
Split Toning Shadow Saturation : 0
Split Toning Highlight Hue : 0
Split Toning Highlight Saturation : 0
Split Toning Balance : 0
Parametric Shadows : -19
Parametric Darks : +12
Parametric Lights : -61
Parametric Highlights : +36
Parametric Shadow Split : 25
Parametric Midtone Split : 50
Parametric Highlight Split : 75
Sharpen Radius : +0.5
Sharpen Detail : 0
Sharpen Edge Masking : 0
Post Crop Vignette Amount : 0
Grain Amount : 0
Lens Profile Enable : 0
Lens Manual Distortion Amount : 0
Perspective Vertical : 0
Perspective Horizontal : 0
Perspective Rotate : 0.0
Perspective Scale : 100
Auto Lateral CA : 0
Exposure 2012 : +0.05
Contrast 2012 : -18
Highlights 2012 : 0
Shadows 2012 : -39
Whites 2012 : -37
Blacks 2012 : -51
Clarity 2012 : +3
Defringe Purple Amount : 0
Defringe Purple Hue Lo : 30
Defringe Purple Hue Hi : 70
Defringe Green Amount : 0
Defringe Green Hue Lo : 40
Defringe Green Hue Hi : 60
Convert To Grayscale : False
Tone Curve Name 2012 : Linear
Camera Profile : Embedded
Lens Profile Setup : LensDefaults
Has Settings : True
Crop Top : 0.144004
Crop Left : 0.14138
Crop Bottom : 0.699786
Crop Right : 1
Crop Angle : 0
Crop Constrain To Warp : 0
Crop Width : 4475
Crop Height : 1927
Crop Unit : pixels
Has Crop : True
Already Applied : True
Tone Curve PV2012 : 0, 0, 255, 255
Tone Curve PV2012 Red : 0, 0, 255, 255
Tone Curve PV2012 Green : 0, 0, 255, 255
Tone Curve PV2012 Blue : 0, 0, 255, 255
Image Width : 300
Image Height : 129
Bits Per Sample : 8
Color Components : 3
Image Size : 300x129
Megapixels : 0.039
Scale Factor To 35 mm Equivalent : 1.0
Shutter Speed : 1/180
Circle Of Confusion : 0.030 mm
Field Of View : 39.6 deg
Focal Length : 50.0 mm (35 mm equivalent: 50.0 mm)