Uber Exif Photo
Make : Leica Camera AG
Camera Model Name : M9 Digital Camera
Software : Adobe Photoshop Lightroom 4.3 (Macintosh)
Modify Date : 2013:01:26 08:59:01
Exposure Time : 1/30
Exposure Program : Aperture-priority AE
ISO : 200
Date/Time Original : 2013:01:25 20:36:01
Create Date : 2013:01:25 20:36:01
Shutter Speed Value : 1/30
Exposure Compensation : +0.332
Max Aperture Value : 1.4
Metering Mode : Center-weighted average
Light Source : Unknown
Flash : No Flash
Focal Length : 35.0 mm
Exposure Mode : Manual
White Balance : Auto
Digital Zoom Ratio : 0
Focal Length In 35mm Format : 35 mm
Scene Capture Type : Standard
Serial Number : 3839582
Creator Tool : Adobe Photoshop Lightroom 4.3 (Macintosh)
Date Created : 2013:01:25 20:36:01
Format : image/jpeg
Version : 7.3
Process Version : 6.7
Incremental Temperature : +59
Incremental Tint : -55
Sharpness : 150
Luminance Smoothing : 0
Color Noise Reduction : 0
Vignette Amount : 0
Shadow Tint : 0
Red Hue : -53
Red Saturation : +87
Green Hue : -8
Green Saturation : -74
Blue Hue : +1
Blue Saturation : +100
Gray Mixer Red : -5
Gray Mixer Orange : -13
Gray Mixer Yellow : -16
Gray Mixer Green : -23
Gray Mixer Aqua : -19
Gray Mixer Blue : +5
Gray Mixer Purple : +12
Gray Mixer Magenta : +5
Split Toning Shadow Hue : 0
Split Toning Shadow Saturation : 0
Split Toning Highlight Hue : 0
Split Toning Highlight Saturation : 0
Split Toning Balance : 0
Parametric Shadows : +5
Parametric Darks : +73
Parametric Lights : -9
Parametric Highlights : +82
Parametric Shadow Split : 25
Parametric Midtone Split : 50
Parametric Highlight Split : 75
Sharpen Radius : +0.5
Sharpen Detail : 0
Sharpen Edge Masking : 0
Post Crop Vignette Amount : 0
Grain Amount : 0
Lens Profile Enable : 0
Lens Manual Distortion Amount : 0
Perspective Vertical : 0
Perspective Horizontal : 0
Perspective Rotate : 0.0
Perspective Scale : 100
Auto Lateral CA : 0
Exposure 2012 : -1.05
Contrast 2012 : +9
Highlights 2012 : -83
Shadows 2012 : -71
Whites 2012 : -17
Blacks 2012 : +13
Clarity 2012 : +75
Convert To Grayscale : True
Tone Curve Name 2012 : Linear
Camera Profile : Embedded
Lens Profile Setup : LensDefaults
Has Settings : True
Crop Top : 0.188885
Crop Left : 0.025952
Crop Bottom : 0.689938
Crop Right : 0.582925
Crop Angle : 0
Crop Constrain To Warp : 0
Crop Width : 2903
Crop Height : 1738
Crop Unit : pixels
Has Crop : True
Already Applied : True
Tone Curve PV2012 : 0, 0, 255, 255
Tone Curve PV2012 Red : 0, 0, 255, 255
Tone Curve PV2012 Green : 0, 0, 255, 255
Tone Curve PV2012 Blue : 0, 0, 255, 255
Image Width : 300
Image Height : 180
Bits Per Sample : 8
Color Components : 1
Image Size : 300x180
Megapixels : 0.054
Scale Factor To 35 mm Equivalent : 1.0
Shutter Speed : 1/30
Circle Of Confusion : 0.030 mm
Field Of View : 54.4 deg
Focal Length : 35.0 mm (35 mm equivalent: 35.0 mm)