Uber Exif Photo
Make : Leica Camera AG
Camera Model Name : M9 Digital Camera
Software : QuickTime 7.6.6
Modify Date : 2010:06:14 12:54:28
Exposure Time : 1/8
Exposure Program : Aperture-priority AE
ISO : 160
Create Date : 2010:06:13 18:18:12
Shutter Speed Value : 1/8
Exposure Compensation : 0
Max Aperture Value : 1.0
Metering Mode : Center-weighted average
Light Source : Unknown
Profile Description : sRGB IEC61966-2.1
Date/Time Digitized : 2010:06:13 18:18:12+10:00
Exif Image Width : 1851
Exif Image Height : 2762
Creator Tool : Adobe Photoshop Lightroom
Version : 5.7
White Balance : Custom
Incremental Temperature : -6
Incremental Tint : 0
Exposure : +1.17
Shadows : 0
Brightness : +25
Contrast : -9
Saturation : +8
Sharpness : 50
Luminance Smoothing : 0
Color Noise Reduction : 0
Chromatic Aberration R : 0
Chromatic Aberration B : 0
Vignette Amount : -2
Vignette Midpoint : 50
Shadow Tint : 0
Red Hue : 0
Red Saturation : 0
Green Hue : 0
Green Saturation : 0
Blue Hue : 0
Blue Saturation : 0
Fill Light : 0
Vibrance : +54
Highlight Recovery : 23
Clarity : +54
Defringe : 0
Hue Adjustment Red : 0
Hue Adjustment Orange : 0
Hue Adjustment Yellow : 0
Hue Adjustment Green : 0
Hue Adjustment Aqua : 0
Hue Adjustment Blue : 0
Hue Adjustment Purple : 0
Hue Adjustment Magenta : 0
Saturation Adjustment Red : 0
Saturation Adjustment Orange : 0
Saturation Adjustment Yellow : 0
Saturation Adjustment Green : 0
Saturation Adjustment Aqua : 0
Saturation Adjustment Blue : 0
Saturation Adjustment Purple : 0
Saturation Adjustment Magenta : 0
Luminance Adjustment Red : 0
Luminance Adjustment Orange : 0
Luminance Adjustment Yellow : 0
Luminance Adjustment Green : 0
Luminance Adjustment Aqua : 0
Luminance Adjustment Blue : 0
Luminance Adjustment Purple : 0
Luminance Adjustment Magenta : 0
Split Toning Shadow Hue : 0
Split Toning Shadow Saturation : 0
Split Toning Highlight Hue : 0
Split Toning Highlight Saturation : 0
Split Toning Balance : 0
Parametric Shadows : 0
Parametric Darks : 0
Parametric Lights : 0
Parametric Highlights : 0
Parametric Shadow Split : 25
Parametric Midtone Split : 50
Parametric Highlight Split : 75
Sharpen Radius : +1.0
Sharpen Detail : 25
Sharpen Edge Masking : 0
Post Crop Vignette Amount : 0
Convert To Grayscale : False
Tone Curve Name : Linear
Camera Profile : Embedded
Has Settings : True
Crop Top : 0
Crop Left : 0.161633
Crop Bottom : 0.796319
Crop Right : 0.516735
Crop Angle : 0
Crop Width : 1851
Crop Height : 2762
Crop Unit : pixels
Has Crop : True
Already Applied : True
Flash Fired : False
Flash Return : No return detection
Flash Mode : Unknown
Flash Function : False
Flash Red Eye Mode : False
Tone Curve : 0, 0, 255, 255
Paint Correction What : Correction
Paint Correction Amount : 1.000000
Paint Correction Active : true
Paint Correction Exposure : 0.000000
Paint Correction Saturation : 0.000000
Paint Correction Contrast : 0.000000
Paint Correction Clarity : 0.500000
Paint Correction Sharpness : 0.000000
Paint Correction Brightness : 0.000000
Paint Correction Toning Hue : 230.000000
Paint Correction Toning Saturation : 0.000000
Paint Correction Mask What : Mask/Paint
Paint Correction Mask Value : 1.000000
Paint Correction Mask Radius : 0.057314
Paint Correction Mask Flow : 1.000000
Paint Correction Mask Center Weight : 0.043592
Image Width : 201
Image Height : 300
Bits Per Sample : 8
Color Components : 3
Image Size : 201x300
Megapixels : 0.060
Shutter Speed : 1/8
Flash : No Flash