Uber Exif Photo
Make : Leica Camera AG
Camera Model Name : M9 Digital Camera
Software : QuickTime 7.6.6
Modify Date : 2010:06:06 10:14:57
Exposure Time : 1/180
Exposure Program : Aperture-priority AE
ISO : 80
Create Date : 2010:06:06 07:36:34
Shutter Speed Value : 1/180
Exposure Compensation : 0
Max Aperture Value : 1.4
Metering Mode : Center-weighted average
Light Source : Unknown
Focal Length : 35.0 mm
Profile Description : sRGB IEC61966-2.1
Date/Time Digitized : 2010:06:06 07:36:34+10:00
Exif Image Width : 5212
Exif Image Height : 3468
Creator Tool : Adobe Photoshop Lightroom
Version : 5.7
White Balance : Auto
Incremental Temperature : +12
Incremental Tint : +25
Exposure : -0.58
Shadows : 26
Brightness : +20
Contrast : +12
Saturation : 0
Sharpness : 38
Luminance Smoothing : 27
Color Noise Reduction : 0
Chromatic Aberration R : 0
Chromatic Aberration B : 0
Vignette Amount : +29
Vignette Midpoint : 55
Shadow Tint : +4
Red Hue : +8
Red Saturation : 0
Green Hue : +6
Green Saturation : +17
Blue Hue : -2
Blue Saturation : -2
Fill Light : 19
Vibrance : +21
Highlight Recovery : 24
Clarity : +52
Defringe : 0
Hue Adjustment Red : 0
Hue Adjustment Orange : 0
Hue Adjustment Yellow : 0
Hue Adjustment Green : 0
Hue Adjustment Aqua : 0
Hue Adjustment Blue : 0
Hue Adjustment Purple : 0
Hue Adjustment Magenta : 0
Saturation Adjustment Red : 0
Saturation Adjustment Orange : 0
Saturation Adjustment Yellow : 0
Saturation Adjustment Green : 0
Saturation Adjustment Aqua : 0
Saturation Adjustment Blue : 0
Saturation Adjustment Purple : 0
Saturation Adjustment Magenta : 0
Luminance Adjustment Red : 0
Luminance Adjustment Orange : 0
Luminance Adjustment Yellow : 0
Luminance Adjustment Green : 0
Luminance Adjustment Aqua : 0
Luminance Adjustment Blue : 0
Luminance Adjustment Purple : 0
Luminance Adjustment Magenta : 0
Split Toning Shadow Hue : 0
Split Toning Shadow Saturation : 0
Split Toning Highlight Hue : 0
Split Toning Highlight Saturation : 0
Split Toning Balance : 0
Parametric Shadows : -15
Parametric Darks : -19
Parametric Lights : 0
Parametric Highlights : +38
Parametric Shadow Split : 25
Parametric Midtone Split : 50
Parametric Highlight Split : 75
Sharpen Radius : +1.8
Sharpen Detail : 17
Sharpen Edge Masking : 8
Post Crop Vignette Amount : -4
Post Crop Vignette Midpoint : 93
Post Crop Vignette Feather : 79
Post Crop Vignette Roundness : +38
Convert To Grayscale : False
Tone Curve Name : Linear
Camera Profile : Embedded
Has Settings : True
Has Crop : False
Already Applied : True
Flash Fired : False
Flash Return : No return detection
Flash Mode : Unknown
Flash Function : False
Flash Red Eye Mode : False
Tone Curve : 0, 0, 255, 255
Image Width : 300
Image Height : 200
Bits Per Sample : 8
Color Components : 3
Image Size : 300x200
Megapixels : 0.060
Shutter Speed : 1/180
Flash : No Flash