Uber Exif Photo
Make : Leica Camera AG
Camera Model Name : M8 Digital Camera
Software : 2.005
Modify Date : 2011:03:23 22:20:51
Exposure Time : 1/350
F Number : 8.0
Exposure Program : Aperture-priority AE
ISO : 160
Sensitivity Type : Unknown
Date/Time Original : 2011:03:20 15:48:29
Create Date : 2011:03:20 15:48:29
Shutter Speed Value : 1/350
Aperture Value : 8.0
Exposure Compensation : -0.664
Max Aperture Value : 1.0
Metering Mode : Center-weighted average
Light Source : Unknown
Scene Type : Directly photographed
White Balance : Manual
Digital Zoom Ratio : 0
Scene Capture Type : Standard
Serial Number : 3104624
Date/Time Digitized : 2011:03:20 15:48:29+01:00
Exif Image Width : 807
Exif Image Height : 1200
Creator Tool : Adobe Photoshop Lightroom 3.3
Version : 6.3
Process Version : 5.7
Color Temperature : 6286
Tint : +19
Exposure : 0.00
Shadows : 16
Brightness : +31
Contrast : +30
Sharpness : 51
Luminance Smoothing : 0
Color Noise Reduction : 19
Chromatic Aberration R : 0
Chromatic Aberration B : 0
Vignette Amount : -38
Vignette Midpoint : 50
Shadow Tint : 0
Red Hue : 0
Red Saturation : 0
Green Hue : 0
Green Saturation : 0
Blue Hue : 0
Blue Saturation : 0
Fill Light : 25
Highlight Recovery : 30
Clarity : +20
Defringe : 0
Gray Mixer Red : +8
Gray Mixer Orange : -32
Gray Mixer Yellow : +38
Gray Mixer Green : -9
Gray Mixer Aqua : -21
Gray Mixer Blue : -4
Gray Mixer Purple : +100
Gray Mixer Magenta : +81
Split Toning Shadow Hue : 0
Split Toning Shadow Saturation : 0
Split Toning Highlight Hue : 0
Split Toning Highlight Saturation : 0
Split Toning Balance : 0
Parametric Shadows : -5
Parametric Darks : -7
Parametric Lights : 0
Parametric Highlights : 0
Parametric Shadow Split : 25
Parametric Midtone Split : 50
Parametric Highlight Split : 75
Sharpen Radius : +1.4
Sharpen Detail : 27
Sharpen Edge Masking : 0
Post Crop Vignette Amount : -28
Post Crop Vignette Midpoint : 73
Post Crop Vignette Feather : 73
Post Crop Vignette Roundness : 0
Post Crop Vignette Style : Highlight Priority
Post Crop Vignette Highlight Contrast : 0
Grain Amount : 0
Color Noise Reduction Detail : 50
Lens Profile Enable : 0
Lens Manual Distortion Amount : 0
Perspective Vertical : 0
Perspective Horizontal : 0
Perspective Rotate : 0.0
Perspective Scale : 100
Convert To Grayscale : True
Tone Curve Name : Linear
Camera Profile : ACR 4.4
Lens Profile Setup : LensDefaults
Has Settings : True
Has Crop : False
Already Applied : True
Flash Fired : False
Flash Return : No return detection
Flash Mode : Auto
Flash Function : False
Flash Red Eye Mode : False
Tone Curve : 0, 0, 255, 255
Paint Correction What : Correction
Paint Correction Amount : 1.000000
Paint Correction Active : true
Paint Correction Exposure : 0.477477
Paint Correction Saturation : -0.315315
Paint Correction Contrast : 1.000000
Paint Correction Clarity : 0.495495
Paint Correction Sharpness : 0.747748
Paint Correction Brightness : 0.045045
Paint Correction Toning Hue : 240.000000
Paint Correction Toning Saturation : 0.000000
Paint Correction Mask What : Mask/Paint
Paint Correction Mask Value : 1.000000
Paint Correction Mask Radius : 0.022427
Paint Correction Mask Flow : 1.000000
Paint Correction Mask Center Weight : 0.000000
Image Width : 202
Image Height : 300
Bits Per Sample : 8
Color Components : 1
Aperture : 8.0
Image Size : 202x300
Megapixels : 0.061
Scale Factor To 35 mm Equivalent : 4.4
Shutter Speed : 1/350
Flash : Auto, Did not fire
Circle Of Confusion : 0.007 mm
Light Value : 13.8