Uber Exif Photo
Make : Leica Camera AG
Camera Model Name : M8 Digital Camera
Software : 2.005
Modify Date : 2011:03:14 23:21:45
Exposure Time : 1/45
F Number : 1.7
Exposure Program : Aperture-priority AE
ISO : 320
Sensitivity Type : Unknown
Date/Time Original : 2010:10:20 22:38:04
Create Date : 2010:10:20 22:38:04
Shutter Speed Value : 1/45
Aperture Value : 1.7
Exposure Compensation : 0
Max Aperture Value : 1.0
Metering Mode : Center-weighted average
Light Source : Unknown
Scene Type : Directly photographed
White Balance : Auto
Digital Zoom Ratio : 0
Scene Capture Type : Standard
Serial Number : 3104624
Profile Description : Adobe RGB (1998)
Date/Time Digitized : 2010:10:20 22:38:04+02:00
Exif Image Width : 1200
Exif Image Height : 807
Creator Tool : Adobe Photoshop Lightroom 3.3
Version : 6.3
Process Version : 5.7
Color Temperature : 4600
Tint : +46
Exposure : -0.70
Shadows : 4
Brightness : +30
Contrast : +20
Saturation : -5
Sharpness : 30
Luminance Smoothing : 0
Color Noise Reduction : 20
Chromatic Aberration R : 0
Chromatic Aberration B : 0
Vignette Amount : 0
Shadow Tint : 0
Red Hue : 0
Red Saturation : 0
Green Hue : 0
Green Saturation : 0
Blue Hue : 0
Blue Saturation : 0
Fill Light : 40
Vibrance : -61
Highlight Recovery : 0
Clarity : +10
Defringe : 0
Hue Adjustment Red : 0
Hue Adjustment Orange : 0
Hue Adjustment Yellow : 0
Hue Adjustment Green : 0
Hue Adjustment Aqua : 0
Hue Adjustment Blue : 0
Hue Adjustment Purple : 0
Hue Adjustment Magenta : 0
Saturation Adjustment Red : -23
Saturation Adjustment Orange : -40
Saturation Adjustment Yellow : -100
Saturation Adjustment Green : -32
Saturation Adjustment Aqua : -70
Saturation Adjustment Blue : -100
Saturation Adjustment Purple : -62
Saturation Adjustment Magenta : -100
Luminance Adjustment Red : 0
Luminance Adjustment Orange : 0
Luminance Adjustment Yellow : 0
Luminance Adjustment Green : +21
Luminance Adjustment Aqua : 0
Luminance Adjustment Blue : 0
Luminance Adjustment Purple : 0
Luminance Adjustment Magenta : 0
Split Toning Shadow Hue : 37
Split Toning Shadow Saturation : 22
Split Toning Highlight Hue : 39
Split Toning Highlight Saturation : 9
Split Toning Balance : +11
Parametric Shadows : -43
Parametric Darks : 0
Parametric Lights : +30
Parametric Highlights : +12
Parametric Shadow Split : 25
Parametric Midtone Split : 50
Parametric Highlight Split : 75
Sharpen Radius : +0.8
Sharpen Detail : 30
Sharpen Edge Masking : 0
Post Crop Vignette Amount : -1
Post Crop Vignette Midpoint : 52
Post Crop Vignette Feather : 61
Post Crop Vignette Roundness : -52
Post Crop Vignette Style : Highlight Priority
Post Crop Vignette Highlight Contrast : 0
Grain Amount : 0
Color Noise Reduction Detail : 50
Lens Profile Enable : 0
Lens Manual Distortion Amount : 0
Perspective Vertical : 0
Perspective Horizontal : 0
Perspective Rotate : 0.0
Perspective Scale : 100
Convert To Grayscale : False
Tone Curve Name : Medium Contrast
Camera Profile : Adobe Standard
Lens Profile Setup : LensDefaults
Has Settings : True
Has Crop : False
Already Applied : True
Flash Fired : False
Flash Return : No return detection
Flash Mode : Auto
Flash Function : False
Flash Red Eye Mode : False
Tone Curve : 0, 0, 32, 22, 64, 56, 128, 128, 192, 196, 255, 255
Image Width : 300
Image Height : 202
Bits Per Sample : 8
Color Components : 3
Aperture : 1.7
Image Size : 300x202
Megapixels : 0.061
Scale Factor To 35 mm Equivalent : 4.4
Shutter Speed : 1/45
Flash : Auto, Did not fire
Circle Of Confusion : 0.007 mm
Light Value : 5.3