Uber Exif Photo
Make : Leica Camera AG
Camera Model Name : M8 Digital Camera
Software : 2.005
Modify Date : 2011:03:07 23:30:16
Exposure Time : 1/350
F Number : 9.5
Exposure Program : Aperture-priority AE
ISO : 160
Sensitivity Type : Unknown
Date/Time Original : 2011:03:06 12:36:43
Create Date : 2011:03:06 12:36:43
Shutter Speed Value : 1/350
Aperture Value : 9.5
Exposure Compensation : -0.664
Max Aperture Value : 1.0
Metering Mode : Center-weighted average
Light Source : Unknown
Scene Type : Directly photographed
White Balance : Manual
Digital Zoom Ratio : 0
Scene Capture Type : Standard
Serial Number : 3104624
Date/Time Digitized : 2011:03:06 12:36:43+01:00
Exif Image Width : 1200
Exif Image Height : 807
Creator Tool : Adobe Photoshop Lightroom 3.3
Version : 6.3
Process Version : 5.7
Color Temperature : 5650
Tint : +3
Exposure : -0.25
Shadows : 2
Brightness : +50
Contrast : +25
Sharpness : 51
Luminance Smoothing : 0
Color Noise Reduction : 15
Chromatic Aberration R : 0
Chromatic Aberration B : 0
Vignette Amount : -100
Vignette Midpoint : 65
Shadow Tint : 0
Red Hue : 0
Red Saturation : 0
Green Hue : 0
Green Saturation : 0
Blue Hue : 0
Blue Saturation : 0
Fill Light : 0
Highlight Recovery : 0
Clarity : +20
Defringe : 0
Gray Mixer Red : +100
Gray Mixer Orange : +100
Gray Mixer Yellow : -24
Gray Mixer Green : -27
Gray Mixer Aqua : -11
Gray Mixer Blue : -62
Gray Mixer Purple : +17
Gray Mixer Magenta : +3
Split Toning Shadow Hue : 0
Split Toning Shadow Saturation : 0
Split Toning Highlight Hue : 0
Split Toning Highlight Saturation : 0
Split Toning Balance : 0
Parametric Shadows : +9
Parametric Darks : -9
Parametric Lights : +6
Parametric Highlights : 0
Parametric Shadow Split : 25
Parametric Midtone Split : 50
Parametric Highlight Split : 75
Sharpen Radius : +1.4
Sharpen Detail : 27
Sharpen Edge Masking : 0
Post Crop Vignette Amount : -1
Post Crop Vignette Midpoint : 52
Post Crop Vignette Feather : 61
Post Crop Vignette Roundness : -52
Post Crop Vignette Style : Highlight Priority
Post Crop Vignette Highlight Contrast : 0
Grain Amount : 0
Color Noise Reduction Detail : 50
Lens Profile Enable : 0
Lens Manual Distortion Amount : 0
Perspective Vertical : 0
Perspective Horizontal : 0
Perspective Rotate : 0.0
Perspective Scale : 100
Convert To Grayscale : True
Tone Curve Name : Medium Contrast
Camera Profile : Adobe Standard
Lens Profile Setup : LensDefaults
Has Settings : True
Has Crop : False
Already Applied : True
Flash Fired : False
Flash Return : No return detection
Flash Mode : Auto
Flash Function : False
Flash Red Eye Mode : False
Tone Curve : 0, 0, 32, 22, 64, 56, 128, 128, 192, 196, 255, 255
Image Width : 300
Image Height : 202
Bits Per Sample : 8
Color Components : 1
Aperture : 9.5
Image Size : 300x202
Megapixels : 0.061
Scale Factor To 35 mm Equivalent : 4.4
Shutter Speed : 1/350
Flash : Auto, Did not fire
Circle Of Confusion : 0.007 mm
Light Value : 14.3