Uber Exif Photo
By-line : Alfonso de Castro
Copyright Notice : Alfonso de Castro
Copyright Flag : True
Make : Leica Camera AG
Camera Model Name : M9 Digital Camera
Software : Adobe Photoshop Lightroom 3.5 (Macintosh)
Modify Date : 2012:02:12 00:08:05
Artist : Alfonso de Castro
Copyright : Alfonso de Castro
Exposure Time : 1/15
F Number : 2.8
Exposure Program : Manual
ISO : 1600
Date/Time Original : 2012:02:10 19:32:14
Create Date : 2012:02:10 19:32:14
Shutter Speed Value : 1/15
Aperture Value : 2.8
Exposure Compensation : 0
Max Aperture Value : 2.8
Metering Mode : Center-weighted average
Light Source : Unknown
Flash : No Flash
Focal Length : 28.0 mm
Contrast : Normal
Sharpening : Normal
Saturation : Black & White
White Balance : Auto
JPEG Quality : Fine
WB RGB Levels : 0.4265222711 1 0.7160839161
User Profile : BW 1600
JPEG Size : 5216x3472
Firmware Version : 1.174
Base ISO : 160
Sensor Width : 5270
Sensor Height : 3516
Sensor Bit Depth : 14
Camera Temperature : 18 C
Lens Type : Elmarit-M 28mm f/2.8 (III)
Approximate F Number : 3.0
Measured LV : 0.54
External Sensor Brightness Value : -1.50
Scene Type : Directly photographed
Exposure Mode : Manual
Digital Zoom Ratio : 0
Focal Length In 35mm Format : 28 mm
Scene Capture Type : Standard
Serial Number : 3974575
Lens Model : Leica Elmarit-M 28mm f/2.8 (III)
Maker Note Safety : Safe
Profile Description : sRGB IEC61966-2.1
Creator Tool : Adobe Photoshop Lightroom 3.5 (Macintosh)
Rating : 3
Lens : Leica Elmarit-M 28mm f/2.8 (III)
Date Created : 2012:02:10 19:32:14
Marked : True
Version : 6.5
Process Version : 5.7
Color Temperature : 6583
Tint : +9
Exposure : 0.00
Shadows : 47
Brightness : +50
Sharpness : 25
Luminance Smoothing : 0
Color Noise Reduction : 25
Chromatic Aberration R : 0
Chromatic Aberration B : 0
Vignette Amount : 0
Shadow Tint : 0
Red Hue : 0
Red Saturation : 0
Green Hue : 0
Green Saturation : 0
Blue Hue : 0
Blue Saturation : 0
Fill Light : 30
Vibrance : +49
Highlight Recovery : 53
Clarity : +63
Defringe : 0
Hue Adjustment Red : 0
Hue Adjustment Orange : 0
Hue Adjustment Yellow : 0
Hue Adjustment Green : 0
Hue Adjustment Aqua : 0
Hue Adjustment Blue : 0
Hue Adjustment Purple : 0
Hue Adjustment Magenta : 0
Saturation Adjustment Red : 0
Saturation Adjustment Orange : 0
Saturation Adjustment Yellow : 0
Saturation Adjustment Green : 0
Saturation Adjustment Aqua : 0
Saturation Adjustment Blue : 0
Saturation Adjustment Purple : 0
Saturation Adjustment Magenta : 0
Luminance Adjustment Red : 0
Luminance Adjustment Orange : 0
Luminance Adjustment Yellow : 0
Luminance Adjustment Green : -4
Luminance Adjustment Aqua : 0
Luminance Adjustment Blue : +7
Luminance Adjustment Purple : 0
Luminance Adjustment Magenta : 0
Split Toning Shadow Hue : 0
Split Toning Shadow Saturation : 0
Split Toning Highlight Hue : 0
Split Toning Highlight Saturation : 0
Split Toning Balance : 0
Parametric Shadows : +19
Parametric Darks : -15
Parametric Lights : -65
Parametric Highlights : -10
Parametric Shadow Split : 25
Parametric Midtone Split : 50
Parametric Highlight Split : 75
Sharpen Radius : +1.0
Sharpen Detail : 25
Sharpen Edge Masking : 0
Post Crop Vignette Amount : 0
Grain Amount : 0
Color Noise Reduction Detail : 50
Lens Profile Enable : 0
Lens Manual Distortion Amount : 0
Perspective Vertical : 0
Perspective Horizontal : 0
Perspective Rotate : 0.0
Perspective Scale : 100
Convert To Grayscale : False
Tone Curve Name : Medium Contrast
Camera Profile : Adobe Standard
Lens Profile Setup : LensDefaults
Has Settings : True
Has Crop : False
Already Applied : True
Creator City : Pedrola
Creator Address : Terrero Alto 21
Creator Region : Zaragoza
Creator : Alfonso de Castro
Rights : Alfonso de Castro
Tone Curve : 0, 0, 32, 22, 64, 56, 128, 128, 192, 196, 255, 255
Image Width : 400
Image Height : 266
Bits Per Sample : 8
Color Components : 1
Aperture : 2.8
Blue Balance : 0.716084
Image Size : 400x266
Lens ID : Leica Elmarit-M 28mm f/2.8 (III)
Megapixels : 0.106
Red Balance : 0.426522
Scale Factor To 35 mm Equivalent : 1.0
Shutter Speed : 1/15
Circle Of Confusion : 0.030 mm
Field Of View : 65.5 deg
Focal Length : 28.0 mm (35 mm equivalent: 28.0 mm)
Hyperfocal Distance : 9.32 m
Light Value : 2.9