Uber Exif Photo
Object Name : JŠrvenpŠŠ
Keywords : blip, jarvenpaa
By-line : Peetu Santalahti
Copyright Notice : Peetu Santalahti
Copyright Flag : True
Make : LEICA CAMERA AG
Camera Model Name : LEICA X1
Software : 1.0
Modify Date : 2011:03:15 19:03:43
Copyright : Peetu Santalahti
Exposure Time : 1/500
F Number : 8.0
Exposure Program : Aperture-priority AE
ISO : 100
Date/Time Original : 2011:03:15 14:26:59
Create Date : 2011:03:15 14:26:59
Shutter Speed Value : 1/500
Aperture Value : 8.0
Exposure Compensation : 0
Max Aperture Value : 2.8
Subject Distance : 5.5 m
Metering Mode : Multi-segment
Light Source : Unknown
Focal Length : 24.0 mm
Original File Name : L9994738.DNG
Original Directory : 999LEICA
Focus Distance : 5.5 m
Exposure Mode : Aperture-priority AE (1)
File Index : 4738
Film Mode : Standard
WB RGB Levels : 0.570155902 1 0.6826666667
Internal Serial Number : 000000000000
Sensing Method : One-chip color area
Custom Rendered : Normal
White Balance : Auto
Digital Zoom Ratio : 1
Focal Length In 35mm Format : 35 mm
Scene Capture Type : Landscape
Contrast : Normal
Saturation : Normal
Sharpness : Normal
Maker Note Safety : Safe
Profile Description : sRGB IEC61966-2.1
Date/Time Digitized : 2011:03:15 14:26:59+02:00
Exif Image Width : 802
Exif Image Height : 1200
Creator Tool : Adobe Photoshop Lightroom
Serial Number : 000003812768
Lens Info : 24mm f/2.8
Lens : 24.0 mm f/2.8
Marked : True
Version : 5.7
Color Temperature : 6700
Tint : +13
Exposure : 0.00
Shadows : 16
Brightness : +50
Luminance Smoothing : 0
Color Noise Reduction : 25
Chromatic Aberration R : 0
Chromatic Aberration B : 0
Vignette Amount : 0
Shadow Tint : 0
Red Hue : 0
Red Saturation : 0
Green Hue : 0
Green Saturation : 0
Blue Hue : 0
Blue Saturation : 0
Fill Light : 0
Vibrance : 0
Highlight Recovery : 10
Clarity : 0
Defringe : 0
Hue Adjustment Red : 0
Hue Adjustment Orange : 0
Hue Adjustment Yellow : 0
Hue Adjustment Green : 0
Hue Adjustment Aqua : 0
Hue Adjustment Blue : 0
Hue Adjustment Purple : 0
Hue Adjustment Magenta : 0
Saturation Adjustment Red : 0
Saturation Adjustment Orange : 0
Saturation Adjustment Yellow : 0
Saturation Adjustment Green : 0
Saturation Adjustment Aqua : 0
Saturation Adjustment Blue : 0
Saturation Adjustment Purple : 0
Saturation Adjustment Magenta : 0
Luminance Adjustment Red : 0
Luminance Adjustment Orange : 0
Luminance Adjustment Yellow : 0
Luminance Adjustment Green : 0
Luminance Adjustment Aqua : 0
Luminance Adjustment Blue : 0
Luminance Adjustment Purple : 0
Luminance Adjustment Magenta : 0
Split Toning Shadow Hue : 0
Split Toning Shadow Saturation : 0
Split Toning Highlight Hue : 0
Split Toning Highlight Saturation : 0
Split Toning Balance : 0
Parametric Shadows : -100
Parametric Darks : 0
Parametric Lights : 0
Parametric Highlights : +64
Parametric Shadow Split : 25
Parametric Midtone Split : 50
Parametric Highlight Split : 75
Sharpen Radius : +1.0
Sharpen Detail : 25
Sharpen Edge Masking : 0
Post Crop Vignette Amount : 0
Convert To Grayscale : False
Tone Curve Name : Medium Contrast
Camera Profile : Adobe Standard
Has Settings : True
Crop Top : 0.009898
Crop Left : 0.030211
Crop Bottom : 0.973676
Crop Right : 0.968956
Crop Angle : 0.7
Crop Width : 1200
Crop Height : 802
Crop Unit : pixels
Has Crop : True
Already Applied : True
Flash Fired : False
Flash Return : No return detection
Flash Mode : Off
Flash Function : False
Flash Red Eye Mode : False
Creator : Peetu Santalahti
Title : Järvenpää
Rights : Peetu Santalahti
Subject : blip, jarvenpaa
Tone Curve : 0, 0, 32, 22, 64, 56, 128, 128, 192, 196, 255, 255
Image Width : 201
Image Height : 300
Bits Per Sample : 8
Color Components : 3
Aperture : 8.0
Blue Balance : 0.682667
Image Size : 201x300
Megapixels : 0.060
Red Balance : 0.570156
Scale Factor To 35 mm Equivalent : 1.5
Shutter Speed : 1/500
Flash : Off, Did not fire
Circle Of Confusion : 0.021 mm
Depth Of Field : inf (2.14 m - inf)
Field Of View : 54.2 deg (5.63 m)
Focal Length : 24.0 mm (35 mm equivalent: 35.0 mm)
Hyperfocal Distance : 3.49 m
Light Value : 15.0
Lens ID : 24.0mm f/2.8