Uber Exif Photo
Keywords : blip, hakaniemi market square
By-line : Peetu Santalahti
Copyright Notice : Peetu Santalahti
Copyright Flag : True
Make : LEICA CAMERA AG
Camera Model Name : LEICA X1
Software : 1.0
Modify Date : 2011:01:13 20:51:39
Copyright : Peetu Santalahti
Exposure Time : 1/30
F Number : 2.8
Exposure Program : Aperture-priority AE
ISO : 100
Date/Time Original : 2011:01:13 11:36:54
Create Date : 2011:01:13 11:36:54
Shutter Speed Value : 1/30
Aperture Value : 2.8
Exposure Compensation : 0
Max Aperture Value : 2.8
Subject Distance : 10 m
Metering Mode : Multi-segment
Light Source : Unknown
Focal Length : 24.0 mm
Original File Name : L9994330.DNG
Original Directory : 999LEICA
Focus Distance : 10 m
Exposure Mode : Aperture-priority AE (1)
File Index : 4330
Film Mode : Standard
WB RGB Levels : 0.6564102564 1 0.5089463221
Internal Serial Number : 000000000000
Sensing Method : One-chip color area
Custom Rendered : Normal
White Balance : Auto
Digital Zoom Ratio : 1
Focal Length In 35mm Format : 35 mm
Scene Capture Type : Landscape
Contrast : Normal
Saturation : Normal
Sharpness : Normal
Maker Note Safety : Safe
Date/Time Digitized : 2011:01:13 11:36:54+02:00
Exif Image Width : 1200
Exif Image Height : 802
Creator Tool : Adobe Photoshop Lightroom
Serial Number : 000003812768
Lens Info : 24mm f/2.8
Lens : 24.0 mm f/2.8
Marked : True
Version : 5.6.1
Color Temperature : 3700
Tint : +18
Exposure : 0.00
Shadows : 5
Brightness : +50
Luminance Smoothing : 0
Color Noise Reduction : 25
Chromatic Aberration R : 0
Chromatic Aberration B : 0
Vignette Amount : 0
Shadow Tint : 0
Red Hue : 0
Red Saturation : 0
Green Hue : 0
Green Saturation : 0
Blue Hue : 0
Blue Saturation : 0
Fill Light : 0
Highlight Recovery : 0
Clarity : 0
Defringe : 0
Gray Mixer Red : -8
Gray Mixer Orange : -17
Gray Mixer Yellow : -21
Gray Mixer Green : -26
Gray Mixer Aqua : -19
Gray Mixer Blue : +8
Gray Mixer Purple : +16
Gray Mixer Magenta : +5
Split Toning Shadow Hue : 0
Split Toning Shadow Saturation : 0
Split Toning Highlight Hue : 0
Split Toning Highlight Saturation : 0
Split Toning Balance : 0
Parametric Shadows : -65
Parametric Darks : 0
Parametric Lights : 0
Parametric Highlights : +75
Parametric Shadow Split : 25
Parametric Midtone Split : 50
Parametric Highlight Split : 75
Sharpen Radius : +1.0
Sharpen Detail : 25
Sharpen Edge Masking : 0
Post Crop Vignette Amount : 0
Convert To Grayscale : True
Tone Curve Name : Medium Contrast
Camera Profile : Adobe Standard
Has Settings : True
Crop Top : 0.03742
Crop Left : 0.013901
Crop Bottom : 0.96258
Crop Right : 0.986099
Crop Angle : -1.3
Crop Width : 1200
Crop Height : 802
Crop Unit : pixels
Has Crop : True
Already Applied : True
Flash Fired : False
Flash Return : No return detection
Flash Mode : Off
Flash Function : False
Flash Red Eye Mode : False
Creator : Peetu Santalahti
Rights : Peetu Santalahti
Subject : blip, hakaniemi market square
Tone Curve : 0, 0, 32, 22, 64, 56, 128, 128, 192, 196, 255, 255
Image Width : 300
Image Height : 201
Bits Per Sample : 8
Color Components : 1
Aperture : 2.8
Blue Balance : 0.508946
Image Size : 300x201
Megapixels : 0.060
Red Balance : 0.65641
Scale Factor To 35 mm Equivalent : 1.5
Shutter Speed : 1/30
Flash : Off, Did not fire
Circle Of Confusion : 0.021 mm
Depth Of Field : 11600.24 m (5.00 - 11605.24 m)
Field Of View : 54.3 deg (10.26 m)
Focal Length : 24.0 mm (35 mm equivalent: 35.0 mm)
Hyperfocal Distance : 9.98 m
Light Value : 7.9
Lens ID : 24.0mm f/2.8