Uber Exif Photo
Make : Leica Camera AG
Camera Model Name : M9 Digital Camera
Software : Adobe Photoshop Lightroom 3.4.1
Modify Date : 2011:05:28 21:34:28
Exposure Time : 1/4000
F Number : 2.0
Exposure Program : Aperture-priority AE
ISO : 160
Date/Time Original : 2011:05:26 09:09:57
Create Date : 2011:05:26 09:09:57
Shutter Speed Value : 1/4000
Aperture Value : 2.0
Exposure Compensation : 0
Max Aperture Value : 1.4
Metering Mode : Center-weighted average
Light Source : Unknown
Flash : No Flash
Focal Length : 35.0 mm
Contrast : Normal
Sharpening : Normal
Saturation : Normal
White Balance : Auto
JPEG Quality : Fine
WB RGB Levels : 0.4602117918 1 0.769057454
User Profile : Profile 1
JPEG Size : 5216x3472
Serial Number : 3973942
Firmware Version : 1.138
Base ISO : 160
Sensor Width : 5270
Sensor Height : 3516
Sensor Bit Depth : 14
Camera Temperature : 30 C
Lens Type : Summilux-M 35mm f/1.4 ASPH.
Approximate F Number : 2.0
Measured LV : 7.49
External Sensor Brightness Value : 5.68
Color Space : Uncalibrated
Scene Type : Directly photographed
Exposure Mode : Manual
Digital Zoom Ratio : 0
Focal Length In 35mm Format : 35 mm
Scene Capture Type : Standard
Maker Note Safety : Safe
Profile Description : sRGB IEC61966-2.1
Lens : Leica Summilux-M 35mm f/1.4 ASPH.
Sharpness : Hard
Date Created : 2011:05:26 09:09:57
Creator Tool : Adobe Photoshop Lightroom 3.4.1
Already Applied : True
Blue Hue : 0
Blue Saturation : 0
Brightness : +25
Camera Profile : Adobe Standard
Chromatic Aberration B : 0
Chromatic Aberration R : 0
Clarity : +28
Color Noise Reduction : 62
Convert To Grayscale : False
Defringe : 0
Exposure : +0.50
Fill Light : 45
Green Hue : 0
Green Saturation : 0
Has Crop : False
Has Settings : True
Highlight Recovery : 39
Hue Adjustment Aqua : 0
Hue Adjustment Blue : 0
Hue Adjustment Green : 0
Hue Adjustment Magenta : 0
Hue Adjustment Orange : 0
Hue Adjustment Purple : 0
Hue Adjustment Red : 0
Hue Adjustment Yellow : 0
Luminance Adjustment Aqua : 0
Luminance Adjustment Blue : 0
Luminance Adjustment Green : 0
Luminance Adjustment Magenta : 0
Luminance Adjustment Orange : 0
Luminance Adjustment Purple : 0
Luminance Adjustment Red : 0
Luminance Adjustment Yellow : 0
Luminance Smoothing : 23
Parametric Darks : +31
Parametric Highlight Split : 75
Parametric Highlights : +66
Parametric Lights : +13
Parametric Midtone Split : 50
Parametric Shadow Split : 25
Parametric Shadows : -66
Post Crop Vignette Amount : -38
Post Crop Vignette Feather : 50
Post Crop Vignette Midpoint : 46
Post Crop Vignette Roundness : 0
Red Hue : 0
Red Saturation : 0
Saturation Adjustment Aqua : +39
Saturation Adjustment Blue : +39
Saturation Adjustment Green : 0
Saturation Adjustment Magenta : 0
Saturation Adjustment Orange : +25
Saturation Adjustment Purple : 0
Saturation Adjustment Red : 0
Saturation Adjustment Yellow : +20
Shadow Tint : 0
Shadows : 6
Sharpen Detail : 100
Sharpen Edge Masking : 77
Sharpen Radius : +1.2
Split Toning Balance : +52
Split Toning Highlight Hue : 40
Split Toning Highlight Saturation : 11
Split Toning Shadow Hue : 166
Split Toning Shadow Saturation : 6
Color Temperature : 5218
Tint : +2
Tone Curve : 0, 0, 255, 255
Tone Curve Name : Linear
Version : 6.4.1
Vibrance : -3
Vignette Amount : 0
Image Width : 300
Image Height : 201
Bits Per Sample : 8
Color Components : 3
Aperture : 2.0
Blue Balance : 0.769057
Image Size : 300x201
Lens ID : Summilux-M 35mm f/1.4 ASPH.
Megapixels : 0.060
Red Balance : 0.460212
Scale Factor To 35 mm Equivalent : 1.0
Shutter Speed : 1/4000
Circle Of Confusion : 0.030 mm
Field Of View : 54.4 deg
Focal Length : 35.0 mm (35 mm equivalent: 35.0 mm)
Hyperfocal Distance : 20.39 m
Light Value : 13.3