Uber Exif Photo
Make : Leica Camera AG
Camera Model Name : M9 Digital Camera
Software : Adobe Photoshop Lightroom 3.4
Modify Date : 2011:05:22 20:44:24
Exposure Time : 1/90
F Number : 2.8
Exposure Program : Aperture-priority AE
ISO : 320
Date/Time Original : 2011:05:22 19:17:36
Create Date : 2011:05:22 19:17:36
Shutter Speed Value : 1/90
Aperture Value : 2.8
Exposure Compensation : 0
Max Aperture Value : 1.4
Metering Mode : Center-weighted average
Light Source : Unknown
Flash : No Flash
Focal Length : 35.0 mm
Contrast : Normal
Sharpening : Normal
Saturation : Normal
White Balance : Auto
JPEG Quality : Fine
WB RGB Levels : 0.4858405243 1 0.8945672946
User Profile : Profile 1
JPEG Size : 5216x3472
Serial Number : 3973942
Firmware Version : 1.138
Base ISO : 160
Sensor Width : 5270
Sensor Height : 3516
Sensor Bit Depth : 14
Camera Temperature : 28 C
Lens Type : Summilux-M 35mm f/1.4 ASPH.
Approximate F Number : 3.0
Measured LV : 3.09
External Sensor Brightness Value : 1.88
Color Space : Uncalibrated
Scene Type : Directly photographed
Exposure Mode : Manual
Digital Zoom Ratio : 0
Focal Length In 35mm Format : 35 mm
Scene Capture Type : Standard
Maker Note Safety : Safe
Profile Description : sRGB IEC61966-2.1
Lens : Leica Summilux-M 35mm f/1.4 ASPH.
Sharpness : Hard
Date Created : 2011:05:22 19:17:36
Creator Tool : Adobe Photoshop Lightroom 3.4
Already Applied : True
Blue Hue : 0
Blue Saturation : 0
Brightness : +5
Camera Profile : Adobe Standard
Chromatic Aberration B : 0
Chromatic Aberration R : 0
Clarity : +24
Color Noise Reduction : 32
Convert To Grayscale : False
Crop Angle : 0.9
Crop Bottom : 0.929961
Crop Height : 798
Crop Left : 0.163274
Crop Right : 0.9504
Crop Top : 0.115741
Crop Unit : pixels
Crop Width : 1200
Defringe : 0
Exposure : +0.16
Fill Light : 25
Green Hue : 0
Green Saturation : 0
Has Crop : True
Has Settings : True
Highlight Recovery : 15
Hue Adjustment Aqua : 0
Hue Adjustment Blue : 0
Hue Adjustment Green : 0
Hue Adjustment Magenta : 0
Hue Adjustment Orange : 0
Hue Adjustment Purple : 0
Hue Adjustment Red : 0
Hue Adjustment Yellow : 0
Luminance Adjustment Aqua : 0
Luminance Adjustment Blue : 0
Luminance Adjustment Green : 0
Luminance Adjustment Magenta : 0
Luminance Adjustment Orange : 0
Luminance Adjustment Purple : 0
Luminance Adjustment Red : 0
Luminance Adjustment Yellow : 0
Luminance Smoothing : 18
Parametric Darks : +30
Parametric Highlight Split : 75
Parametric Highlights : +15
Parametric Lights : +10
Parametric Midtone Split : 50
Parametric Shadow Split : 25
Parametric Shadows : -15
Post Crop Vignette Amount : -9
Post Crop Vignette Feather : 50
Post Crop Vignette Midpoint : 46
Post Crop Vignette Roundness : 0
Red Hue : 0
Red Saturation : 0
Saturation Adjustment Aqua : 0
Saturation Adjustment Blue : 0
Saturation Adjustment Green : 0
Saturation Adjustment Magenta : 0
Saturation Adjustment Orange : 0
Saturation Adjustment Purple : 0
Saturation Adjustment Red : 0
Saturation Adjustment Yellow : 0
Shadow Tint : 0
Shadows : 5
Sharpen Detail : 98
Sharpen Edge Masking : 10
Sharpen Radius : +0.6
Split Toning Balance : 0
Split Toning Highlight Hue : 0
Split Toning Highlight Saturation : 0
Split Toning Shadow Hue : 0
Split Toning Shadow Saturation : 0
Color Temperature : 5900
Tint : -38
Tone Curve : 0, 0, 32, 22, 64, 56, 128, 128, 192, 196, 255, 255
Tone Curve Name : Medium Contrast
Version : 6.4
Vibrance : +2
Vignette Amount : 0
Image Width : 300
Image Height : 201
Bits Per Sample : 8
Color Components : 3
Aperture : 2.8
Blue Balance : 0.894567
Image Size : 300x201
Lens ID : Summilux-M 35mm f/1.4 ASPH.
Megapixels : 0.060
Red Balance : 0.485841
Scale Factor To 35 mm Equivalent : 1.0
Shutter Speed : 1/90
Circle Of Confusion : 0.030 mm
Field Of View : 54.4 deg
Focal Length : 35.0 mm (35 mm equivalent: 35.0 mm)
Hyperfocal Distance : 14.56 m
Light Value : 7.8