Uber Exif Photo
Make : Leica Camera AG
Camera Model Name : M9 Digital Camera
Software : 1.138
Modify Date : 2011:02:24 23:15:52
Exposure Time : 1/750
F Number : 4.8
Exposure Program : Aperture-priority AE
ISO : 160
Date/Time Original : 2011:02:13 04:44:25
Create Date : 2011:02:13 04:44:25
Shutter Speed Value : 1/750
Aperture Value : 4.8
Exposure Compensation : +0.664
Max Aperture Value : 2.0
Metering Mode : Center-weighted average
Light Source : Unknown
Focal Length : 90.0 mm
Contrast : Normal
Sharpening : Normal
Saturation : Normal
White Balance : Auto
JPEG Quality : Fine
WB RGB Levels : 0.4272563695 1 0.7583078774
User Profile : Profile 1
JPEG Size : 5216x3472
Serial Number : 3973942
Firmware Version : 1.138
Base ISO : 160
Sensor Width : 5270
Sensor Height : 3516
Sensor Bit Depth : 14
Camera Temperature : 29 C
Lens Type : Apo-Summicron-M 90mm f/2 ASPH.
Approximate F Number : 4.5
Measured LV : 6.11
External Sensor Brightness Value : 5.87
Color Space : Uncalibrated
Scene Type : Directly photographed
Exposure Mode : Manual
Digital Zoom Ratio : 0
Focal Length In 35mm Format : 90 mm
Scene Capture Type : Standard
Maker Note Safety : Safe
Profile Description : sRGB IEC61966-2.1
Lens : Leica Apo-Summicron-M 90mm f/2 ASPH.
Date/Time Digitized : 2011:02:13 04:44:25+08:00
Flash Fired : False
Flash Function : False
Flash Mode : Unknown
Flash Red Eye Mode : False
Flash Return : No return detection
Exif Image Width : 4736
Exif Image Height : 3151
Sharpness : Hard
Creator Tool : Adobe Photoshop Lightroom 3.3
Already Applied : True
Blue Hue : 0
Blue Saturation : 0
Brightness : +40
Camera Profile : Adobe Standard
Chromatic Aberration B : 0
Chromatic Aberration R : 0
Clarity : +26
Color Noise Reduction : 62
Convert To Grayscale : False
Crop Angle : 0
Crop Bottom : 0.927419
Crop Height : 3151
Crop Left : 0.091398
Crop Right : 1
Crop Top : 0.018817
Crop Unit : pixels
Crop Width : 4736
Defringe : 0
Exposure : -0.78
Fill Light : 53
Green Hue : 0
Green Saturation : 0
Has Crop : True
Has Settings : True
Highlight Recovery : 46
Hue Adjustment Aqua : 0
Hue Adjustment Blue : 0
Hue Adjustment Green : 0
Hue Adjustment Magenta : 0
Hue Adjustment Orange : 0
Hue Adjustment Purple : 0
Hue Adjustment Red : 0
Hue Adjustment Yellow : 0
Luminance Adjustment Aqua : +43
Luminance Adjustment Blue : -48
Luminance Adjustment Green : +27
Luminance Adjustment Magenta : +36
Luminance Adjustment Orange : +41
Luminance Adjustment Purple : -43
Luminance Adjustment Red : -19
Luminance Adjustment Yellow : +72
Luminance Smoothing : 23
Parametric Darks : -28
Parametric Highlight Split : 90
Parametric Highlights : +66
Parametric Lights : +47
Parametric Midtone Split : 37
Parametric Shadow Split : 25
Parametric Shadows : +19
Post Crop Vignette Amount : -9
Post Crop Vignette Feather : 50
Post Crop Vignette Midpoint : 46
Post Crop Vignette Roundness : 0
Red Hue : 0
Red Saturation : 0
Saturation Adjustment Aqua : -100
Saturation Adjustment Blue : -100
Saturation Adjustment Green : -100
Saturation Adjustment Magenta : -100
Saturation Adjustment Orange : -100
Saturation Adjustment Purple : -100
Saturation Adjustment Red : -100
Saturation Adjustment Yellow : -100
Shadow Tint : 0
Shadows : 55
Sharpen Detail : 100
Sharpen Edge Masking : 0
Sharpen Radius : +0.5
Split Toning Balance : -38
Split Toning Highlight Hue : 55
Split Toning Highlight Saturation : 6
Split Toning Shadow Hue : 25
Split Toning Shadow Saturation : 6
Color Temperature : 5200
Tint : +21
Tone Curve : 0, 0, 32, 22, 64, 56, 128, 128, 192, 196, 255, 255
Tone Curve Name : Medium Contrast
Version : 6.3
Vibrance : -44
Vignette Amount : 0
Image Width : 300
Image Height : 201
Bits Per Sample : 8
Color Components : 3
Aperture : 4.8
Blue Balance : 0.758308
Image Size : 300x201
Lens ID : Apo-Summicron-M 90mm f/2 ASPH.
Megapixels : 0.060
Red Balance : 0.427256
Scale Factor To 35 mm Equivalent : 1.0
Shutter Speed : 1/750
Flash : No Flash
Circle Of Confusion : 0.030 mm
Field Of View : 22.6 deg
Focal Length : 90.0 mm (35 mm equivalent: 90.0 mm)
Hyperfocal Distance : 56.16 m
Light Value : 13.4