Uber Exif Photo
Photometric Interpretation : RGB
Orientation : Horizontal (normal)
Samples Per Pixel : 3
Software : Adobe Photoshop CC (Windows)
Modify Date : 2018:06:18 11:23:43
Create Date : 2011:09:28 14:29:33
Color Space : sRGB
Exif Image Width : 751
Exif Image Height : 768
Format : image/jpeg
Creator Tool : Adobe Photoshop Elements 9.0 Windows
Rating : 0
Color Mode : RGB
ICC Profile Name : sRGB IEC61966-2.1
Raw File Name : copy of original.jpg
Version : 6.4.1
Process Version : 5.7
White Balance : Auto
Incremental Temperature : -34
Incremental Tint : -23
Exposure : +0.55
Shadows : 15
Brightness : 0
Contrast : +31
Saturation : +6
Sharpness : 0
Luminance Smoothing : 0
Color Noise Reduction : 0
Chromatic Aberration R : 0
Chromatic Aberration B : 0
Vignette Amount : 0
Shadow Tint : 0
Red Hue : 0
Red Saturation : 0
Green Hue : 0
Green Saturation : 0
Blue Hue : 0
Blue Saturation : 0
Fill Light : 0
Vibrance : +43
Highlight Recovery : 43
Clarity : +28
Defringe : 0
Hue Adjustment Red : 0
Hue Adjustment Orange : 0
Hue Adjustment Yellow : 0
Hue Adjustment Green : 0
Hue Adjustment Aqua : 0
Hue Adjustment Blue : 0
Hue Adjustment Purple : 0
Hue Adjustment Magenta : 0
Saturation Adjustment Red : 0
Saturation Adjustment Orange : 0
Saturation Adjustment Yellow : 0
Saturation Adjustment Green : 0
Saturation Adjustment Aqua : 0
Saturation Adjustment Blue : 0
Saturation Adjustment Purple : 0
Saturation Adjustment Magenta : 0
Luminance Adjustment Red : 0
Luminance Adjustment Orange : 0
Luminance Adjustment Yellow : 0
Luminance Adjustment Green : 0
Luminance Adjustment Aqua : 0
Luminance Adjustment Blue : 0
Luminance Adjustment Purple : 0
Luminance Adjustment Magenta : 0
Split Toning Shadow Hue : 0
Split Toning Shadow Saturation : 0
Split Toning Highlight Hue : 0
Split Toning Highlight Saturation : 0
Split Toning Balance : 0
Parametric Shadows : 0
Parametric Darks : 0
Parametric Lights : 0
Parametric Highlights : 0
Parametric Shadow Split : 25
Parametric Midtone Split : 50
Parametric Highlight Split : 75
Sharpen Radius : +1.0
Sharpen Detail : 25
Sharpen Edge Masking : 0
Post Crop Vignette Amount : 0
Grain Amount : 0
Lens Profile Enable : 0
Lens Manual Distortion Amount : 0
Perspective Vertical : 0
Perspective Horizontal : 0
Perspective Rotate : 0.0
Perspective Scale : 100
Convert To Grayscale : False
Tone Curve Name : Linear
Camera Profile : Embedded
Lens Profile Setup : LensDefaults
Has Settings : True
Has Crop : False
Already Applied : True
Tone Curve : 0, 0, 255, 255
Profile Description : sRGB IEC61966-2.1
Image Width : 391
Image Height : 400
Bits Per Sample : 8
Color Components : 3
Image Size : 391x400
Megapixels : 0.156