Uber Exif Photo
Caption-Abstract : SONY DSC
Image Description : SONY DSC
Make : SONY
Camera Model Name : NEX-5
Software : NEX-5 v1.05
Modify Date : 2010:11:29 22:07:58
Exposure Time : 1/200
F Number : 1.0
Exposure Program : Shutter speed priority AE
ISO : 1600
Sensitivity Type : Recommended Exposure Index
Recommended Exposure Index : 1600
Date/Time Original : 2010:11:22 21:37:22
Create Date : 2010:11:22 21:37:22
Shutter Speed Value : 1/200
Aperture Value : 1.0
Brightness Value : -1.13
Exposure Compensation : +0.7
Max Aperture Value : 1.0
Metering Mode : Spot
Light Source : Unknown
Scene Type : Directly photographed
Custom Rendered : Normal
Exposure Mode : Auto
White Balance : Auto
Scene Capture Type : Standard
Contrast : Normal
Saturation : Normal
Sharpness : Normal
Lens Model : ----
Profile Description : sRGB IEC61966-2.1
Date/Time Digitized : 2010:11:22 21:37:22+08:00
Exif Image Width : 1000
Exif Image Height : 561
Creator Tool : Adobe Photoshop Lightroom
Lens : ----
Version : 6.2
Process Version : 5.7
Incremental Temperature : +23
Incremental Tint : +49
Exposure : +0.70
Shadows : 8
Brightness : +57
Luminance Smoothing : 0
Color Noise Reduction : 25
Chromatic Aberration R : 0
Chromatic Aberration B : 0
Vignette Amount : -41
Vignette Midpoint : 48
Shadow Tint : 0
Red Hue : 0
Red Saturation : -34
Green Hue : 0
Green Saturation : 0
Blue Hue : 0
Blue Saturation : +63
Fill Light : 0
Highlight Recovery : 0
Clarity : 0
Defringe : 0
Gray Mixer Red : -5
Gray Mixer Orange : -13
Gray Mixer Yellow : -17
Gray Mixer Green : -23
Gray Mixer Aqua : -20
Gray Mixer Blue : +5
Gray Mixer Purple : +13
Gray Mixer Magenta : +5
Split Toning Shadow Hue : 30
Split Toning Shadow Saturation : 28
Split Toning Highlight Hue : 50
Split Toning Highlight Saturation : 66
Split Toning Balance : 0
Parametric Shadows : -20
Parametric Darks : -2
Parametric Lights : +2
Parametric Highlights : 0
Parametric Shadow Split : 25
Parametric Midtone Split : 50
Parametric Highlight Split : 75
Sharpen Radius : +1.0
Sharpen Detail : 25
Sharpen Edge Masking : 0
Post Crop Vignette Amount : 0
Grain Amount : 0
Color Noise Reduction Detail : 50
Lens Profile Enable : 0
Lens Manual Distortion Amount : 0
Perspective Vertical : 0
Perspective Horizontal : 0
Perspective Rotate : 0.0
Perspective Scale : 100
Convert To Grayscale : True
Tone Curve Name : Linear
Camera Profile : Embedded
Lens Profile Setup : LensDefaults
Has Settings : True
Has Crop : False
Already Applied : True
Flash Fired : False
Flash Return : No return detection
Flash Mode : Off
Flash Function : False
Flash Red Eye Mode : False
Description : SONY DSC
Tone Curve : 0, 0, 255, 255
Image Width : 300
Image Height : 168
Bits Per Sample : 8
Color Components : 3
Aperture : 1.0
Image Size : 300x168
Megapixels : 0.050
Shutter Speed : 1/200
Flash : Off, Did not fire
Light Value : 3.6