Uber Exif Photo
Caption-Abstract : OLYMPUS DIGITAL CAMERA
Image Description : OLYMPUS DIGITAL CAMERA
Make : OLYMPUS IMAGING CORP.
Camera Model Name : E-M5
Orientation : Horizontal (normal)
Software : Adobe Photoshop CS5 Macintosh
Modify Date : 2013:06:16 14:25:05
Exposure Time : 1/640
F Number : 4.0
Exposure Program : Aperture-priority AE
ISO : 200
Sensitivity Type : Standard Output Sensitivity
Date/Time Original : 2013:06:04 14:20:15
Create Date : 2013:06:04 14:20:15
Shutter Speed Value : 1/640
Aperture Value : 4.0
Exposure Compensation : -0.3
Max Aperture Value : 1.4
Subject Distance : 36.9 m
Metering Mode : Center-weighted average
Light Source : Unknown
Flash : Auto, Did not fire
Focal Length : 25.0 mm
Color Space : Uncalibrated
Exif Image Width : 1620
Exif Image Height : 1848
CFA Pattern : [Red,Green][Green,Blue]
Custom Rendered : Normal
Exposure Mode : Manual
White Balance : Auto
Digital Zoom Ratio : 1
Focal Length In 35mm Format : 50 mm
Scene Capture Type : Standard
Gain Control : None
Contrast : Normal
Saturation : Normal
Sharpness : Normal
Serial Number : BEJ511833
Lens Info : 25mm f/1.4
Lens Model : LEICA DG SUMMILUX 25/F1.4
Lens Serial Number : 12110000627
Profile Description : Adobe RGB (1998)
Format : image/jpeg
Creator Tool : Adobe Photoshop CS5 Macintosh
Lens : LEICA DG SUMMILUX 25/F1.4
Approximate Focus Distance : 36.9
Flash Compensation : 0
Date Created : 2013:06:04 14:20:15
Color Mode : RGB
ICC Profile Name : Adobe RGB (1998)
Raw File Name : _6040714.ORF
Version : 6.7
Process Version : 5.7
Color Temperature : 5650
Tint : +5
Exposure : -0.35
Shadows : 5
Brightness : +46
Luminance Smoothing : 0
Color Noise Reduction : 25
Vignette Amount : 0
Shadow Tint : 0
Red Hue : 0
Red Saturation : 0
Green Hue : 0
Green Saturation : 0
Blue Hue : 0
Blue Saturation : 0
Fill Light : 36
Vibrance : 0
Highlight Recovery : 57
Clarity : +43
Defringe : 0
Hue Adjustment Red : 0
Hue Adjustment Orange : 0
Hue Adjustment Yellow : 0
Hue Adjustment Green : 0
Hue Adjustment Aqua : 0
Hue Adjustment Blue : 0
Hue Adjustment Purple : 0
Hue Adjustment Magenta : 0
Saturation Adjustment Red : 0
Saturation Adjustment Orange : 0
Saturation Adjustment Yellow : 0
Saturation Adjustment Green : 0
Saturation Adjustment Aqua : 0
Saturation Adjustment Blue : 0
Saturation Adjustment Purple : 0
Saturation Adjustment Magenta : 0
Luminance Adjustment Red : -25
Luminance Adjustment Orange : -43
Luminance Adjustment Yellow : -35
Luminance Adjustment Green : -48
Luminance Adjustment Aqua : -30
Luminance Adjustment Blue : -61
Luminance Adjustment Purple : 0
Luminance Adjustment Magenta : 0
Split Toning Shadow Hue : 0
Split Toning Shadow Saturation : 0
Split Toning Highlight Hue : 0
Split Toning Highlight Saturation : 0
Split Toning Balance : 0
Parametric Shadows : 0
Parametric Darks : 0
Parametric Lights : 0
Parametric Highlights : 0
Parametric Shadow Split : 25
Parametric Midtone Split : 50
Parametric Highlight Split : 75
Sharpen Radius : +1.0
Sharpen Detail : 25
Sharpen Edge Masking : 0
Post Crop Vignette Amount : 0
Grain Amount : 0
Color Noise Reduction Detail : 50
Lens Profile Enable : 0
Lens Manual Distortion Amount : 0
Perspective Vertical : 0
Perspective Horizontal : 0
Perspective Rotate : 0.0
Perspective Scale : 100
Auto Lateral CA : 0
Exposure 2012 : +0.04
Contrast 2012 : 0
Highlights 2012 : -8
Shadows 2012 : +8
Whites 2012 : -57
Blacks 2012 : 0
Clarity 2012 : +21
Convert To Grayscale : False
Tone Curve Name : Medium Contrast
Tone Curve Name 2012 : Linear
Camera Profile : Adobe Standard
Lens Profile Setup : LensDefaults
Has Settings : True
Crop Top : 0.288194
Crop Left : 0.286024
Crop Bottom : 0.822917
Crop Right : 0.637587
Crop Angle : 0
Crop Constrain To Warp : 0
Has Crop : True
Already Applied : True
Description : OLYMPUS DIGITAL CAMERA
Tone Curve : 0, 0, 32, 22, 64, 56, 128, 128, 192, 196, 255, 255
Tone Curve Red : 0, 0, 255, 255
Tone Curve Green : 0, 0, 255, 255
Tone Curve Blue : 0, 0, 255, 255
Tone Curve PV2012 : 0, 0, 255, 255
Tone Curve PV2012 Red : 0, 0, 255, 255
Tone Curve PV2012 Green : 0, 0, 255, 255
Tone Curve PV2012 Blue : 0, 0, 255, 255
Image Width : 263
Image Height : 300
Bits Per Sample : 8
Color Components : 3
Aperture : 4.0
Image Size : 263x300
Megapixels : 0.079
Scale Factor To 35 mm Equivalent : 2.0
Shutter Speed : 1/640
Circle Of Confusion : 0.015 mm
Depth Of Field : inf (8.12 m - inf)
Field Of View : 39.6 deg
Focal Length : 25.0 mm (35 mm equivalent: 50.0 mm)
Hyperfocal Distance : 10.40 m
Light Value : 12.3
Lens ID : LEICA DG SUMMILUX 25mm F1.4