Uber Exif Photo
Copyright Flag : False
Make : LEICA
Camera Model Name : V-LUX 1
Orientation : Horizontal (normal)
Software : Adobe Photoshop CS5 Macintosh
Modify Date : 2012:05:22 15:22:12
Exposure Time : 1/800
F Number : 3.6
Exposure Program : Aperture-priority AE
ISO : 100
Date/Time Original : 2010:10:14 14:18:22
Create Date : 2010:10:14 14:18:22
Shutter Speed Value : 1/800
Aperture Value : 3.6
Exposure Compensation : 0
Max Aperture Value : 2.8
Metering Mode : Center-weighted average
Flash : Off, Did not fire
Focal Length : 41.9 mm
Color Space : Uncalibrated
Exif Image Width : 2100
Exif Image Height : 1575
Profile Description : Adobe RGB (1998)
Creator Tool : Adobe Photoshop CS5 Macintosh
Rating : 1
Already Applied : True
Has Crop : False
Has Settings : True
Camera Profile : ACR 4.4
Tone Curve Name : Medium Contrast
Convert To Grayscale : False
Post Crop Vignette Amount : 0
Sharpen Edge Masking : 0
Sharpen Detail : 25
Sharpen Radius : +1.0
Parametric Highlight Split : 75
Parametric Midtone Split : 50
Parametric Shadow Split : 25
Parametric Highlights : 0
Parametric Lights : 0
Parametric Darks : 0
Parametric Shadows : 0
Split Toning Balance : 0
Split Toning Highlight Saturation : 0
Split Toning Highlight Hue : 0
Split Toning Shadow Saturation : 0
Split Toning Shadow Hue : 0
Luminance Adjustment Magenta : -7
Luminance Adjustment Purple : 0
Luminance Adjustment Blue : -20
Luminance Adjustment Aqua : -6
Luminance Adjustment Green : 0
Luminance Adjustment Yellow : -3
Luminance Adjustment Orange : -11
Luminance Adjustment Red : +1
Saturation Adjustment Magenta : 0
Saturation Adjustment Purple : 0
Saturation Adjustment Blue : 0
Saturation Adjustment Aqua : 0
Saturation Adjustment Green : 0
Saturation Adjustment Yellow : 0
Saturation Adjustment Orange : 0
Saturation Adjustment Red : 0
Hue Adjustment Magenta : 0
Hue Adjustment Purple : 0
Hue Adjustment Blue : 0
Hue Adjustment Aqua : 0
Hue Adjustment Green : 0
Hue Adjustment Yellow : 0
Hue Adjustment Orange : 0
Hue Adjustment Red : 0
Defringe : 0
Clarity : +33
Highlight Recovery : 0
Vibrance : +28
Fill Light : 0
Blue Saturation : 0
Blue Hue : 0
Green Saturation : 0
Green Hue : 0
Red Saturation : 0
Red Hue : 0
Shadow Tint : 0
Vignette Amount : 0
Chromatic Aberration B : 0
Chromatic Aberration R : 0
Color Noise Reduction : 25
Luminance Smoothing : 0
Sharpness : 0
Saturation : 0
Contrast : +44
Brightness : +50
Shadows : 5
Exposure : 0.00
Tint : +27
Color Temperature : 5900
White Balance : Custom
Version : 4.6
Raw File Name : L1060175.RAW
Format : image/jpeg
ICC Profile Name : Adobe RGB (1998)
Color Mode : RGB
Date Created : 2010:10:14 14:18:22
Marked : False
Tone Curve : 0, 0, 32, 22, 64, 56, 128, 128, 192, 196, 255, 255
Image Width : 300
Image Height : 225
Bits Per Sample : 8
Color Components : 3
Aperture : 3.6
Image Size : 300x225
Megapixels : 0.068
Shutter Speed : 1/800
Light Value : 13.3