Uber Exif Photo
Make : LEICA
Camera Model Name : D-LUX 5
Orientation : Horizontal (normal)
Software : Adobe Photoshop CS5 Macintosh
Modify Date : 2011:11:01 11:11:03
Exposure Time : 1/800
F Number : 2.5
Exposure Program : Aperture-priority AE
ISO : 80
Date/Time Original : 2011:10:15 07:39:35
Create Date : 2011:10:15 07:39:35
Shutter Speed Value : 1/800
Aperture Value : 2.5
Exposure Compensation : -0.66
Max Aperture Value : 2.0
Metering Mode : Center-weighted average
Light Source : Unknown
Flash : Off, Did not fire
Focal Length : 8.5 mm
Color Space : Uncalibrated
Exif Image Width : 1198
Exif Image Height : 1800
Sensing Method : One-chip color area
Scene Type : Directly photographed
Custom Rendered : Custom
Exposure Mode : Auto
White Balance : Auto
Digital Zoom Ratio : 0
Focal Length In 35mm Format : 40 mm
Scene Capture Type : Standard
Gain Control : None
Contrast : Normal
Saturation : High
Sharpness : Normal
Profile Description : Adobe RGB (1998)
Creator Tool : Adobe Photoshop CS5 Macintosh
Date Created : 2011:10:15 07:39:35
Color Mode : RGB
ICC Profile Name : Adobe RGB (1998)
Format : image/jpeg
Raw File Name : L1010645.RWL
Version : 6.4.1
Process Version : 5.7
Color Temperature : 5500
Tint : +6
Exposure : +0.45
Shadows : 5
Brightness : +63
Luminance Smoothing : 0
Color Noise Reduction : 25
Chromatic Aberration R : 0
Chromatic Aberration B : 0
Vignette Amount : 0
Shadow Tint : 0
Red Hue : 0
Red Saturation : 0
Green Hue : 0
Green Saturation : 0
Blue Hue : 0
Blue Saturation : 0
Fill Light : 0
Vibrance : +25
Highlight Recovery : 0
Clarity : +39
Defringe : 0
Hue Adjustment Red : 0
Hue Adjustment Orange : 0
Hue Adjustment Yellow : 0
Hue Adjustment Green : 0
Hue Adjustment Aqua : 0
Hue Adjustment Blue : 0
Hue Adjustment Purple : 0
Hue Adjustment Magenta : 0
Saturation Adjustment Red : 0
Saturation Adjustment Orange : 0
Saturation Adjustment Yellow : 0
Saturation Adjustment Green : 0
Saturation Adjustment Aqua : 0
Saturation Adjustment Blue : 0
Saturation Adjustment Purple : 0
Saturation Adjustment Magenta : 0
Luminance Adjustment Red : 0
Luminance Adjustment Orange : +23
Luminance Adjustment Yellow : +2
Luminance Adjustment Green : 0
Luminance Adjustment Aqua : +18
Luminance Adjustment Blue : +24
Luminance Adjustment Purple : 0
Luminance Adjustment Magenta : 0
Split Toning Shadow Hue : 0
Split Toning Shadow Saturation : 0
Split Toning Highlight Hue : 0
Split Toning Highlight Saturation : 0
Split Toning Balance : 0
Parametric Shadows : 0
Parametric Darks : 0
Parametric Lights : 0
Parametric Highlights : 0
Parametric Shadow Split : 25
Parametric Midtone Split : 50
Parametric Highlight Split : 75
Sharpen Radius : +1.0
Sharpen Detail : 25
Sharpen Edge Masking : 0
Post Crop Vignette Amount : 0
Grain Amount : 0
Color Noise Reduction Detail : 50
Lens Profile Enable : 0
Lens Manual Distortion Amount : 0
Perspective Vertical : 0
Perspective Horizontal : 0
Perspective Rotate : 0.0
Perspective Scale : 100
Convert To Grayscale : False
Tone Curve Name : Medium Contrast
Camera Profile : Adobe Standard
Lens Profile Setup : LensDefaults
Has Settings : True
Crop Top : 0.300091
Crop Left : 0.33352
Crop Bottom : 0.652916
Crop Right : 0.597697
Crop Angle : -1.692361
Crop Constrain To Warp : 1
Has Crop : True
Already Applied : True
Tone Curve : 0, 0, 32, 22, 64, 56, 128, 128, 192, 196, 255, 255
Image Width : 200
Image Height : 300
Bits Per Sample : 8
Color Components : 3
Aperture : 2.5
Image Size : 200x300
Megapixels : 0.060
Scale Factor To 35 mm Equivalent : 4.7
Shutter Speed : 1/800
Circle Of Confusion : 0.006 mm
Field Of View : 48.5 deg
Focal Length : 8.5 mm (35 mm equivalent: 40.0 mm)
Hyperfocal Distance : 4.53 m
Light Value : 12.6