Uber Exif Photo
Copyright Flag : False
Make : LEICA
Camera Model Name : V-LUX 1
Orientation : Horizontal (normal)
Software : Adobe Photoshop CS5 Macintosh
Modify Date : 2011:07:17 15:12:01
Exposure Time : 1/1000
F Number : 3.2
Exposure Program : Aperture-priority AE
ISO : 100
Date/Time Original : 2011:07:02 12:45:32
Create Date : 2011:07:02 12:45:32
Shutter Speed Value : 1/1000
Aperture Value : 3.2
Exposure Compensation : -0.33
Max Aperture Value : 2.8
Metering Mode : Center-weighted average
Flash : Off, Did not fire
Focal Length : 19.0 mm
Color Space : Uncalibrated
Exif Image Width : 1875
Exif Image Height : 1395
Profile Description : Adobe RGB (1998)
Creator Tool : Adobe Photoshop CS5 Macintosh
Rating : 1
Date Created : 2011:07:02 12:45:32
Color Mode : RGB
ICC Profile Name : Adobe RGB (1998)
Format : image/jpeg
Raw File Name : L1060522.RAW
Version : 6.4.1
Process Version : 5.7
White Balance : As Shot
Color Temperature : 5100
Tint : +11
Exposure : -0.35
Shadows : 5
Brightness : +50
Contrast : +25
Saturation : 0
Sharpness : 25
Luminance Smoothing : 0
Color Noise Reduction : 25
Chromatic Aberration R : 0
Chromatic Aberration B : 0
Vignette Amount : 0
Shadow Tint : 0
Red Hue : 0
Red Saturation : 0
Green Hue : 0
Green Saturation : 0
Blue Hue : 0
Blue Saturation : 0
Fill Light : 0
Vibrance : 0
Highlight Recovery : 0
Clarity : +38
Defringe : 0
Hue Adjustment Red : 0
Hue Adjustment Orange : 0
Hue Adjustment Yellow : 0
Hue Adjustment Green : 0
Hue Adjustment Aqua : 0
Hue Adjustment Blue : 0
Hue Adjustment Purple : 0
Hue Adjustment Magenta : 0
Saturation Adjustment Red : 0
Saturation Adjustment Orange : 0
Saturation Adjustment Yellow : 0
Saturation Adjustment Green : 0
Saturation Adjustment Aqua : 0
Saturation Adjustment Blue : 0
Saturation Adjustment Purple : 0
Saturation Adjustment Magenta : 0
Luminance Adjustment Red : +23
Luminance Adjustment Orange : +38
Luminance Adjustment Yellow : +18
Luminance Adjustment Green : -30
Luminance Adjustment Aqua : -25
Luminance Adjustment Blue : 0
Luminance Adjustment Purple : -13
Luminance Adjustment Magenta : +8
Split Toning Shadow Hue : 0
Split Toning Shadow Saturation : 0
Split Toning Highlight Hue : 0
Split Toning Highlight Saturation : 0
Split Toning Balance : 0
Parametric Shadows : 0
Parametric Darks : 0
Parametric Lights : 0
Parametric Highlights : 0
Parametric Shadow Split : 25
Parametric Midtone Split : 50
Parametric Highlight Split : 75
Sharpen Radius : +1.0
Sharpen Detail : 25
Sharpen Edge Masking : 0
Post Crop Vignette Amount : 0
Grain Amount : 0
Color Noise Reduction Detail : 50
Lens Profile Enable : 0
Lens Manual Distortion Amount : 0
Perspective Vertical : 0
Perspective Horizontal : 0
Perspective Rotate : 0.0
Perspective Scale : 100
Convert To Grayscale : False
Tone Curve Name : Medium Contrast
Camera Profile : Adobe Standard
Lens Profile Setup : LensDefaults
Has Settings : True
Crop Top : 0.339109
Crop Left : 0.199836
Crop Bottom : 1
Crop Right : 0.847039
Crop Angle : 0
Crop Constrain To Warp : 1
Has Crop : True
Already Applied : True
Marked : False
Tone Curve : 0, 0, 32, 22, 64, 56, 128, 128, 192, 196, 255, 255
Image Width : 300
Image Height : 223
Bits Per Sample : 8
Color Components : 3
Aperture : 3.2
Image Size : 300x223
Megapixels : 0.067
Shutter Speed : 1/1000
Light Value : 13.3