Uber Exif Photo
Make : LEICA
Camera Model Name : D-LUX 5
Orientation : Horizontal (normal)
Software : Adobe Photoshop CS5 Macintosh
Modify Date : 2011:02:05 10:34:27
Exposure Time : 1/125
F Number : 4.0
Exposure Program : Aperture-priority AE
ISO : 80
Sensitivity Type : Unknown
Date/Time Original : 2011:01:27 13:21:28
Create Date : 2011:01:27 13:21:28
Shutter Speed Value : 1/125
Aperture Value : 4.0
Exposure Compensation : 0
Max Aperture Value : 2.0
Metering Mode : Center-weighted average
Flash : Off, Did not fire
Focal Length : 6.8 mm
Color Space : Uncalibrated
Exif Image Width : 1800
Exif Image Height : 1304
Focal Length In 35mm Format : 32 mm
Profile Description : Adobe RGB (1998)
Rating : 0
Creator Tool : Adobe Photoshop CS5 Macintosh
Raw File Name : L1000210.RWL
Version : 6.3
Process Version : 5.7
White Balance : As Shot
Color Temperature : 6850
Tint : +4
Exposure : 0.00
Shadows : 3
Brightness : +58
Contrast : +31
Saturation : 0
Sharpness : 25
Luminance Smoothing : 0
Color Noise Reduction : 25
Chromatic Aberration R : 0
Chromatic Aberration B : 0
Vignette Amount : 0
Shadow Tint : 0
Red Hue : 0
Red Saturation : 0
Green Hue : 0
Green Saturation : 0
Blue Hue : 0
Blue Saturation : 0
Fill Light : 24
Vibrance : 0
Highlight Recovery : 0
Clarity : +24
Defringe : 0
Hue Adjustment Red : 0
Hue Adjustment Orange : 0
Hue Adjustment Yellow : 0
Hue Adjustment Green : 0
Hue Adjustment Aqua : 0
Hue Adjustment Blue : 0
Hue Adjustment Purple : 0
Hue Adjustment Magenta : 0
Saturation Adjustment Red : 0
Saturation Adjustment Orange : 0
Saturation Adjustment Yellow : 0
Saturation Adjustment Green : 0
Saturation Adjustment Aqua : 0
Saturation Adjustment Blue : 0
Saturation Adjustment Purple : 0
Saturation Adjustment Magenta : 0
Luminance Adjustment Red : +3
Luminance Adjustment Orange : -22
Luminance Adjustment Yellow : 0
Luminance Adjustment Green : 0
Luminance Adjustment Aqua : 0
Luminance Adjustment Blue : 0
Luminance Adjustment Purple : 0
Luminance Adjustment Magenta : 0
Split Toning Shadow Hue : 0
Split Toning Shadow Saturation : 0
Split Toning Highlight Hue : 0
Split Toning Highlight Saturation : 0
Split Toning Balance : 0
Parametric Shadows : 0
Parametric Darks : +29
Parametric Lights : -8
Parametric Highlights : 0
Parametric Shadow Split : 25
Parametric Midtone Split : 50
Parametric Highlight Split : 75
Sharpen Radius : +1.0
Sharpen Detail : 25
Sharpen Edge Masking : 0
Post Crop Vignette Amount : 0
Grain Amount : 0
Color Noise Reduction Detail : 50
Lens Profile Enable : 0
Lens Manual Distortion Amount : 0
Perspective Vertical : -16
Perspective Horizontal : -11
Perspective Rotate : -0.3
Perspective Scale : 100
Convert To Grayscale : False
Tone Curve Name : Medium Contrast
Camera Profile : Adobe Standard
Lens Profile Setup : LensDefaults
Has Settings : True
Has Crop : False
Already Applied : True
Format : image/jpeg
Color Mode : RGB
ICC Profile Name : Adobe RGB (1998)
Date Created : 2011:01:27 13:21:28
Tone Curve : 0, 0, 32, 22, 64, 56, 128, 128, 192, 196, 255, 255
Image Width : 300
Image Height : 217
Bits Per Sample : 8
Color Components : 3
Aperture : 4.0
Image Size : 300x217
Megapixels : 0.065
Scale Factor To 35 mm Equivalent : 4.7
Shutter Speed : 1/125
Circle Of Confusion : 0.006 mm
Field Of View : 58.7 deg
Focal Length : 6.8 mm (35 mm equivalent: 32.0 mm)
Hyperfocal Distance : 1.81 m
Light Value : 11.3