Uber Exif Photo
Copyright Flag : False
Make : LEICA
Camera Model Name : V-LUX 1
Orientation : Horizontal (normal)
Software : Adobe Photoshop CS5 Macintosh
Modify Date : 2010:12:29 15:39:33
Exposure Time : 1/400
F Number : 7.1
Exposure Program : Program AE
ISO : 100
Date/Time Original : 2008:05:29 13:12:52
Create Date : 2008:05:29 13:12:52
Shutter Speed Value : 1/400
Aperture Value : 7.1
Exposure Compensation : -0.33
Max Aperture Value : 2.8
Metering Mode : Multi-segment
Light Source : Unknown
Flash : Off, Did not fire
Focal Length : 10.5 mm
Color Space : Uncalibrated
Exif Image Width : 1581
Exif Image Height : 726
Sensing Method : One-chip color area
Scene Type : Directly photographed
Custom Rendered : Custom
Exposure Mode : Auto
White Balance : Auto
Digital Zoom Ratio : 0
Focal Length In 35mm Format : 56 mm
Scene Capture Type : Standard
Gain Control : None
Contrast : Normal
Saturation : Normal
Sharpness : Normal
Profile Description : Adobe RGB (1998)
Creator Tool : Adobe Photoshop CS5 Macintosh
Already Applied : True
Has Crop : True
Crop Angle : 0
Crop Right : 1
Crop Bottom : 0.83125
Crop Left : 0.200469
Crop Top : 0.298438
Has Settings : True
Camera Profile : Embedded
Tone Curve Name : Linear
Convert To Grayscale : False
Sharpen Edge Masking : 0
Sharpen Detail : 25
Sharpen Radius : +1.0
Parametric Highlight Split : 75
Parametric Midtone Split : 50
Parametric Shadow Split : 25
Parametric Highlights : 0
Parametric Lights : 0
Parametric Darks : 0
Parametric Shadows : 0
Split Toning Balance : 0
Split Toning Highlight Saturation : 0
Split Toning Highlight Hue : 0
Split Toning Shadow Saturation : 0
Split Toning Shadow Hue : 0
Luminance Adjustment Magenta : 0
Luminance Adjustment Purple : 0
Luminance Adjustment Blue : -17
Luminance Adjustment Aqua : 0
Luminance Adjustment Green : 0
Luminance Adjustment Yellow : +12
Luminance Adjustment Orange : 0
Luminance Adjustment Red : 0
Saturation Adjustment Magenta : 0
Saturation Adjustment Purple : 0
Saturation Adjustment Blue : 0
Saturation Adjustment Aqua : 0
Saturation Adjustment Green : 0
Saturation Adjustment Yellow : 0
Saturation Adjustment Orange : 0
Saturation Adjustment Red : 0
Hue Adjustment Magenta : 0
Hue Adjustment Purple : 0
Hue Adjustment Blue : 0
Hue Adjustment Aqua : 0
Hue Adjustment Green : 0
Hue Adjustment Yellow : 0
Hue Adjustment Orange : 0
Hue Adjustment Red : 0
Defringe : 0
Clarity : 46
Highlight Recovery : 0
Vibrance : 0
Fill Light : 12
Blue Saturation : 0
Blue Hue : 0
Green Saturation : 0
Green Hue : 0
Red Saturation : 0
Red Hue : 0
Shadow Tint : 0
Vignette Amount : 0
Chromatic Aberration B : 0
Chromatic Aberration R : 0
Color Noise Reduction : 0
Luminance Smoothing : 0
Brightness : 0
Shadows : 3
Exposure : +0.15
Incremental Tint : 0
Incremental Temperature : 0
Raw File Name : L1020207.JPG
Version : 4.3.1
Format : image/jpeg
ICC Profile Name : Adobe RGB (1998)
Color Mode : RGB
Date Created : 2008:05:29 13:12:52
Marked : False
Tone Curve : 0, 0, 255, 255
Image Width : 300
Image Height : 138
Bits Per Sample : 8
Color Components : 3
Aperture : 7.1
Image Size : 300x138
Megapixels : 0.041
Scale Factor To 35 mm Equivalent : 5.3
Shutter Speed : 1/400
Circle Of Confusion : 0.006 mm
Field Of View : 35.6 deg
Focal Length : 10.5 mm (35 mm equivalent: 56.0 mm)
Hyperfocal Distance : 2.76 m
Light Value : 14.3