Uber Exif Photo
Make : LEICA
Camera Model Name : V-LUX 1
Orientation : Horizontal (normal)
Software : Adobe Photoshop CS3 Macintosh
Modify Date : 2010:11:11 18:37:17
Exposure Time : 1/200
F Number : 4.0
Exposure Program : Program AE
ISO : 100
Date/Time Original : 2008:05:23 06:31:02
Create Date : 2008:05:23 06:31:02
Shutter Speed Value : 1/200
Aperture Value : 4.0
Exposure Compensation : -0.33
Max Aperture Value : 2.8
Metering Mode : Multi-segment
Light Source : Unknown
Focal Length : 63.0 mm
Color Space : Uncalibrated
Exif Image Width : 1920
Exif Image Height : 2070
Sensing Method : One-chip color area
Scene Type : Directly photographed
Custom Rendered : Custom
Exposure Mode : Auto
White Balance : Auto
Digital Zoom Ratio : 0
Focal Length In 35mm Format : 425 mm
Scene Capture Type : Standard
Gain Control : None
Contrast : Normal
Saturation : Normal
Sharpness : Normal
Profile Description : Adobe RGB (1998)
Photometric Interpretation : RGB
Samples Per Pixel : 3
Date/Time Digitized : 2008:05:23 06:31:02-07:00
Creator Tool : Adobe Photoshop CS3 Macintosh
Already Applied : True
Has Crop : False
Has Settings : True
Camera Profile : Embedded
Tone Curve Name : Linear
Convert To Grayscale : False
Sharpen Edge Masking : 0
Sharpen Detail : 25
Sharpen Radius : +1.0
Parametric Highlight Split : 75
Parametric Midtone Split : 50
Parametric Shadow Split : 25
Parametric Highlights : 0
Parametric Lights : 0
Parametric Darks : 0
Parametric Shadows : 0
Split Toning Balance : 0
Split Toning Highlight Saturation : 0
Split Toning Highlight Hue : 0
Split Toning Shadow Saturation : 0
Split Toning Shadow Hue : 0
Luminance Adjustment Magenta : -14
Luminance Adjustment Purple : 0
Luminance Adjustment Blue : 0
Luminance Adjustment Aqua : 0
Luminance Adjustment Green : -18
Luminance Adjustment Yellow : +25
Luminance Adjustment Orange : +6
Luminance Adjustment Red : -3
Saturation Adjustment Magenta : 0
Saturation Adjustment Purple : 0
Saturation Adjustment Blue : 0
Saturation Adjustment Aqua : 0
Saturation Adjustment Green : 0
Saturation Adjustment Yellow : 0
Saturation Adjustment Orange : 0
Saturation Adjustment Red : 0
Hue Adjustment Magenta : 0
Hue Adjustment Purple : 0
Hue Adjustment Blue : 0
Hue Adjustment Aqua : 0
Hue Adjustment Green : 0
Hue Adjustment Yellow : 0
Hue Adjustment Orange : 0
Hue Adjustment Red : 0
Defringe : 0
Clarity : 44
Highlight Recovery : 0
Vibrance : 0
Fill Light : 0
Blue Saturation : 0
Blue Hue : 0
Green Saturation : 0
Green Hue : 0
Red Saturation : 0
Red Hue : 0
Shadow Tint : 0
Vignette Amount : 0
Chromatic Aberration B : 0
Chromatic Aberration R : 0
Color Noise Reduction : 0
Luminance Smoothing : 0
Brightness : 0
Shadows : 0
Exposure : -0.10
Incremental Tint : 0
Incremental Temperature : 0
Raw File Name : L1020039.JPG
Version : 4.3.1
Format : image/jpeg
ICC Profile Name : Adobe RGB (1998)
Flash Fired : False
Flash Return : No return detection
Flash Mode : Off
Flash Function : False
Flash Red Eye Mode : False
Tone Curve : 0, 0, 255, 255
Image Width : 278
Image Height : 300
Bits Per Sample : 8
Color Components : 3
Aperture : 4.0
Image Size : 278x300
Megapixels : 0.083
Scale Factor To 35 mm Equivalent : 6.7
Shutter Speed : 1/200
Flash : Off, Did not fire
Circle Of Confusion : 0.004 mm
Field Of View : 4.9 deg
Focal Length : 63.0 mm (35 mm equivalent: 425.0 mm)
Hyperfocal Distance : 222.78 m
Light Value : 11.6