Uber Exif Photo
By-line : Joseph Ow
Copyright Notice : © 2010 Joseph Ow
Copyright Flag : True
Make : Leica Camera AG
Camera Model Name : M8 Digital Camera
Software : 2.005
Modify Date : 2010:11:11 18:30:18
Copyright : (C) 2010 Joseph Ow
Exposure Time : 1/1500
F Number : 4.8
Exposure Program : Aperture-priority AE
ISO : 640
Date/Time Original : 2010:09:22 17:35:49
Create Date : 2010:09:22 17:35:49
Shutter Speed Value : 1/1500
Aperture Value : 4.8
Exposure Compensation : 0
Max Aperture Value : 2.0
Metering Mode : Center-weighted average
Light Source : Unknown
Focal Length : 35.0 mm
Color Space : Uncalibrated
Scene Type : Directly photographed
White Balance : Auto
Digital Zoom Ratio : 0
Focal Length In 35mm Format : 47 mm
Scene Capture Type : Standard
Creator City : Newton
Creator Address : 59 Wyoming Road
Creator Region : MA
Creator Work Email : spiderjoe88@yahoo.com
Creator Work Telephone : +1 617-630-2826
Lens : Leica Summicron-M 35mm f/2 (IV)
Serial Number : 3329469
Creator : Joseph Ow
Rights : © 2010 Joseph Ow
Contrast : High
Date/Time Digitized : 2010:09:22 17:35:49-04:00
Flash Fired : False
Flash Function : False
Flash Mode : Auto
Flash Red Eye Mode : False
Flash Return : No return detection
Exif Image Width : 3916
Exif Image Height : 2634
Sharpness : Hard
Creator Tool : Adobe Photoshop Lightroom
Marked : True
Usage Terms : No reproduction without consent
Already Applied : True
Blue Hue : 0
Blue Saturation : 0
Brightness : +50
Camera Profile : Adobe Standard
Chromatic Aberration B : 0
Chromatic Aberration R : 0
Clarity : +40
Color Noise Reduction : 25
Convert To Grayscale : True
Defringe : 0
Exposure : 0.00
Fill Light : 44
Gray Mixer Aqua : 0
Gray Mixer Blue : 0
Gray Mixer Green : 0
Gray Mixer Magenta : 0
Gray Mixer Orange : 0
Gray Mixer Purple : 0
Gray Mixer Red : 0
Gray Mixer Yellow : 0
Green Hue : 0
Green Saturation : 0
Has Crop : False
Has Settings : True
Highlight Recovery : 100
Luminance Smoothing : 0
Parametric Darks : 0
Parametric Highlight Split : 75
Parametric Highlights : 0
Parametric Lights : 0
Parametric Midtone Split : 50
Parametric Shadow Split : 25
Parametric Shadows : 0
Post Crop Vignette Amount : 0
Red Hue : 0
Red Saturation : 0
Shadow Tint : 0
Shadows : 31
Sharpen Detail : 25
Sharpen Edge Masking : 0
Sharpen Radius : +1.0
Split Toning Balance : 0
Split Toning Highlight Hue : 0
Split Toning Highlight Saturation : 0
Split Toning Shadow Hue : 0
Split Toning Shadow Saturation : 0
Color Temperature : 5100
Tint : +32
Tone Curve : 0, 0, 32, 22, 64, 56, 128, 128, 192, 196, 255, 255
Tone Curve Name : Medium Contrast
Version : 6.2
Vignette Amount : 0
Image Width : 300
Image Height : 202
Bits Per Sample : 8
Color Components : 1
Aperture : 4.8
Image Size : 300x202
Megapixels : 0.061
Scale Factor To 35 mm Equivalent : 1.3
Shutter Speed : 1/1500
Flash : Auto, Did not fire
Circle Of Confusion : 0.022 mm
Field Of View : 41.9 deg
Focal Length : 35.0 mm (35 mm equivalent: 47.0 mm)
Hyperfocal Distance : 11.41 m
Light Value : 12.4
Lens ID : Summicron-M 35mm f/2 (IV)