Uber Exif Photo
Keywords : Cape Cod, Provincetown
By-line : Joseph Ow
Copyright Notice : © 2010 Joseph Ow
Copyright Flag : True
Make : Leica Camera AG
Camera Model Name : M8 Digital Camera
Software : 2.005
Modify Date : 2010:11:11 18:23:46
Copyright : (C) 2010 Joseph Ow
Exposure Time : 1/250
F Number : 5.7
Exposure Program : Aperture-priority AE
ISO : 160
Date/Time Original : 2010:07:31 15:00:51
Create Date : 2010:07:31 15:00:51
Shutter Speed Value : 1/250
Aperture Value : 5.7
Exposure Compensation : 0
Max Aperture Value : 2.0
Metering Mode : Center-weighted average
Light Source : Unknown
Focal Length : 35.0 mm
Color Space : Uncalibrated
Scene Type : Directly photographed
White Balance : Auto
Digital Zoom Ratio : 0
Focal Length In 35mm Format : 47 mm
Scene Capture Type : Standard
Profile Description : sRGB IEC61966-2.1
Creator City : Newton
Creator Address : 59 Wyoming Road
Creator Region : MA
Creator Work Email : spiderjoe88@yahoo.com
Creator Work Telephone : +1 617-630-2826
Lens : Leica Summicron-M 35mm f/2 (IV)
Serial Number : 3329469
Creator : Joseph Ow
Rights : © 2010 Joseph Ow
Subject : Cape Cod, Provincetown
Contrast : High
Date/Time Digitized : 2010:07:31 15:00:51-04:00
Flash Fired : False
Flash Function : False
Flash Mode : Auto
Flash Red Eye Mode : False
Flash Return : No return detection
Exif Image Width : 3916
Exif Image Height : 2634
Saturation : High
Sharpness : Hard
Creator Tool : Adobe Photoshop Lightroom
Marked : True
Usage Terms : No reproduction without consent
Already Applied : True
Blue Hue : 0
Blue Saturation : 0
Brightness : +50
Camera Profile : Adobe Standard
Chromatic Aberration B : 0
Chromatic Aberration R : 0
Clarity : +25
Color Noise Reduction : 25
Convert To Grayscale : False
Defringe : 0
Exposure : 0.00
Fill Light : 27
Green Hue : 0
Green Saturation : 0
Has Crop : False
Has Settings : True
Highlight Recovery : 0
Hue Adjustment Aqua : 0
Hue Adjustment Blue : 0
Hue Adjustment Green : 0
Hue Adjustment Magenta : 0
Hue Adjustment Orange : 0
Hue Adjustment Purple : 0
Hue Adjustment Red : 0
Hue Adjustment Yellow : 0
Luminance Adjustment Aqua : 0
Luminance Adjustment Blue : 0
Luminance Adjustment Green : 0
Luminance Adjustment Magenta : 0
Luminance Adjustment Orange : 0
Luminance Adjustment Purple : 0
Luminance Adjustment Red : 0
Luminance Adjustment Yellow : 0
Luminance Smoothing : 0
Parametric Darks : 0
Parametric Highlight Split : 75
Parametric Highlights : 0
Parametric Lights : 0
Parametric Midtone Split : 50
Parametric Shadow Split : 25
Parametric Shadows : 0
Post Crop Vignette Amount : 0
Red Hue : 0
Red Saturation : 0
Saturation Adjustment Aqua : 0
Saturation Adjustment Blue : 0
Saturation Adjustment Green : 0
Saturation Adjustment Magenta : 0
Saturation Adjustment Orange : 0
Saturation Adjustment Purple : 0
Saturation Adjustment Red : 0
Saturation Adjustment Yellow : 0
Shadow Tint : 0
Shadows : 12
Sharpen Detail : 25
Sharpen Edge Masking : 0
Sharpen Radius : +1.0
Split Toning Balance : 0
Split Toning Highlight Hue : 0
Split Toning Highlight Saturation : 0
Split Toning Shadow Hue : 0
Split Toning Shadow Saturation : 0
Color Temperature : 6250
Tint : +22
Tone Curve : 0, 0, 32, 22, 64, 56, 128, 128, 192, 196, 255, 255
Tone Curve Name : Medium Contrast
Version : 6.2
Vibrance : -13
Vignette Amount : -100
Vignette Midpoint : 35
Image Width : 300
Image Height : 202
Bits Per Sample : 8
Color Components : 3
Aperture : 5.7
Image Size : 300x202
Megapixels : 0.061
Scale Factor To 35 mm Equivalent : 1.3
Shutter Speed : 1/250
Flash : Auto, Did not fire
Circle Of Confusion : 0.022 mm
Field Of View : 41.9 deg
Focal Length : 35.0 mm (35 mm equivalent: 47.0 mm)
Hyperfocal Distance : 9.61 m
Light Value : 12.3
Lens ID : Summicron-M 35mm f/2 (IV)