Uber Exif Photo
Keywords : 35 Cron IV, M8
By-line : Joseph Ow
Copyright Notice : © 2010 Joseph Ow
Copyright Flag : True
Make : Leica Camera AG
Camera Model Name : M8 Digital Camera
Software : 2.004
Modify Date : 2010:11:11 18:19:34
Copyright : (C) 2010 Joseph Ow
Exposure Time : 1/45
F Number : 9.5
Exposure Program : Aperture-priority AE
ISO : 1250
Date/Time Original : 2010:06:10 08:08:29
Create Date : 2010:06:10 08:08:29
Shutter Speed Value : 1/45
Aperture Value : 9.5
Exposure Compensation : 0
Max Aperture Value : 1.0
Metering Mode : Center-weighted average
Light Source : Unknown
Color Space : Uncalibrated
Scene Type : Directly photographed
White Balance : Auto
Digital Zoom Ratio : 0
Scene Capture Type : Standard
Creator City : Newton
Creator Address : 59 Wyoming Road
Creator Region : MA
Creator Work Email : spiderjoe88@yahoo.com
Creator Work Telephone : +1 617-630-2826
Serial Number : 3329469
Creator : Joseph Ow
Rights : © 2010 Joseph Ow
Subject : 35 Cron IV, M8
Contrast : High
Date/Time Digitized : 2010:06:10 08:08:29-04:00
Flash Fired : False
Flash Function : False
Flash Mode : Auto
Flash Red Eye Mode : False
Flash Return : No return detection
Exif Image Width : 3071
Exif Image Height : 2065
Sharpness : Hard
Creator Tool : Adobe Photoshop Lightroom
Marked : True
Usage Terms : No reproduction without consent
Already Applied : True
Blue Hue : 0
Blue Saturation : 0
Brightness : +45
Camera Profile : ACR 4.4
Chromatic Aberration B : 0
Chromatic Aberration R : 0
Clarity : +41
Color Noise Reduction : 0
Convert To Grayscale : True
Crop Angle : 0
Crop Bottom : 0.86736
Crop Height : 2065
Crop Left : 0
Crop Right : 0.784164
Crop Top : 0.083196
Crop Unit : pixels
Crop Width : 3071
Defringe : 0
Exposure : +1.00
Fill Light : 40
Gray Mixer Aqua : 0
Gray Mixer Blue : 0
Gray Mixer Green : 0
Gray Mixer Magenta : 0
Gray Mixer Orange : 0
Gray Mixer Purple : 0
Gray Mixer Red : 0
Gray Mixer Yellow : 0
Green Hue : 0
Green Saturation : 0
Has Crop : True
Has Settings : True
Highlight Recovery : 52
Luminance Smoothing : 0
Parametric Darks : -21
Parametric Highlight Split : 75
Parametric Highlights : -42
Parametric Lights : -32
Parametric Midtone Split : 50
Parametric Shadow Split : 14
Parametric Shadows : +34
Post Crop Vignette Amount : 0
Red Hue : 0
Red Saturation : 0
Shadow Tint : 0
Shadows : 61
Sharpen Detail : 25
Sharpen Edge Masking : 0
Sharpen Radius : +1.0
Split Toning Balance : 0
Split Toning Highlight Hue : 0
Split Toning Highlight Saturation : 0
Split Toning Shadow Hue : 0
Split Toning Shadow Saturation : 0
Color Temperature : 5450
Tint : +32
Tone Curve : 0, 0, 32, 16, 64, 50, 128, 128, 192, 202, 255, 255
Tone Curve Name : Strong Contrast
Version : 6.2
Vignette Amount : -55
Vignette Midpoint : 23
Image Width : 300
Image Height : 202
Bits Per Sample : 8
Color Components : 1
Aperture : 9.5
Image Size : 300x202
Megapixels : 0.061
Scale Factor To 35 mm Equivalent : 1.7
Shutter Speed : 1/45
Flash : Auto, Did not fire
Circle Of Confusion : 0.017 mm
Light Value : 8.3