Uber Exif Photo
Object Name : Il babuino
Keywords : Babuino, Rom 2010
By-line : Erik Vinther Andersen
Copyright Notice : Erik Vinther Andersen
Caption-Abstract : Rome
Copyright Flag : True
Image Description : Rome
Make : Leica Camera AG
Camera Model Name : M9 Digital Camera
Software : 1.138
Modify Date : 2010:11:09 10:56:12
Copyright : Erik Vinther Andersen
Exposure Time : 1/125
F Number : 4.8
Exposure Program : Aperture-priority AE
ISO : 400
Sensitivity Type : Unknown
Date/Time Original : 2010:10:17 17:14:09
Create Date : 2010:10:17 17:14:09
Shutter Speed Value : 1/125
Aperture Value : 4.8
Exposure Compensation : 0
Max Aperture Value : 2.0
Metering Mode : Center-weighted average
Light Source : Unknown
Focal Length : 50.0 mm
Contrast : Normal
Sharpening : Normal
Saturation : Normal
White Balance : Auto
JPEG Quality : Fine
WB RGB Levels : 0.4387317909 1 0.873068315
User Profile : JPEG Size : 5216x3472
Firmware Version : 1.138
Base ISO : 160
Sensor Width : 5270
Sensor Height : 3516
Sensor Bit Depth : 14
Camera Temperature : 22 C
Lens Type : Summicron-M 50mm f/2 (IV, V)
Approximate F Number : 4.5
Measured LV : 3.14
External Sensor Brightness Value : 2.87
Scene Type : Directly photographed
Exposure Mode : Manual
Digital Zoom Ratio : 0
Focal Length In 35mm Format : 50 mm
Scene Capture Type : Standard
Serial Number : 3971819
Lens Model : Leica Summicron-M 50mm f/2 (IV, V)
Maker Note Safety : Safe
Date/Time Digitized : 2010:10:17 17:14:09+02:00
Exif Image Width : 2741
Exif Image Height : 1824
Creator Tool : Adobe Photoshop Lightroom
Lens : Leica Summicron-M 50mm f/2 (IV, V)
Marked : True
Version : 6.2
Process Version : 5.7
Color Temperature : 4213
Tint : -74
Exposure : +1.15
Shadows : 28
Brightness : +59
Sharpness : 25
Luminance Smoothing : 0
Color Noise Reduction : 25
Chromatic Aberration R : 0
Chromatic Aberration B : 0
Vignette Amount : 0
Shadow Tint : 0
Red Hue : 0
Red Saturation : 0
Green Hue : 0
Green Saturation : 0
Blue Hue : 0
Blue Saturation : 0
Fill Light : 0
Vibrance : 0
Highlight Recovery : 0
Clarity : 0
Defringe : 0
Hue Adjustment Red : 0
Hue Adjustment Orange : 0
Hue Adjustment Yellow : 0
Hue Adjustment Green : 0
Hue Adjustment Aqua : 0
Hue Adjustment Blue : 0
Hue Adjustment Purple : 0
Hue Adjustment Magenta : 0
Saturation Adjustment Red : 0
Saturation Adjustment Orange : 0
Saturation Adjustment Yellow : 0
Saturation Adjustment Green : 0
Saturation Adjustment Aqua : 0
Saturation Adjustment Blue : 0
Saturation Adjustment Purple : 0
Saturation Adjustment Magenta : 0
Luminance Adjustment Red : 0
Luminance Adjustment Orange : 0
Luminance Adjustment Yellow : 0
Luminance Adjustment Green : 0
Luminance Adjustment Aqua : 0
Luminance Adjustment Blue : 0
Luminance Adjustment Purple : 0
Luminance Adjustment Magenta : 0
Split Toning Shadow Hue : 0
Split Toning Shadow Saturation : 0
Split Toning Highlight Hue : 0
Split Toning Highlight Saturation : 0
Split Toning Balance : 0
Parametric Shadows : -14
Parametric Darks : -3
Parametric Lights : 0
Parametric Highlights : 0
Parametric Shadow Split : 25
Parametric Midtone Split : 50
Parametric Highlight Split : 75
Sharpen Radius : +1.0
Sharpen Detail : 50
Sharpen Edge Masking : 0
Post Crop Vignette Amount : 0
Grain Amount : 0
Color Noise Reduction Detail : 50
Lens Profile Enable : 0
Lens Manual Distortion Amount : 0
Perspective Vertical : 0
Perspective Horizontal : 0
Perspective Rotate : 0.0
Perspective Scale : 100
Convert To Grayscale : False
Tone Curve Name : Linear
Camera Profile : Adobe Standard
Lens Profile Setup : LensDefaults
Has Settings : True
Has Crop : False
Already Applied : True
Flash Fired : False
Flash Return : No return detection
Flash Mode : Unknown
Flash Function : False
Flash Red Eye Mode : False
Creator Work Email : erik@vintherandersen.dk
Creator : Erik Vinther Andersen
Title : Il babuino
Rights : Erik Vinther Andersen
Subject : Babuino, Rom 2010
Description : Rome
Tone Curve : 0, 0, 255, 255
Image Width : 300
Image Height : 200
Bits Per Sample : 8
Color Components : 1
Aperture : 4.8
Blue Balance : 0.873068
Image Size : 300x200
Lens ID : Leica Summicron-M 50mm f/2 (IV, V)
Megapixels : 0.060
Red Balance : 0.438732
Scale Factor To 35 mm Equivalent : 1.0
Shutter Speed : 1/125
Flash : No Flash
Circle Of Confusion : 0.030 mm
Field Of View : 39.6 deg
Focal Length : 50.0 mm (35 mm equivalent: 50.0 mm)
Hyperfocal Distance : 17.33 m
Light Value : 9.5