Uber Exif Photo
Make : LEICA CAMERA AG
Camera Model Name : LEICA X1
Software : 1.0
Modify Date : 2010:11:16 20:32:21
Exposure Time : 1
F Number : 5.0
Exposure Program : Manual
ISO : 100
Date/Time Original : 2010:11:16 17:36:06
Create Date : 2010:11:16 17:36:06
Shutter Speed Value : 1
Aperture Value : 5.0
Exposure Compensation : 0
Max Aperture Value : 2.8
Subject Distance : 5.5 m
Metering Mode : Center-weighted average
Light Source : Unknown
Focal Length : 24.0 mm
Original File Name : L1040919.DNG
Original Directory : 104LEICA
Focus Distance : 5.5 m
Exposure Mode : Manual
File Index : 919
Film Mode : Standard
WB RGB Levels : 0.5739910314 1 0.7314285714
Internal Serial Number : 000000000000
Sensing Method : One-chip color area
Custom Rendered : Normal
White Balance : Auto
Digital Zoom Ratio : 1
Focal Length In 35mm Format : 35 mm
Scene Capture Type : Landscape
Contrast : Normal
Saturation : Normal
Sharpness : Normal
Maker Note Safety : Safe
Profile Description : sRGB IEC61966-2.1
Date/Time Digitized : 2010:11:16 17:36:06+01:00
Exif Image Width : 2297
Exif Image Height : 2658
Creator Tool : Adobe Photoshop Lightroom
Serial Number : 000003817603
Lens Info : 24mm f/2.8
Lens : 24.0 mm f/2.8
Version : 6.1
Process Version : 5.7
Color Temperature : 4900
Tint : -2
Exposure : -0.25
Shadows : 5
Brightness : +68
Luminance Smoothing : 0
Color Noise Reduction : 25
Chromatic Aberration R : 0
Chromatic Aberration B : 0
Vignette Amount : 0
Shadow Tint : 0
Red Hue : 0
Red Saturation : 0
Green Hue : 0
Green Saturation : 0
Blue Hue : 0
Blue Saturation : 0
Fill Light : 0
Vibrance : -2
Highlight Recovery : 0
Clarity : +32
Defringe : 0
Hue Adjustment Red : 0
Hue Adjustment Orange : 0
Hue Adjustment Yellow : 0
Hue Adjustment Green : 0
Hue Adjustment Aqua : 0
Hue Adjustment Blue : 0
Hue Adjustment Purple : 0
Hue Adjustment Magenta : 0
Saturation Adjustment Red : 0
Saturation Adjustment Orange : 0
Saturation Adjustment Yellow : 0
Saturation Adjustment Green : 0
Saturation Adjustment Aqua : 0
Saturation Adjustment Blue : 0
Saturation Adjustment Purple : 0
Saturation Adjustment Magenta : 0
Luminance Adjustment Red : 0
Luminance Adjustment Orange : -21
Luminance Adjustment Yellow : +31
Luminance Adjustment Green : 0
Luminance Adjustment Aqua : 0
Luminance Adjustment Blue : 0
Luminance Adjustment Purple : 0
Luminance Adjustment Magenta : 0
Split Toning Shadow Hue : 0
Split Toning Shadow Saturation : 0
Split Toning Highlight Hue : 0
Split Toning Highlight Saturation : 0
Split Toning Balance : 0
Parametric Shadows : 0
Parametric Darks : -12
Parametric Lights : 0
Parametric Highlights : 0
Parametric Shadow Split : 25
Parametric Midtone Split : 50
Parametric Highlight Split : 75
Sharpen Radius : +1.0
Sharpen Detail : 25
Sharpen Edge Masking : 0
Post Crop Vignette Amount : 0
Grain Amount : 0
Color Noise Reduction Detail : 50
Lens Profile Enable : 0
Lens Manual Distortion Amount : 0
Perspective Vertical : 0
Perspective Horizontal : 0
Perspective Rotate : 0.0
Perspective Scale : 100
Convert To Grayscale : False
Tone Curve Name : Medium Contrast
Camera Profile : Adobe Standard
Lens Profile Setup : LensDefaults
Has Settings : True
Crop Top : 0.045061
Crop Left : 0.219004
Crop Bottom : 0.975737
Crop Right : 0.756663
Crop Angle : 0
Crop Constrain To Warp : 0
Crop Width : 2297
Crop Height : 2658
Crop Unit : pixels
Has Crop : True
Already Applied : True
Flash Fired : False
Flash Return : No return detection
Flash Mode : Off
Flash Function : False
Flash Red Eye Mode : False
Tone Curve : 0, 0, 32, 22, 64, 56, 128, 128, 192, 196, 255, 255
Image Width : 259
Image Height : 300
Bits Per Sample : 8
Color Components : 3
Aperture : 5.0
Blue Balance : 0.731429
Image Size : 259x300
Megapixels : 0.078
Red Balance : 0.573991
Scale Factor To 35 mm Equivalent : 1.5
Shutter Speed : 1
Flash : Off, Did not fire
Circle Of Confusion : 0.021 mm
Depth Of Field : 263.76 m (2.78 - 266.54 m)
Field Of View : 54.2 deg (5.63 m)
Focal Length : 24.0 mm (35 mm equivalent: 35.0 mm)
Hyperfocal Distance : 5.59 m
Light Value : 4.6
Lens ID : 24.0mm f/2.8