Uber Exif Photo
Make : LEICA CAMERA AG
Camera Model Name : LEICA X1
Software : Adobe Photoshop Lightroom 4.0 (Macintosh)
Modify Date : 2012:10:09 11:18:43
Exposure Time : 1/500
F Number : 2.8
Exposure Program : Shutter speed priority AE
ISO : 1600
Date/Time Original : 2010:10:02 17:59:23
Create Date : 2010:10:02 17:59:23
Shutter Speed Value : 1/500
Aperture Value : 2.8
Exposure Compensation : 0
Max Aperture Value : 2.8
Subject Distance : 1.13 m
Metering Mode : Multi-segment
Light Source : Unknown
Flash : Off, Did not fire
Focal Length : 24.0 mm
Original File Name : L1010584.DNG
Original Directory : 101LEICA
Focus Distance : 1.134 m
Exposure Mode : Shutter speed priority AE
File Index : 584
Film Mode : Standard
WB RGB Levels : 0.536687631 1 0.7211267606
Internal Serial Number : 000000000000
Sensing Method : One-chip color area
Custom Rendered : Normal
White Balance : Auto
Digital Zoom Ratio : 1
Focal Length In 35mm Format : 35 mm
Scene Capture Type : Landscape
Contrast : Normal
Saturation : Normal
Sharpness : Normal
Serial Number : 000003817117
Lens Info : 24mm f/2.8
Lens Model : 24.0 mm f/2.8
Maker Note Safety : Safe
Creator Tool : Adobe Photoshop Lightroom 4.0 (Macintosh)
Rating : 5
Lens : 24.0 mm f/2.8
Approximate Focus Distance : 1.13
Version : 7.0
Process Version : 6.7
Color Temperature : 5700
Tint : +7
Exposure : 0.00
Shadows : 5
Brightness : +50
Luminance Smoothing : 0
Color Noise Reduction : 25
Vignette Amount : 0
Shadow Tint : 0
Red Hue : 0
Red Saturation : 0
Green Hue : 0
Green Saturation : 0
Blue Hue : 0
Blue Saturation : 0
Fill Light : 0
Highlight Recovery : 0
Clarity : 0
Defringe : 0
Gray Mixer Red : -9
Gray Mixer Orange : -17
Gray Mixer Yellow : -21
Gray Mixer Green : -26
Gray Mixer Aqua : -18
Gray Mixer Blue : +8
Gray Mixer Purple : +14
Gray Mixer Magenta : +3
Split Toning Shadow Hue : 0
Split Toning Shadow Saturation : 0
Split Toning Highlight Hue : 0
Split Toning Highlight Saturation : 0
Split Toning Balance : 0
Parametric Shadows : 0
Parametric Darks : 0
Parametric Lights : 0
Parametric Highlights : 0
Parametric Shadow Split : 25
Parametric Midtone Split : 50
Parametric Highlight Split : 75
Sharpen Radius : +1.0
Sharpen Detail : 25
Sharpen Edge Masking : 0
Post Crop Vignette Amount : -45
Post Crop Vignette Midpoint : 50
Post Crop Vignette Feather : 73
Post Crop Vignette Roundness : 0
Post Crop Vignette Style : Highlight Priority
Post Crop Vignette Highlight Contrast : 0
Grain Amount : 0
Color Noise Reduction Detail : 50
Lens Profile Enable : 0
Lens Manual Distortion Amount : 0
Perspective Vertical : 0
Perspective Horizontal : 0
Perspective Rotate : 0.0
Perspective Scale : 100
Auto Lateral CA : 0
Exposure 2012 : -0.05
Contrast 2012 : 0
Highlights 2012 : -43
Shadows 2012 : +43
Whites 2012 : -21
Blacks 2012 : -15
Clarity 2012 : +38
Convert To Grayscale : True
Tone Curve Name : Linear
Tone Curve Name 2012 : Linear
Camera Profile : Adobe Standard
Lens Profile Setup : LensDefaults
Has Settings : True
Has Crop : False
Already Applied : True
Format : image/jpeg
Date Created : 2010:10:02 17:59:23+02:00
Tone Curve : 0, 0, 255, 255
Tone Curve Red : 0, 0, 255, 255
Tone Curve Green : 0, 0, 255, 255
Tone Curve Blue : 0, 0, 255, 255
Tone Curve PV2012 : 0, 0, 255, 255
Tone Curve PV2012 Red : 0, 0, 255, 255
Tone Curve PV2012 Green : 0, 0, 255, 255
Tone Curve PV2012 Blue : 0, 0, 255, 255
Paint Correction What : Correction
Paint Correction Amount : 1.000000
Paint Correction Active : true
Paint Correction Saturation : 0.000000
Paint Correction Sharpness : 1.000000
Paint Correction Brightness : 0.764706
Paint Correction Toning Hue : 240.000000
Paint Correction Toning Saturation : 0.000000
Paint Correction Exposure 2012 : 1.000000
Paint Correction Contrast 2012 : 0.000000
Paint Correction Highlights 2012 : 0.000000
Paint Correction Shadows 2012 : 0.000000
Paint Correction Clarity 2012 : 1.000000
Paint Correction Luminance Noise : 0.000000
Paint Correction Moire : 0.000000
Paint Correction Temperature : 0.000000
Paint Correction Tint : 0.000000
Paint Correction Mask What : Mask/Paint
Paint Correction Mask Value : 0.172414
Paint Correction Mask Radius : 0.066947
Paint Correction Mask Flow : 0.500000
Paint Correction Mask Center Weight : 0.000000
Derived From : Image Width : 300
Image Height : 201
Bits Per Sample : 8
Color Components : 1
Aperture : 2.8
Blue Balance : 0.721127
Image Size : 300x201
Megapixels : 0.060
Red Balance : 0.536688
Scale Factor To 35 mm Equivalent : 1.5
Shutter Speed : 1/500
Circle Of Confusion : 0.021 mm
Depth Of Field : 0.26 m (1.02 - 1.28 m)
Field Of View : 53.4 deg (1.14 m)
Focal Length : 24.0 mm (35 mm equivalent: 35.0 mm)
Hyperfocal Distance : 9.98 m
Light Value : 7.9
Lens ID : 24.0mm f/2.8