Uber Exif Photo
By-line : Patrik Nellhag
Copyright Notice : Patrik Nellhag
Copyright Flag : True
URL : www.nellhag.com
Make : Leica Camera AG
Camera Model Name : M9 Digital Camera
Software : Adobe Photoshop Lightroom 4.0 (Macintosh)
Modify Date : 2012:08:06 20:51:02
Artist : Patrik Nellhag
Copyright : Patrik Nellhag
Exposure Time : 1/500
F Number : 4.8
Exposure Program : Aperture-priority AE
ISO : 160
Date/Time Original : 2012:08:02 15:24:23
Create Date : 2012:08:02 15:24:23
Shutter Speed Value : 1/500
Aperture Value : 4.8
Exposure Compensation : 0
Max Aperture Value : 1.0
Metering Mode : Center-weighted average
Light Source : Unknown
Flash : No Flash
Contrast : Normal
Sharpening : Normal
Saturation : Normal
White Balance : Auto
JPEG Quality : Fine
WB RGB Levels : 0.4995121951 1 0.7241226907
User Profile : Off
JPEG Size : 5216x3472
Firmware Version : 1.176
Base ISO : 160
Sensor Width : 5270
Sensor Height : 3516
Sensor Bit Depth : 14
Camera Temperature : 33 C
Lens Type : Uncoded lens
Approximate F Number : 4.5
Measured LV : 5.45
External Sensor Brightness Value : 5.02
Scene Type : Directly photographed
Exposure Mode : Manual
Digital Zoom Ratio : 0
Scene Capture Type : Standard
Serial Number : 3978723
Maker Note Safety : Safe
Creator Tool : Adobe Photoshop Lightroom 4.0 (Macintosh)
Rating : 5
Date Created : 2012:08:02 15:24:23
Format : image/jpeg
Marked : True
Web Statement : www.nellhag.com
Version : 7.0
Process Version : 6.7
Color Temperature : 4200
Tint : -6
Exposure : 0.00
Shadows : 5
Brightness : +50
Sharpness : 70
Luminance Smoothing : 27
Color Noise Reduction : 25
Vignette Amount : 0
Shadow Tint : 0
Red Hue : 0
Red Saturation : 0
Green Hue : 0
Green Saturation : 0
Blue Hue : 0
Blue Saturation : 0
Fill Light : 0
Highlight Recovery : 0
Clarity : 0
Defringe : 0
Gray Mixer Red : -10
Gray Mixer Orange : -19
Gray Mixer Yellow : -22
Gray Mixer Green : -26
Gray Mixer Aqua : -18
Gray Mixer Blue : +9
Gray Mixer Purple : +15
Gray Mixer Magenta : +4
Split Toning Shadow Hue : 0
Split Toning Shadow Saturation : 0
Split Toning Highlight Hue : 0
Split Toning Highlight Saturation : 0
Split Toning Balance : 0
Parametric Shadows : 0
Parametric Darks : 0
Parametric Lights : 0
Parametric Highlights : 0
Parametric Shadow Split : 25
Parametric Midtone Split : 50
Parametric Highlight Split : 75
Sharpen Radius : +1.0
Sharpen Detail : 25
Sharpen Edge Masking : 72
Post Crop Vignette Amount : 0
Grain Amount : 0
Luminance Noise Reduction Detail : 50
Color Noise Reduction Detail : 50
Luminance Noise Reduction Contrast : 0
Lens Profile Enable : 0
Lens Manual Distortion Amount : 0
Perspective Vertical : 0
Perspective Horizontal : 0
Perspective Rotate : 0.0
Perspective Scale : 100
Auto Lateral CA : 0
Exposure 2012 : 0.00
Contrast 2012 : 0
Highlights 2012 : 0
Shadows 2012 : +56
Whites 2012 : -66
Blacks 2012 : 0
Clarity 2012 : +3
Convert To Grayscale : True
Tone Curve Name : Linear
Tone Curve Name 2012 : Linear
Camera Profile : Adobe Standard
Lens Profile Setup : LensDefaults
Has Settings : True
Crop Top : 0.136524
Crop Left : 0
Crop Bottom : 1
Crop Right : 0.863476
Crop Angle : 0
Crop Constrain To Warp : 0
Crop Width : 1000
Crop Height : 665
Crop Unit : pixels
Has Crop : True
Already Applied : True
Creator : Patrik Nellhag
Rights : Patrik Nellhag
Usage Terms : Copyrighted
Creator Work Email : patrik@nellhag.com
Creator Address : www.nellhag.com
Creator Work URL : www.nellhag.com
Tone Curve : 0, 0, 255, 255
Tone Curve Red : 0, 0, 255, 255
Tone Curve Green : 0, 0, 255, 255
Tone Curve Blue : 0, 0, 255, 255
Tone Curve PV2012 : 0, 0, 255, 255
Tone Curve PV2012 Red : 0, 0, 255, 255
Tone Curve PV2012 Green : 0, 0, 255, 255
Tone Curve PV2012 Blue : 0, 0, 255, 255
Paint Correction What : Correction
Paint Correction Amount : 1.000000
Paint Correction Active : true
Paint Correction Saturation : 0.000000
Paint Correction Sharpness : 0.000000
Paint Correction Brightness : 0.000000
Paint Correction Toning Hue : 240.000000
Paint Correction Toning Saturation : 0.000000
Paint Correction Exposure 2012 : 0.050000
Paint Correction Contrast 2012 : 0.000000
Paint Correction Highlights 2012 : 0.000000
Paint Correction Shadows 2012 : 0.000000
Paint Correction Clarity 2012 : 0.528090
Paint Correction Luminance Noise : 0.000000
Paint Correction Moire : 0.000000
Paint Correction Temperature : 0.000000
Paint Correction Tint : 0.000000
Paint Correction Mask What : Mask/Paint
Paint Correction Mask Value : 1.000000
Paint Correction Mask Radius : 0.058496
Paint Correction Mask Flow : 1.000000
Paint Correction Mask Center Weight : 0.000000
Image Width : 300
Image Height : 200
Bits Per Sample : 8
Color Components : 1
Aperture : 4.8
Blue Balance : 0.724123
Image Size : 300x200
Lens ID : Uncoded lens
Megapixels : 0.060
Red Balance : 0.499512
Scale Factor To 35 mm Equivalent : 17.5
Shutter Speed : 1/500
Circle Of Confusion : 0.002 mm
Light Value : 12.8