Uber Exif Photo
By-line : Patrik Nellhag
Copyright Notice : Patrik Nellhag
Copyright Flag : True
URL : www.nellhag.com
Make : Leica Camera AG
Camera Model Name : M8 Digital Camera
Software : 2.005
Modify Date : 2011:07:26 09:40:58
Copyright : Patrik Nellhag
Exposure Time : 1/350
F Number : 3.4
Exposure Program : Aperture-priority AE
ISO : 160
Sensitivity Type : Unknown
Date/Time Original : 2011:06:04 19:48:59
Create Date : 2011:06:04 19:48:59
Shutter Speed Value : 1/350
Aperture Value : 3.4
Exposure Compensation : 0
Max Aperture Value : 1.0
Metering Mode : Center-weighted average
Light Source : Unknown
Scene Type : Directly photographed
White Balance : Auto
Digital Zoom Ratio : 0
Scene Capture Type : Standard
Serial Number : 3329524
Date/Time Digitized : 2011:06:04 19:48:59+02:00
Exif Image Width : 1000
Exif Image Height : 673
Creator Tool : Adobe Photoshop Lightroom 3.3
Marked : True
Web Statement : www.nellhag.com
Version : 6.3
Process Version : 5.7
Color Temperature : 3600
Tint : +66
Exposure : 0.00
Shadows : 20
Brightness : +31
Contrast : +37
Sharpness : 27
Luminance Smoothing : 68
Color Noise Reduction : 25
Chromatic Aberration R : -100
Chromatic Aberration B : 0
Vignette Amount : -75
Vignette Midpoint : 25
Shadow Tint : -39
Red Hue : +22
Red Saturation : -91
Green Hue : -85
Green Saturation : 0
Blue Hue : -75
Blue Saturation : -64
Fill Light : 0
Highlight Recovery : 0
Clarity : +15
Defringe : 0
Gray Mixer Red : -14
Gray Mixer Orange : -27
Gray Mixer Yellow : -32
Gray Mixer Green : -33
Gray Mixer Aqua : -12
Gray Mixer Blue : +32
Gray Mixer Purple : +33
Gray Mixer Magenta : +10
Split Toning Shadow Hue : 0
Split Toning Shadow Saturation : 0
Split Toning Highlight Hue : 0
Split Toning Highlight Saturation : 0
Split Toning Balance : 0
Parametric Shadows : +10
Parametric Darks : -20
Parametric Lights : -22
Parametric Highlights : +10
Parametric Shadow Split : 25
Parametric Midtone Split : 50
Parametric Highlight Split : 75
Sharpen Radius : +1.0
Sharpen Detail : 25
Sharpen Edge Masking : 0
Post Crop Vignette Amount : 0
Grain Amount : 0
Luminance Noise Reduction Detail : 50
Color Noise Reduction Detail : 50
Luminance Noise Reduction Contrast : 0
Lens Profile Enable : 0
Lens Manual Distortion Amount : 0
Perspective Vertical : 0
Perspective Horizontal : 0
Perspective Rotate : 0.0
Perspective Scale : 100
Convert To Grayscale : True
Tone Curve Name : Custom
Camera Profile : ACR 3.3
Lens Profile Setup : LensDefaults
Has Settings : True
Crop Top : 0
Crop Left : 0.023135
Crop Bottom : 1
Crop Right : 0.976865
Crop Angle : 1.2679
Crop Constrain To Warp : 0
Crop Width : 1000
Crop Height : 673
Crop Unit : pixels
Has Crop : True
Already Applied : True
Flash Fired : False
Flash Return : No return detection
Flash Mode : Auto
Flash Function : False
Flash Red Eye Mode : False
Usage Terms : Copyrighted
Creator : Patrik Nellhag
Rights : Patrik Nellhag
Creator Work Email : patrik@nellhag.com
Creator Address : www.nellhag.com
Creator Work URL : www.nellhag.com
Tone Curve : 0, 0, 32, 22, 64, 56, 136, 128, 192, 196, 255, 255
Paint Correction What : Correction
Paint Correction Amount : 1.000000
Paint Correction Active : true
Paint Correction Exposure : 0.000000
Paint Correction Saturation : 0.000000
Paint Correction Contrast : 0.000000
Paint Correction Clarity : 0.000000
Paint Correction Sharpness : 0.000000
Paint Correction Brightness : -0.603401
Paint Correction Toning Hue : 0.000000
Paint Correction Toning Saturation : 0.000000
Paint Correction Mask What : Mask/Paint
Paint Correction Mask Value : 1.000000
Paint Correction Mask Radius : 0.132605
Paint Correction Mask Flow : 0.500000
Paint Correction Mask Center Weight : 0.000000
Image Width : 300
Image Height : 202
Bits Per Sample : 8
Color Components : 1
Aperture : 3.4
Image Size : 300x202
Megapixels : 0.061
Scale Factor To 35 mm Equivalent : 5.3
Shutter Speed : 1/350
Flash : Auto, Did not fire
Circle Of Confusion : 0.006 mm
Light Value : 11.3