Uber Exif Photo
Copyright Notice : Patrik Nellhag
Copyright Flag : True
Make : LEICA CAMERA AG
Camera Model Name : LEICA X1
Software : 1.0
Modify Date : 2010:08:08 10:55:26
Copyright : Patrik Nellhag
Exposure Time : 1/1000
F Number : 5.6
Exposure Program : Program AE
ISO : 100
Date/Time Original : 2010:06:07 12:59:27
Create Date : 2010:06:07 12:59:27
Shutter Speed Value : 1/1000
Aperture Value : 5.6
Exposure Compensation : -0.3
Max Aperture Value : 2.8
Subject Distance : 0.57 m
Metering Mode : Multi-segment
Light Source : Unknown
Focal Length : 24.0 mm
Original File Name : L1004691.DNG
Original Directory : 100LEICA
Focus Distance : 0.573 m
Exposure Mode : Unknown (0 1 0 0)
File Index : 4691
Film Mode : Standard
WB RGB Levels : 0.5079365079 1 0.7314285714
Internal Serial Number : 000000000000
Sensing Method : One-chip color area
Custom Rendered : Normal
White Balance : Auto
Digital Zoom Ratio : 1
Focal Length In 35mm Format : 35 mm
Scene Capture Type : Landscape
Contrast : Normal
Saturation : Normal
Sharpness : Normal
Maker Note Safety : Safe
Date/Time Digitized : 2010:06:07 12:59:27+02:00
Exif Image Width : 1000
Exif Image Height : 669
Creator Tool : Adobe Photoshop Lightroom
Serial Number : 000003817117
Lens Info : 24mm f/2.8
Lens : 24.0 mm f/2.8
Marked : True
Version : 5.6.1
Color Temperature : 4750
Tint : +38
Exposure : 0.00
Shadows : 22
Brightness : +41
Luminance Smoothing : 0
Color Noise Reduction : 25
Chromatic Aberration R : 0
Chromatic Aberration B : 0
Vignette Amount : 0
Shadow Tint : 0
Red Hue : 0
Red Saturation : 0
Green Hue : 0
Green Saturation : 0
Blue Hue : 0
Blue Saturation : 0
Fill Light : 20
Highlight Recovery : 10
Clarity : +17
Defringe : 0
Gray Mixer Red : -10
Gray Mixer Orange : -19
Gray Mixer Yellow : -23
Gray Mixer Green : -27
Gray Mixer Aqua : -18
Gray Mixer Blue : +10
Gray Mixer Purple : +16
Gray Mixer Magenta : +4
Split Toning Shadow Hue : 0
Split Toning Shadow Saturation : 0
Split Toning Highlight Hue : 0
Split Toning Highlight Saturation : 0
Split Toning Balance : 0
Parametric Shadows : 0
Parametric Darks : 0
Parametric Lights : 0
Parametric Highlights : 0
Parametric Shadow Split : 25
Parametric Midtone Split : 50
Parametric Highlight Split : 75
Sharpen Radius : +1.2
Sharpen Detail : 20
Sharpen Edge Masking : 70
Post Crop Vignette Amount : 0
Convert To Grayscale : True
Tone Curve Name : Medium Contrast
Camera Profile : Embedded
Has Settings : True
Has Crop : False
Already Applied : True
Flash Fired : True
Flash Return : Return detected
Flash Mode : On
Flash Function : False
Flash Red Eye Mode : True
Rights : Patrik Nellhag
Tone Curve : 0, 0, 32, 22, 64, 56, 128, 128, 192, 196, 255, 255
Paint Correction What : Correction
Paint Correction Amount : 1.000000
Paint Correction Active : true
Paint Correction Exposure : 0.172414
Paint Correction Saturation : 0.000000
Paint Correction Contrast : 0.000000
Paint Correction Clarity : 1.000000
Paint Correction Sharpness : 0.000000
Paint Correction Brightness : 0.000000
Paint Correction Toning Hue : 229.000000
Paint Correction Toning Saturation : 0.000000
Paint Correction Mask What : Mask/Paint
Paint Correction Mask Value : 0.448276
Paint Correction Mask Radius : 0.099790
Paint Correction Mask Flow : 0.500000
Paint Correction Mask Center Weight : 0.000000
Image Width : 300
Image Height : 201
Bits Per Sample : 8
Color Components : 1
Aperture : 5.6
Blue Balance : 0.731429
Image Size : 300x201
Megapixels : 0.060
Red Balance : 0.507937
Scale Factor To 35 mm Equivalent : 1.5
Shutter Speed : 1/1000
Flash : On, Red-eye reduction, Return detected
Circle Of Confusion : 0.021 mm
Depth Of Field : 0.13 m (0.52 - 0.64 m)
Field Of View : 52.5 deg (0.56 m)
Focal Length : 24.0 mm (35 mm equivalent: 35.0 mm)
Hyperfocal Distance : 4.99 m
Light Value : 14.9
Lens ID : 24.0mm f/2.8