Uber Exif Photo
Copyright Notice : Patrik Nellhag
Copyright Flag : True
Make : Leica Camera AG
Camera Model Name : M8 Digital Camera
Software : 2.005
Modify Date : 2010:12:24 23:54:59
Copyright : Patrik Nellhag
Exposure Time : 1/30
F Number : 1.4
Exposure Program : Manual
ISO : 320
Sensitivity Type : Unknown
Date/Time Original : 2010:11:26 22:08:17
Create Date : 2010:11:26 22:08:17
Shutter Speed Value : 1/30
Aperture Value : 1.4
Exposure Compensation : 0
Max Aperture Value : 1.0
Metering Mode : Center-weighted average
Light Source : Unknown
Scene Type : Directly photographed
White Balance : Manual
Digital Zoom Ratio : 0
Scene Capture Type : Standard
Serial Number : 3329524
Date/Time Digitized : 2010:11:26 22:08:17+01:00
Exif Image Width : 1000
Exif Image Height : 673
Creator Tool : Adobe Photoshop Lightroom
Rating : 5
Marked : True
Version : 6.2
Process Version : 5.7
Color Temperature : 6450
Tint : 0
Exposure : +0.90
Shadows : 5
Brightness : +106
Contrast : +45
Sharpness : 25
Luminance Smoothing : 0
Color Noise Reduction : 25
Chromatic Aberration R : 0
Chromatic Aberration B : 0
Vignette Amount : 0
Shadow Tint : 0
Red Hue : 0
Red Saturation : 0
Green Hue : 0
Green Saturation : 0
Blue Hue : 0
Blue Saturation : 0
Fill Light : 7
Highlight Recovery : 100
Clarity : +100
Defringe : 0
Gray Mixer Red : +21
Gray Mixer Orange : +8
Gray Mixer Yellow : -1
Gray Mixer Green : -18
Gray Mixer Aqua : -28
Gray Mixer Blue : -6
Gray Mixer Purple : +16
Gray Mixer Magenta : +23
Split Toning Shadow Hue : 0
Split Toning Shadow Saturation : 0
Split Toning Highlight Hue : 0
Split Toning Highlight Saturation : 0
Split Toning Balance : 0
Parametric Shadows : 0
Parametric Darks : 0
Parametric Lights : 0
Parametric Highlights : 0
Parametric Shadow Split : 25
Parametric Midtone Split : 50
Parametric Highlight Split : 75
Sharpen Radius : +1.0
Sharpen Detail : 25
Sharpen Edge Masking : 0
Post Crop Vignette Amount : -36
Post Crop Vignette Midpoint : 50
Post Crop Vignette Feather : 100
Post Crop Vignette Roundness : 0
Post Crop Vignette Style : Highlight Priority
Post Crop Vignette Highlight Contrast : 0
Grain Amount : 0
Color Noise Reduction Detail : 50
Lens Profile Enable : 0
Lens Manual Distortion Amount : 0
Perspective Vertical : 0
Perspective Horizontal : 0
Perspective Rotate : 0.0
Perspective Scale : 100
Convert To Grayscale : True
Tone Curve Name : Medium Contrast
Camera Profile : Adobe Standard
Lens Profile Setup : LensDefaults
Has Settings : True
Has Crop : False
Already Applied : True
Flash Fired : False
Flash Return : No return detection
Flash Mode : On
Flash Function : False
Flash Red Eye Mode : False
Rights : Patrik Nellhag
Tone Curve : 0, 0, 32, 22, 64, 56, 128, 128, 192, 196, 255, 255
Image Width : 300
Image Height : 202
Bits Per Sample : 8
Color Components : 1
Aperture : 1.4
Image Size : 300x202
Megapixels : 0.061
Scale Factor To 35 mm Equivalent : 5.3
Shutter Speed : 1/30
Flash : On, Did not fire
Circle Of Confusion : 0.006 mm
Light Value : 4.2