Uber Exif Photo
Copyright Notice : Patrik Nellhag
Copyright Flag : True
Make : LEICA CAMERA AG
Camera Model Name : LEICA X1
Software : 1.0
Modify Date : 2010:11:06 17:34:59
Copyright : Patrik Nellhag
Exposure Time : 1/125
F Number : 3.5
Exposure Program : Shutter speed priority AE
ISO : 100
Sensitivity Type : Unknown
Date/Time Original : 2010:10:03 18:16:51
Create Date : 2010:10:03 18:16:51
Shutter Speed Value : 1/125
Aperture Value : 3.5
Exposure Compensation : 0
Max Aperture Value : 2.8
Subject Distance : 4.5 m
Metering Mode : Multi-segment
Light Source : Unknown
Focal Length : 24.0 mm
Original File Name : L1011025.DNG
Original Directory : 101LEICA
Focus Distance : 4.5 m
Exposure Mode : Unknown (2 1 0 0)
File Index : 1025
Film Mode : Standard
WB RGB Levels : 0.585812357 1 0.6826666667
Internal Serial Number : 000000000000
Sensing Method : One-chip color area
Custom Rendered : Normal
White Balance : Auto
Digital Zoom Ratio : 1
Focal Length In 35mm Format : 35 mm
Scene Capture Type : Landscape
Contrast : Normal
Saturation : Normal
Sharpness : Normal
Serial Number : 000003817117
Lens Info : 24mm f/2.8
Lens Model : 24.0 mm f/2.8
Maker Note Safety : Safe
Date/Time Digitized : 2010:10:03 18:16:51+02:00
Exif Image Width : 1000
Exif Image Height : 669
Creator Tool : Adobe Photoshop Lightroom
Rating : 1
Lens : 24.0 mm f/2.8
Approximate Focus Distance : 4.5
Marked : True
Version : 6.2
Process Version : 5.7
Color Temperature : 4100
Tint : +21
Exposure : 0.00
Shadows : 5
Brightness : +50
Luminance Smoothing : 0
Color Noise Reduction : 25
Chromatic Aberration R : 0
Chromatic Aberration B : 0
Vignette Amount : 0
Shadow Tint : 0
Red Hue : 0
Red Saturation : 0
Green Hue : 0
Green Saturation : 0
Blue Hue : 0
Blue Saturation : 0
Fill Light : 0
Highlight Recovery : 0
Clarity : 0
Defringe : 0
Gray Mixer Red : -6
Gray Mixer Orange : -14
Gray Mixer Yellow : -18
Gray Mixer Green : -24
Gray Mixer Aqua : -20
Gray Mixer Blue : +6
Gray Mixer Purple : +13
Gray Mixer Magenta : +5
Split Toning Shadow Hue : 0
Split Toning Shadow Saturation : 0
Split Toning Highlight Hue : 0
Split Toning Highlight Saturation : 0
Split Toning Balance : 0
Parametric Shadows : -11
Parametric Darks : -16
Parametric Lights : +39
Parametric Highlights : -42
Parametric Shadow Split : 25
Parametric Midtone Split : 50
Parametric Highlight Split : 75
Sharpen Radius : +1.0
Sharpen Detail : 25
Sharpen Edge Masking : 0
Post Crop Vignette Amount : 0
Grain Amount : 0
Color Noise Reduction Detail : 50
Lens Profile Enable : 0
Lens Manual Distortion Amount : 0
Perspective Vertical : 0
Perspective Horizontal : 0
Perspective Rotate : 0.0
Perspective Scale : 100
Convert To Grayscale : True
Tone Curve Name : Medium Contrast
Camera Profile : Embedded
Lens Profile Setup : LensDefaults
Has Settings : True
Has Crop : False
Already Applied : True
Flash Fired : False
Flash Return : No return detection
Flash Mode : Off
Flash Function : False
Flash Red Eye Mode : False
Rights : Patrik Nellhag
Tone Curve : 0, 0, 32, 22, 64, 56, 128, 128, 192, 196, 255, 255
Paint Correction What : Correction
Paint Correction Amount : 1.000000
Paint Correction Active : true
Paint Correction Exposure : 0.176471
Paint Correction Saturation : 1.000000
Paint Correction Contrast : 0.000000
Paint Correction Clarity : 0.000000
Paint Correction Sharpness : 0.000000
Paint Correction Brightness : 0.000000
Paint Correction Toning Hue : 230.000000
Paint Correction Toning Saturation : 0.000000
Paint Correction Mask What : Mask/Paint
Paint Correction Mask Value : 1.000000
Paint Correction Mask Radius : 0.060724
Paint Correction Mask Flow : 0.500000
Paint Correction Mask Center Weight : 0.000000
Image Width : 300
Image Height : 201
Bits Per Sample : 8
Color Components : 1
Aperture : 3.5
Blue Balance : 0.682667
Image Size : 300x201
Megapixels : 0.060
Red Balance : 0.585812
Scale Factor To 35 mm Equivalent : 1.5
Shutter Speed : 1/125
Flash : Off, Did not fire
Circle Of Confusion : 0.021 mm
Depth Of Field : 7.35 m (2.88 - 10.24 m)
Field Of View : 54.2 deg (4.60 m)
Focal Length : 24.0 mm (35 mm equivalent: 35.0 mm)
Hyperfocal Distance : 7.99 m
Light Value : 10.6
Lens ID : 24.0mm f/2.8