Uber Exif Photo
Copyright Notice : Patrik Nellhag
Copyright Flag : True
Make : LEICA CAMERA AG
Camera Model Name : LEICA X1
Software : 1.0
Modify Date : 2010:08:08 10:55:36
Copyright : Patrik Nellhag
Exposure Time : 1/80
F Number : 2.8
Exposure Program : Aperture-priority AE
ISO : 100
Date/Time Original : 2010:05:09 14:01:42
Create Date : 2010:05:09 14:01:42
Shutter Speed Value : 1/80
Aperture Value : 2.8
Exposure Compensation : 0
Max Aperture Value : 2.8
Subject Distance : 3 m
Metering Mode : Multi-segment
Light Source : Unknown
Focal Length : 24.0 mm
Original File Name : L1001906.DNG
Original Directory : 100LEICA
Focus Distance : 3 m
Exposure Mode : Aperture-priority AE (1)
File Index : 1906
Film Mode : Standard
WB RGB Levels : 0.6023529412 1 0.6228710462
Internal Serial Number : 000000000000
Sensing Method : One-chip color area
Custom Rendered : Normal
White Balance : Auto
Digital Zoom Ratio : 1
Focal Length In 35mm Format : 35 mm
Scene Capture Type : Landscape
Contrast : Normal
Saturation : Normal
Sharpness : Normal
Maker Note Safety : Safe
Date/Time Digitized : 2010:05:09 14:01:42+02:00
Exif Image Width : 1000
Exif Image Height : 669
Creator Tool : Adobe Photoshop Lightroom
Serial Number : 000003817117
Lens Info : 24mm f/2.8
Lens : 24.0 mm f/2.8
Marked : True
Version : 5.6.1
Color Temperature : 3900
Tint : +27
Exposure : 0.00
Shadows : 7
Brightness : +41
Luminance Smoothing : 0
Color Noise Reduction : 25
Chromatic Aberration R : 0
Chromatic Aberration B : 0
Vignette Amount : 0
Shadow Tint : 0
Red Hue : 0
Red Saturation : 0
Green Hue : 0
Green Saturation : 0
Blue Hue : 0
Blue Saturation : 0
Fill Light : 20
Highlight Recovery : 10
Clarity : +17
Defringe : 0
Gray Mixer Red : -10
Gray Mixer Orange : -19
Gray Mixer Yellow : -23
Gray Mixer Green : -27
Gray Mixer Aqua : -18
Gray Mixer Blue : +10
Gray Mixer Purple : +16
Gray Mixer Magenta : +4
Split Toning Shadow Hue : 0
Split Toning Shadow Saturation : 0
Split Toning Highlight Hue : 0
Split Toning Highlight Saturation : 0
Split Toning Balance : 0
Parametric Shadows : 0
Parametric Darks : 0
Parametric Lights : 0
Parametric Highlights : 0
Parametric Shadow Split : 25
Parametric Midtone Split : 50
Parametric Highlight Split : 75
Sharpen Radius : +1.2
Sharpen Detail : 20
Sharpen Edge Masking : 70
Post Crop Vignette Amount : 0
Convert To Grayscale : True
Tone Curve Name : Medium Contrast
Camera Profile : ACR 4.4
Has Settings : True
Has Crop : False
Already Applied : True
Flash Fired : False
Flash Return : No return detection
Flash Mode : Off
Flash Function : False
Flash Red Eye Mode : False
Rights : Patrik Nellhag
Tone Curve : 0, 0, 32, 22, 64, 56, 128, 128, 192, 196, 255, 255
Paint Correction What : Correction
Paint Correction Amount : 1.000000
Paint Correction Active : true
Paint Correction Exposure : 0.218391
Paint Correction Saturation : 0.000000
Paint Correction Contrast : 0.000000
Paint Correction Clarity : 1.000000
Paint Correction Sharpness : 0.000000
Paint Correction Brightness : 0.000000
Paint Correction Toning Hue : 229.000000
Paint Correction Toning Saturation : 0.000000
Paint Correction Mask What : Mask/Paint
Paint Correction Mask Value : 0.448276
Paint Correction Mask Radius : 0.031953
Paint Correction Mask Flow : 0.500000
Paint Correction Mask Center Weight : 0.000000
Image Width : 300
Image Height : 201
Bits Per Sample : 8
Color Components : 1
Aperture : 2.8
Blue Balance : 0.622871
Image Size : 300x201
Megapixels : 0.060
Red Balance : 0.602353
Scale Factor To 35 mm Equivalent : 1.5
Shutter Speed : 1/80
Flash : Off, Did not fire
Circle Of Confusion : 0.021 mm
Depth Of Field : 1.96 m (2.31 - 4.27 m)
Field Of View : 54.1 deg (3.06 m)
Focal Length : 24.0 mm (35 mm equivalent: 35.0 mm)
Hyperfocal Distance : 9.98 m
Light Value : 9.3
Lens ID : 24.0mm f/2.8