Uber Exif Photo
Copyright Notice : Patrik Nellhag
Copyright Flag : True
Make : LEICA CAMERA AG
Camera Model Name : LEICA X1
Software : 1.0
Modify Date : 2010:08:16 11:09:28
Copyright : Patrik Nellhag
Exposure Time : 1/400
F Number : 5.6
Exposure Program : Program AE
ISO : 100
Date/Time Original : 2010:07:29 13:21:19
Create Date : 2010:07:29 13:21:19
Shutter Speed Value : 1/400
Aperture Value : 5.6
Exposure Compensation : 0
Max Aperture Value : 2.8
Subject Distance : 8.5 m
Metering Mode : Multi-segment
Light Source : Unknown
Focal Length : 24.0 mm
Original File Name : L1007561.DNG
Original Directory : 100LEICA
Focus Distance : 8.5 m
Exposure Mode : Program AE
File Index : 7561
Film Mode : Standard
WB RGB Levels : 0.4951644101 1 0.7507331378
Internal Serial Number : 000000000000
Sensing Method : One-chip color area
Custom Rendered : Normal
White Balance : Auto
Digital Zoom Ratio : 1
Focal Length In 35mm Format : 35 mm
Scene Capture Type : Landscape
Contrast : Normal
Saturation : Normal
Sharpness : Normal
Maker Note Safety : Safe
Profile Description : Adobe RGB (1998)
Date/Time Digitized : 2010:07:29 13:21:19+02:00
Exif Image Width : 1000
Exif Image Height : 669
Creator Tool : Adobe Photoshop Lightroom
Serial Number : 000003817117
Lens Info : 24mm f/2.8
Lens : 24.0 mm f/2.8
Marked : True
Version : 5.6.1
Color Temperature : 4900
Tint : +39
Exposure : 0.00
Shadows : 32
Brightness : +31
Luminance Smoothing : 0
Color Noise Reduction : 25
Chromatic Aberration R : 0
Chromatic Aberration B : 0
Vignette Amount : 0
Shadow Tint : 0
Red Hue : 0
Red Saturation : 0
Green Hue : 0
Green Saturation : 0
Blue Hue : 0
Blue Saturation : 0
Fill Light : 0
Vibrance : 0
Highlight Recovery : 8
Clarity : 0
Defringe : 0
Hue Adjustment Red : 0
Hue Adjustment Orange : 0
Hue Adjustment Yellow : 0
Hue Adjustment Green : 0
Hue Adjustment Aqua : 0
Hue Adjustment Blue : 0
Hue Adjustment Purple : 0
Hue Adjustment Magenta : 0
Saturation Adjustment Red : 0
Saturation Adjustment Orange : 0
Saturation Adjustment Yellow : 0
Saturation Adjustment Green : 0
Saturation Adjustment Aqua : 0
Saturation Adjustment Blue : 0
Saturation Adjustment Purple : 0
Saturation Adjustment Magenta : 0
Luminance Adjustment Red : 0
Luminance Adjustment Orange : 0
Luminance Adjustment Yellow : 0
Luminance Adjustment Green : 0
Luminance Adjustment Aqua : 0
Luminance Adjustment Blue : 0
Luminance Adjustment Purple : 0
Luminance Adjustment Magenta : 0
Split Toning Shadow Hue : 0
Split Toning Shadow Saturation : 0
Split Toning Highlight Hue : 0
Split Toning Highlight Saturation : 0
Split Toning Balance : 0
Parametric Shadows : 0
Parametric Darks : 0
Parametric Lights : 0
Parametric Highlights : 0
Parametric Shadow Split : 25
Parametric Midtone Split : 50
Parametric Highlight Split : 75
Sharpen Radius : +1.0
Sharpen Detail : 25
Sharpen Edge Masking : 0
Post Crop Vignette Amount : -29
Post Crop Vignette Midpoint : 50
Post Crop Vignette Feather : 50
Post Crop Vignette Roundness : 0
Convert To Grayscale : False
Tone Curve Name : Medium Contrast
Camera Profile : Embedded
Has Settings : True
Has Crop : False
Already Applied : True
Flash Fired : False
Flash Return : No return detection
Flash Mode : Off
Flash Function : False
Flash Red Eye Mode : False
Rights : Patrik Nellhag
Tone Curve : 0, 0, 32, 22, 64, 56, 128, 128, 192, 196, 255, 255
Paint Correction What : Correction
Paint Correction Amount : 1.000000
Paint Correction Active : true
Paint Correction Exposure : 0.000000
Paint Correction Saturation : 1.000000
Paint Correction Contrast : 0.000000
Paint Correction Clarity : 0.000000
Paint Correction Sharpness : 0.000000
Paint Correction Brightness : 0.000000
Paint Correction Toning Hue : 240.000000
Paint Correction Toning Saturation : 0.000000
Paint Correction Mask What : Mask/Paint
Paint Correction Mask Value : 1.000000
Paint Correction Mask Radius : 0.123048
Paint Correction Mask Flow : 0.200000
Paint Correction Mask Center Weight : 0.000000
Image Width : 300
Image Height : 201
Bits Per Sample : 8
Color Components : 3
Aperture : 5.6
Blue Balance : 0.750733
Image Size : 300x201
Megapixels : 0.060
Red Balance : 0.495164
Scale Factor To 35 mm Equivalent : 1.5
Shutter Speed : 1/400
Flash : Off, Did not fire
Circle Of Confusion : 0.021 mm
Depth Of Field : inf (3.15 m - inf)
Field Of View : 54.3 deg (8.72 m)
Focal Length : 24.0 mm (35 mm equivalent: 35.0 mm)
Hyperfocal Distance : 4.99 m
Light Value : 13.6
Lens ID : 24.0mm f/2.8