Uber Exif Photo
Keywords : Port Adelaide, Port River, boats, landscape, rubbish
Make : SONY
Camera Model Name : DSC-R1
Modify Date : 2010:09:13 18:46:02
Exposure Time : 1/30
F Number : 9.0
Exposure Program : Shutter speed priority AE
ISO : 400
Sensitivity Type : Unknown
Date/Time Original : 2010:08:31 17:15:06
Create Date : 2010:08:31 17:15:06
Shutter Speed Value : 1/30
Aperture Value : 9.0
Exposure Compensation : -0.3
Max Aperture Value : 2.8
Metering Mode : Multi-segment
Light Source : Unknown
Focal Length : 52.5 mm
Scene Type : Directly photographed
Custom Rendered : Normal
Exposure Mode : Manual
White Balance : Auto
Scene Capture Type : Standard
Contrast : Normal
Saturation : Normal
Sharpness : Normal
Lens Info : 14.3-71.5mm f/2.8-4.8
Lens Model : 14.3-71.5 mm f/2.8-4.8
Profile Description : sRGB IEC61966-2.1
Date/Time Digitized : 2010:08:31 17:15:06+09:30
Exif Image Width : 1000
Exif Image Height : 704
Creator Tool : Adobe Photoshop Lightroom
Lens : 14.3-71.5 mm f/2.8-4.8
Version : 6.2
Process Version : 5.7
Color Temperature : 6091
Tint : +13
Exposure : 0.00
Shadows : 9
Brightness : +27
Luminance Smoothing : 0
Color Noise Reduction : 25
Chromatic Aberration R : 0
Chromatic Aberration B : 0
Vignette Amount : 0
Shadow Tint : -7
Red Hue : +14
Red Saturation : 0
Green Hue : -20
Green Saturation : -43
Blue Hue : 0
Blue Saturation : 0
Fill Light : 6
Vibrance : +25
Highlight Recovery : 51
Clarity : +23
Defringe : 0
Hue Adjustment Red : 0
Hue Adjustment Orange : 0
Hue Adjustment Yellow : 0
Hue Adjustment Green : 0
Hue Adjustment Aqua : 0
Hue Adjustment Blue : 0
Hue Adjustment Purple : 0
Hue Adjustment Magenta : 0
Saturation Adjustment Red : 0
Saturation Adjustment Orange : 0
Saturation Adjustment Yellow : +21
Saturation Adjustment Green : 0
Saturation Adjustment Aqua : 0
Saturation Adjustment Blue : 0
Saturation Adjustment Purple : 0
Saturation Adjustment Magenta : 0
Luminance Adjustment Red : 0
Luminance Adjustment Orange : 0
Luminance Adjustment Yellow : +42
Luminance Adjustment Green : 0
Luminance Adjustment Aqua : 0
Luminance Adjustment Blue : 0
Luminance Adjustment Purple : 0
Luminance Adjustment Magenta : 0
Split Toning Shadow Hue : 0
Split Toning Shadow Saturation : 0
Split Toning Highlight Hue : 0
Split Toning Highlight Saturation : 0
Split Toning Balance : 0
Parametric Shadows : -52
Parametric Darks : -31
Parametric Lights : +70
Parametric Highlights : +100
Parametric Shadow Split : 25
Parametric Midtone Split : 50
Parametric Highlight Split : 75
Sharpen Radius : +1.9
Sharpen Detail : 25
Sharpen Edge Masking : 0
Post Crop Vignette Amount : -48
Post Crop Vignette Midpoint : 32
Post Crop Vignette Feather : 50
Post Crop Vignette Roundness : 0
Post Crop Vignette Style : Highlight Priority
Post Crop Vignette Highlight Contrast : 0
Grain Amount : 0
Color Noise Reduction Detail : 50
Lens Profile Enable : 1
Lens Manual Distortion Amount : 0
Perspective Vertical : 0
Perspective Horizontal : 0
Perspective Rotate : 0.0
Perspective Scale : 100
Convert To Grayscale : False
Tone Curve Name : Medium Contrast
Camera Profile : Adobe Standard
Lens Profile Setup : Custom
Lens Profile Name : Adobe (Sony DT 18-200mm f/3.5-6.3)
Lens Profile Filename : DSLR-A700 (Sony DT 18-200mm f3.5-6.3) - RAW.lcp
Lens Profile Distortion Scale : 100
Lens Profile Chromatic Aberration Scale : 100
Lens Profile Vignetting Scale : 100
Has Settings : True
Crop Top : 0
Crop Left : 0.052882
Crop Bottom : 1
Crop Right : 1
Crop Angle : 0
Crop Constrain To Warp : 0
Crop Width : 1000
Crop Height : 704
Crop Unit : pixels
Has Crop : True
Already Applied : True
Flash Fired : False
Flash Return : No return detection
Flash Mode : Off
Flash Function : False
Flash Red Eye Mode : False
Subject : Port Adelaide, Port River, boats, landscape, rubbish
Tone Curve : 0, 0, 32, 22, 64, 56, 128, 128, 192, 196, 255, 255
Image Width : 300
Image Height : 211
Bits Per Sample : 8
Color Components : 3
Aperture : 9.0
Image Size : 300x211
Megapixels : 0.063
Shutter Speed : 1/30
Flash : Off, Did not fire
Light Value : 9.2
Lens ID : 14.3-71.5mm f/2.8-4.8