Uber Exif Photo
Keywords : 50mm, ASPH, Leica, M9, Oyne, Summilux, westhall
Make : Leica Camera AG
Camera Model Name : M9 Digital Camera
Orientation : Horizontal (normal)
Software : Adobe Photoshop CS5 Windows
Modify Date : 2011:07:08 10:16:29
Maker Note Safety : Safe
Exposure Time : 1/500
F Number : 1.4
Exposure Program : Manual
ISO : 160
Sensitivity Type : Unknown
Date/Time Original : 2011:07:07 20:54:33
Create Date : 2011:07:07 20:54:33
Shutter Speed Value : 1/500
Aperture Value : 1.4
Exposure Compensation : 0
Max Aperture Value : 1.4
Metering Mode : Center-weighted average
Light Source : Unknown
Focal Length : 50.0 mm
Color Space : sRGB
Exif Image Width : 1500
Exif Image Height : 1060
Scene Type : Directly photographed
Exposure Mode : Manual
White Balance : Auto
Digital Zoom Ratio : 0
Focal Length In 35mm Format : 50 mm
Scene Capture Type : Standard
Serial Number : 3973621
Lens Model : Leica Summilux-M 50mm f/1.4 ASPH.
Profile Description : sRGB IEC61966-2.1
Creator Tool : Adobe Photoshop CS5 Windows
Rating : 0
Lens : Leica Summilux-M 50mm f/1.4 ASPH.
Raw File Name : L1000403.DNG
Version : 6.3
Process Version : 5.7
Color Temperature : 5100
Tint : +11
Exposure : 0.00
Shadows : 0
Brightness : +63
Contrast : +10
Saturation : 0
Sharpness : 65
Luminance Smoothing : 0
Color Noise Reduction : 25
Chromatic Aberration R : 0
Chromatic Aberration B : 0
Vignette Amount : 0
Shadow Tint : 0
Red Hue : 0
Red Saturation : 0
Green Hue : 0
Green Saturation : 0
Blue Hue : 0
Blue Saturation : 0
Fill Light : 40
Vibrance : +10
Highlight Recovery : 25
Clarity : +20
Defringe : 0
Hue Adjustment Red : 0
Hue Adjustment Orange : 0
Hue Adjustment Yellow : 0
Hue Adjustment Green : 0
Hue Adjustment Aqua : 0
Hue Adjustment Blue : 0
Hue Adjustment Purple : 0
Hue Adjustment Magenta : 0
Saturation Adjustment Red : 0
Saturation Adjustment Orange : 0
Saturation Adjustment Yellow : 0
Saturation Adjustment Green : 0
Saturation Adjustment Aqua : 0
Saturation Adjustment Blue : 0
Saturation Adjustment Purple : 0
Saturation Adjustment Magenta : 0
Luminance Adjustment Red : 0
Luminance Adjustment Orange : 0
Luminance Adjustment Yellow : 0
Luminance Adjustment Green : 0
Luminance Adjustment Aqua : 0
Luminance Adjustment Blue : 0
Luminance Adjustment Purple : 0
Luminance Adjustment Magenta : 0
Split Toning Shadow Hue : 0
Split Toning Shadow Saturation : 0
Split Toning Highlight Hue : 0
Split Toning Highlight Saturation : 0
Split Toning Balance : 0
Parametric Shadows : 0
Parametric Darks : 0
Parametric Lights : 0
Parametric Highlights : 0
Parametric Shadow Split : 25
Parametric Midtone Split : 50
Parametric Highlight Split : 75
Sharpen Radius : +1.4
Sharpen Detail : 15
Sharpen Edge Masking : 55
Post Crop Vignette Amount : 0
Grain Amount : 0
Color Noise Reduction Detail : 50
Lens Profile Enable : 0
Lens Manual Distortion Amount : 0
Perspective Vertical : 0
Perspective Horizontal : 0
Perspective Rotate : 0.0
Perspective Scale : 100
Convert To Grayscale : False
Tone Curve Name : Strong Contrast
Camera Profile : Adobe Standard
Lens Profile Setup : LensDefaults
Has Settings : True
Has Crop : False
Already Applied : True
Format : image/jpeg
Date Created : 2011:07:07 20:54:33
Color Mode : RGB
ICC Profile Name : sRGB IEC61966-2.1
Photometric Interpretation : RGB
Samples Per Pixel : 3
Tone Curve : 0, 0, 32, 16, 64, 50, 128, 128, 192, 202, 255, 255
Subject : 50mm, ASPH, Leica, M9, Oyne, Summilux, westhall
Flash Fired : False
Flash Return : No return detection
Flash Mode : Unknown
Flash Function : False
Flash Red Eye Mode : False
Hierarchical Subject : Other Keywords|Summilux, Other Keywords|M9, Other Keywords|Leica, Other Keywords|ASPH, Other Keywords|50mm, Places|westhall, Places|Oyne
Image Width : 300
Image Height : 212
Bits Per Sample : 8
Color Components : 3
Aperture : 1.4
Image Size : 300x212
Megapixels : 0.064
Scale Factor To 35 mm Equivalent : 1.0
Shutter Speed : 1/500
Flash : No Flash
Circle Of Confusion : 0.030 mm
Field Of View : 39.6 deg
Focal Length : 50.0 mm (35 mm equivalent: 50.0 mm)
Hyperfocal Distance : 59.43 m
Light Value : 9.3
Lens ID : Summilux-M 50mm f/1.4 ASPH.