Uber Exif Photo
Keywords : 28mm, Elmarit, Landscape, Leica, M9, Towiemore, Winter
Make : Leica Camera AG
Camera Model Name : M9 Digital Camera
Orientation : Horizontal (normal)
Software : Adobe Photoshop CS5 Windows
Modify Date : 2011:02:22 15:33:09
Maker Note Safety : Safe
Exposure Time : 1/500
F Number : 4.8
Exposure Program : Manual
ISO : 320
Sensitivity Type : Unknown
Date/Time Original : 2011:02:22 14:19:39
Create Date : 2011:02:22 14:19:39
Shutter Speed Value : 1/500
Aperture Value : 4.8
Exposure Compensation : 0
Max Aperture Value : 2.8
Metering Mode : Center-weighted average
Light Source : Unknown
Flash : No Flash
Focal Length : 28.0 mm
Color Space : Uncalibrated
Exif Image Width : 1500
Exif Image Height : 1060
Scene Type : Directly photographed
Exposure Mode : Manual
White Balance : Auto
Digital Zoom Ratio : 0
Focal Length In 35mm Format : 28 mm
Scene Capture Type : Standard
Serial Number : 3973621
Lens Model : Leica Elmarit-M 28mm f/2.8 ASPH.
Profile Description : Adobe RGB (1998)
Creator Tool : Adobe Photoshop CS5 Windows
Rating : 5
Lens : Leica Elmarit-M 28mm f/2.8 ASPH.
Format : image/jpeg
Raw File Name : L1000067.DNG
Version : 6.3
Process Version : 5.7
Color Temperature : 5050
Tint : +12
Exposure : 0.00
Shadows : 2
Brightness : +46
Contrast : +25
Sharpness : 65
Luminance Smoothing : 0
Color Noise Reduction : 25
Chromatic Aberration R : 0
Chromatic Aberration B : 0
Vignette Amount : 0
Shadow Tint : 0
Red Hue : 0
Red Saturation : 0
Green Hue : 0
Green Saturation : 0
Blue Hue : 0
Blue Saturation : 0
Fill Light : 25
Highlight Recovery : 40
Clarity : +30
Defringe : 0
Gray Mixer Red : 0
Gray Mixer Orange : 0
Gray Mixer Yellow : 0
Gray Mixer Green : 0
Gray Mixer Aqua : 0
Gray Mixer Blue : 0
Gray Mixer Purple : 0
Gray Mixer Magenta : 0
Split Toning Shadow Hue : 28
Split Toning Shadow Saturation : 17
Split Toning Highlight Hue : 0
Split Toning Highlight Saturation : 0
Split Toning Balance : 0
Parametric Shadows : 0
Parametric Darks : 0
Parametric Lights : 0
Parametric Highlights : 0
Parametric Shadow Split : 25
Parametric Midtone Split : 50
Parametric Highlight Split : 75
Sharpen Radius : +1.4
Sharpen Detail : 15
Sharpen Edge Masking : 55
Post Crop Vignette Amount : 0
Grain Amount : 0
Color Noise Reduction Detail : 50
Lens Profile Enable : 0
Lens Manual Distortion Amount : 0
Perspective Vertical : 0
Perspective Horizontal : 0
Perspective Rotate : 0.0
Perspective Scale : 100
Convert To Grayscale : True
Tone Curve Name : Strong Contrast
Camera Profile : Adobe Standard
Lens Profile Setup : LensDefaults
Has Settings : True
Has Crop : False
Already Applied : True
Color Mode : RGB
ICC Profile Name : Adobe RGB (1998)
Date Created : 2011:02:22 14:19:39
Hierarchical Subject : Places|Towiemore, Other Keywords|28mm, Other Keywords|Elmarit, Other Keywords|Landscape, Other Keywords|Leica, Other Keywords|M9, Other Keywords|Winter
Subject : 28mm, Elmarit, Landscape, Leica, M9, Towiemore, Winter
Tone Curve : 0, 0, 32, 16, 64, 50, 128, 128, 192, 202, 255, 255
Image Width : 300
Image Height : 212
Bits Per Sample : 8
Color Components : 3
Aperture : 4.8
Image Size : 300x212
Megapixels : 0.064
Scale Factor To 35 mm Equivalent : 1.0
Shutter Speed : 1/500
Circle Of Confusion : 0.030 mm
Field Of View : 65.5 deg
Focal Length : 28.0 mm (35 mm equivalent: 28.0 mm)
Hyperfocal Distance : 5.44 m
Light Value : 11.8
Lens ID : Elmarit-M 28mm f/2.8 ASPH.