Uber Exif Photo
By-line : Stuart Fraser
Keywords : 28mm, Amara, Bennachie, elmarit, leica, m8, Nature, Oyne, Places, snow, westhall, winter
Copyright Notice : Copyright 2010 Stuart Fraser
Copyright Flag : True
Make : Leica Camera AG
Camera Model Name : M8 Digital Camera
Orientation : Horizontal (normal)
Software : Adobe Photoshop CS5 Windows
Modify Date : 2010:12:06 13:42:51
Artist : Stuart Fraser
Copyright : Copyright 2010 Stuart Fraser
Exposure Time : 1/1000
F Number : 5.7
Exposure Program : Manual
ISO : 160
Sensitivity Type : Unknown
Date/Time Original : 2010:12:02 13:52:44
Create Date : 2010:12:02 13:52:44
Shutter Speed Value : 1/1000
Aperture Value : 5.7
Exposure Compensation : 0
Max Aperture Value : 2.8
Metering Mode : Center-weighted average
Light Source : Unknown
Flash : Off, Did not fire
Focal Length : 28.0 mm
Color Space : Uncalibrated
Exif Image Width : 1220
Exif Image Height : 1500
Scene Type : Directly photographed
White Balance : Auto
Digital Zoom Ratio : 0
Focal Length In 35mm Format : 38 mm
Scene Capture Type : Standard
Serial Number : 3332442
Lens Model : Leica Elmarit-M 28mm f/2.8 ASPH.
Rating : 0
Creator Tool : Adobe Photoshop CS5 Windows
Lens : Leica Elmarit-M 28mm f/2.8 ASPH.
Marked : True
Format : image/jpeg
Color Mode : RGB
ICC Profile Name : Adobe RGB (1998)
Date Created : 2010:12:02 13:52:44
Raw File Name : L1000461.DNG
Version : 6.2
Process Version : 5.7
Color Temperature : 5800
Tint : +5
Exposure : +0.50
Shadows : 2
Brightness : +15
Contrast : +50
Saturation : 0
Sharpness : 65
Luminance Smoothing : 0
Color Noise Reduction : 25
Chromatic Aberration R : 0
Chromatic Aberration B : 0
Vignette Amount : 0
Shadow Tint : 0
Red Hue : 0
Red Saturation : 0
Green Hue : 0
Green Saturation : 0
Blue Hue : 0
Blue Saturation : 0
Fill Light : 24
Vibrance : +15
Highlight Recovery : 0
Clarity : +20
Defringe : 0
Hue Adjustment Red : 0
Hue Adjustment Orange : 0
Hue Adjustment Yellow : 0
Hue Adjustment Green : 0
Hue Adjustment Aqua : 0
Hue Adjustment Blue : 0
Hue Adjustment Purple : 0
Hue Adjustment Magenta : 0
Saturation Adjustment Red : 0
Saturation Adjustment Orange : 0
Saturation Adjustment Yellow : 0
Saturation Adjustment Green : 0
Saturation Adjustment Aqua : 0
Saturation Adjustment Blue : 0
Saturation Adjustment Purple : 0
Saturation Adjustment Magenta : 0
Luminance Adjustment Red : 0
Luminance Adjustment Orange : 0
Luminance Adjustment Yellow : 0
Luminance Adjustment Green : 0
Luminance Adjustment Aqua : 0
Luminance Adjustment Blue : 0
Luminance Adjustment Purple : 0
Luminance Adjustment Magenta : 0
Split Toning Shadow Hue : 0
Split Toning Shadow Saturation : 0
Split Toning Highlight Hue : 0
Split Toning Highlight Saturation : 0
Split Toning Balance : 0
Parametric Shadows : 0
Parametric Darks : 0
Parametric Lights : 0
Parametric Highlights : 0
Parametric Shadow Split : 25
Parametric Midtone Split : 50
Parametric Highlight Split : 75
Sharpen Radius : +1.4
Sharpen Detail : 15
Sharpen Edge Masking : 55
Post Crop Vignette Amount : 0
Grain Amount : 0
Color Noise Reduction Detail : 50
Lens Profile Enable : 0
Lens Manual Distortion Amount : 0
Perspective Vertical : 0
Perspective Horizontal : 0
Perspective Rotate : 0.0
Perspective Scale : 100
Convert To Grayscale : False
Tone Curve Name : Strong Contrast
Camera Profile : M8 Digital Camera_custom
Lens Profile Setup : LensDefaults
Has Settings : True
Crop Top : 0
Crop Left : 0.230216
Crop Bottom : 0.930481
Crop Right : 1
Crop Angle : 0
Crop Constrain To Warp : 0
Has Crop : True
Already Applied : True
Usage Terms : No reproduction of any kind without prior written permission
Subject : 28mm, Amara, Bennachie, elmarit, leica, m8, Nature, Oyne, Places, snow, westhall, winter
Rights : Copyright 2010 Stuart Fraser
Creator : Stuart Fraser
Tone Curve : 0, 0, 32, 16, 64, 50, 128, 128, 192, 202, 255, 255
Creator Postal Code : AB52 6QU
Creator Region : Aberdeenshire
Creator Country : United Kingdom
Creator City : Insch
Creator Address : Kirkside, Old Westhall, Oyne
Hierarchical Subject : 28mm, Other Keywords|Bennachie, Other Keywords|Nature, Oyne, Places|Oyne, elmarit, leica, m8, snow, westhall, winter, Other Keywords|28mm, Other Keywords|Amara, Other Keywords|M8, Other Keywords|Leica, Other Keywords|Elmarit, Other Keywords|Snow, Other Keywords|Winter
Date Acquired : 2010:12:09 15:44:39
Image Width : 244
Image Height : 300
Bits Per Sample : 8
Color Components : 1
Aperture : 5.7
Image Size : 244x300
Megapixels : 0.073
Scale Factor To 35 mm Equivalent : 1.4
Shutter Speed : 1/1000
Circle Of Confusion : 0.022 mm
Field Of View : 50.7 deg
Focal Length : 28.0 mm (35 mm equivalent: 38.0 mm)
Hyperfocal Distance : 6.21 m
Light Value : 14.3
Lens ID : Elmarit-M 28mm f/2.8 ASPH.