Uber Exif Photo
Keywords : 28mm, Amara, Bennachie, Elmarit, Leica, M8, Nature, Snow, westhall, Winter
Copyright Flag : False
Make : Leica Camera AG
Camera Model Name : M8 Digital Camera
Orientation : Horizontal (normal)
Software : Adobe Photoshop CS5 Windows
Modify Date : 2010:12:06 13:37:40
Exposure Time : 1/1000
F Number : 3.4
Exposure Program : Manual
ISO : 160
Sensitivity Type : Unknown
Date/Time Original : 2010:12:02 14:10:12
Create Date : 2010:12:02 14:10:12
Shutter Speed Value : 1/1000
Aperture Value : 3.4
Exposure Compensation : 0
Max Aperture Value : 2.8
Metering Mode : Center-weighted average
Light Source : Unknown
Flash : Off, Did not fire
Focal Length : 28.0 mm
Color Space : Uncalibrated
Exif Image Width : 1500
Exif Image Height : 776
Scene Type : Directly photographed
White Balance : Auto
Digital Zoom Ratio : 0
Focal Length In 35mm Format : 38 mm
Scene Capture Type : Standard
Serial Number : 3332442
Lens Model : Leica Elmarit-M 28mm f/2.8 ASPH.
Profile Description : Adobe RGB (1998)
Creator Tool : Adobe Photoshop CS5 Windows
Rating : 0
Lens : Leica Elmarit-M 28mm f/2.8 ASPH.
Raw File Name : L1000481.DNG
Version : 6.2
Process Version : 5.7
Color Temperature : 6400
Tint : +15
Exposure : 0.00
Shadows : 7
Brightness : +25
Contrast : +51
Saturation : 0
Sharpness : 55
Luminance Smoothing : 0
Color Noise Reduction : 25
Chromatic Aberration R : 0
Chromatic Aberration B : 0
Vignette Amount : 0
Shadow Tint : 0
Red Hue : 0
Red Saturation : 0
Green Hue : 0
Green Saturation : 0
Blue Hue : 0
Blue Saturation : 0
Fill Light : 56
Vibrance : +10
Highlight Recovery : 25
Clarity : +20
Defringe : 0
Hue Adjustment Red : 0
Hue Adjustment Orange : 0
Hue Adjustment Yellow : 0
Hue Adjustment Green : 0
Hue Adjustment Aqua : 0
Hue Adjustment Blue : 0
Hue Adjustment Purple : 0
Hue Adjustment Magenta : 0
Saturation Adjustment Red : 0
Saturation Adjustment Orange : 0
Saturation Adjustment Yellow : 0
Saturation Adjustment Green : 0
Saturation Adjustment Aqua : 0
Saturation Adjustment Blue : 0
Saturation Adjustment Purple : 0
Saturation Adjustment Magenta : 0
Luminance Adjustment Red : 0
Luminance Adjustment Orange : 0
Luminance Adjustment Yellow : 0
Luminance Adjustment Green : 0
Luminance Adjustment Aqua : 0
Luminance Adjustment Blue : 0
Luminance Adjustment Purple : 0
Luminance Adjustment Magenta : 0
Split Toning Shadow Hue : 0
Split Toning Shadow Saturation : 0
Split Toning Highlight Hue : 0
Split Toning Highlight Saturation : 0
Split Toning Balance : 0
Parametric Shadows : 0
Parametric Darks : 0
Parametric Lights : 0
Parametric Highlights : 0
Parametric Shadow Split : 25
Parametric Midtone Split : 50
Parametric Highlight Split : 75
Sharpen Radius : +1.4
Sharpen Detail : 55
Sharpen Edge Masking : 45
Post Crop Vignette Amount : 0
Grain Amount : 0
Color Noise Reduction Detail : 50
Lens Profile Enable : 0
Lens Manual Distortion Amount : 0
Perspective Vertical : 0
Perspective Horizontal : 0
Perspective Rotate : 0.0
Perspective Scale : 100
Convert To Grayscale : False
Tone Curve Name : Strong Contrast
Camera Profile : Adobe Standard
Lens Profile Setup : LensDefaults
Has Settings : True
Has Crop : False
Already Applied : True
Format : image/jpeg
Color Mode : RGB
ICC Profile Name : Adobe RGB (1998)
Date Created : 2010:12:02 14:10:12
Marked : False
Tone Curve : 0, 0, 32, 16, 64, 50, 128, 128, 192, 202, 255, 255
Subject : 28mm, Amara, Bennachie, Elmarit, Leica, M8, Nature, Snow, westhall, Winter
Hierarchical Subject : Other Keywords|28mm, Other Keywords|Amara, Other Keywords|Bennachie, Other Keywords|Nature, Other Keywords|M8, Other Keywords|Leica, Other Keywords|Elmarit, Other Keywords|Snow, Other Keywords|Winter, snow, westhall, winter
Date Acquired : 2010:12:09 15:44:39
Image Width : 300
Image Height : 155
Bits Per Sample : 8
Color Components : 3
Aperture : 3.4
Image Size : 300x155
Megapixels : 0.046
Scale Factor To 35 mm Equivalent : 1.4
Shutter Speed : 1/1000
Circle Of Confusion : 0.022 mm
Field Of View : 50.7 deg
Focal Length : 28.0 mm (35 mm equivalent: 38.0 mm)
Hyperfocal Distance : 10.42 m
Light Value : 12.8
Lens ID : Elmarit-M 28mm f/2.8 ASPH.