Uber Exif Photo
Keywords : 90mm, Cooper, f2.8, Leica, M9, Oyne, Scotland
Make : Leica Camera AG
Camera Model Name : M9 Digital Camera
Orientation : Horizontal (normal)
Software : Adobe Photoshop CS5 Windows
Modify Date : 2012:03:26 15:10:30
Maker Note Safety : Safe
Exposure Time : 1/250
F Number : 5.7
Exposure Program : Manual
ISO : 320
Date/Time Original : 2012:03:26 07:54:31
Create Date : 2012:03:26 07:54:31
Shutter Speed Value : 1/250
Aperture Value : 5.7
Exposure Compensation : 0
Max Aperture Value : 2.8
Metering Mode : Center-weighted average
Light Source : Unknown
Flash : No Flash
Focal Length : 90.0 mm
Color Space : sRGB
Exif Image Width : 1200
Exif Image Height : 923
Scene Type : Directly photographed
Exposure Mode : Manual
White Balance : Auto
Digital Zoom Ratio : 0
Focal Length In 35mm Format : 90 mm
Scene Capture Type : Standard
Serial Number : 3973621
Lens Model : Leica Elmarit-M 90mm f/2.8
Profile Description : sRGB IEC61966-2.1
Creator Tool : Adobe Photoshop CS5 Windows
Rating : 0
Lens : Leica Elmarit-M 90mm f/2.8
Date Created : 2012:03:26 07:54:31
Format : image/jpeg
Raw File Name : L1000912.DNG
Version : 6.6
Process Version : 5.7
Color Temperature : 4450
Tint : +10
Exposure : 0.00
Shadows : 7
Brightness : +44
Contrast : +42
Sharpness : 65
Luminance Smoothing : 0
Color Noise Reduction : 25
Chromatic Aberration R : 0
Chromatic Aberration B : 0
Vignette Amount : 0
Shadow Tint : 0
Red Hue : 0
Red Saturation : 0
Green Hue : 0
Green Saturation : 0
Blue Hue : 0
Blue Saturation : 0
Fill Light : 0
Highlight Recovery : 18
Clarity : +20
Defringe : 0
Gray Mixer Red : -6
Gray Mixer Orange : -13
Gray Mixer Yellow : -16
Gray Mixer Green : -22
Gray Mixer Aqua : -19
Gray Mixer Blue : +4
Gray Mixer Purple : +11
Gray Mixer Magenta : +4
Split Toning Shadow Hue : 28
Split Toning Shadow Saturation : 17
Split Toning Highlight Hue : 0
Split Toning Highlight Saturation : 0
Split Toning Balance : 0
Parametric Shadows : 0
Parametric Darks : 0
Parametric Lights : 0
Parametric Highlights : 0
Parametric Shadow Split : 25
Parametric Midtone Split : 50
Parametric Highlight Split : 75
Sharpen Radius : +1.5
Sharpen Detail : 15
Sharpen Edge Masking : 55
Post Crop Vignette Amount : 0
Grain Amount : 0
Color Noise Reduction Detail : 50
Lens Profile Enable : 0
Lens Manual Distortion Amount : 0
Perspective Vertical : 0
Perspective Horizontal : 0
Perspective Rotate : 0.0
Perspective Scale : 100
Convert To Grayscale : True
Tone Curve Name : Medium Contrast
Camera Profile : Adobe Standard
Lens Profile Setup : LensDefaults
Has Settings : True
Has Crop : False
Already Applied : True
Subject : 90mm, Cooper, f2.8, Leica, M9, Oyne, Scotland
Tone Curve : 0, 0, 32, 22, 64, 56, 128, 128, 192, 196, 255, 255
Hierarchical Subject : Camera|90mm, Camera|f2.8, Camera|Leica, Camera|M9, People|Cooper, Places|Scotland, Places|Oyne
Image Width : 300
Image Height : 231
Bits Per Sample : 8
Color Components : 3
Aperture : 5.7
Image Size : 300x231
Megapixels : 0.069
Scale Factor To 35 mm Equivalent : 1.0
Shutter Speed : 1/250
Circle Of Confusion : 0.030 mm
Field Of View : 22.6 deg
Focal Length : 90.0 mm (35 mm equivalent: 90.0 mm)
Hyperfocal Distance : 47.30 m
Light Value : 11.3
Lens ID : Elmarit-M 90mm f/2.8