Uber Exif Photo
Make : Leica Camera AG
Camera Model Name : M8 Digital Camera
Orientation : Horizontal (normal)
Software : Adobe Photoshop CS4 Macintosh
Modify Date : 2010:09:22 21:39:06
Exposure Time : 1/350
F Number : 5.7
Exposure Program : Aperture-priority AE
ISO : 160
Date/Time Original : 2010:09:12 06:13:56
Create Date : 2010:09:12 06:13:56
Shutter Speed Value : 1/350
Aperture Value : 5.7
Exposure Compensation : 0
Max Aperture Value : 1.0
Metering Mode : Center-weighted average
Light Source : Unknown
Focal Length : 50.0 mm
Color Space : Uncalibrated
Exif Image Width : 1023
Exif Image Height : 1600
Scene Type : Directly photographed
White Balance : Auto
Digital Zoom Ratio : 0
Focal Length In 35mm Format : 67 mm
Scene Capture Type : Standard
Profile Description : Adobe RGB (1998)
Date/Time Digitized : 2010:09:12 06:13:56+01:00
Creator Tool : 2.005
Rating : 0
Serial Number : 3560473
Lens : Noctilux-M 50mm f/0.95 ASPH.
Raw File Name : L1002124.DNG
Version : 5.6
Color Temperature : 5800
Tint : +12
Exposure : 0.00
Shadows : 12
Brightness : +56
Contrast : +54
Saturation : 0
Sharpness : 126
Luminance Smoothing : 0
Color Noise Reduction : 25
Chromatic Aberration R : 0
Chromatic Aberration B : 0
Vignette Amount : 0
Shadow Tint : 0
Red Hue : 0
Red Saturation : 0
Green Hue : 0
Green Saturation : 0
Blue Hue : 0
Blue Saturation : 0
Fill Light : 0
Vibrance : 0
Highlight Recovery : 25
Clarity : 0
Defringe : 0
Hue Adjustment Red : 0
Hue Adjustment Orange : 0
Hue Adjustment Yellow : 0
Hue Adjustment Green : 0
Hue Adjustment Aqua : 0
Hue Adjustment Blue : 0
Hue Adjustment Purple : 0
Hue Adjustment Magenta : 0
Saturation Adjustment Red : 0
Saturation Adjustment Orange : 0
Saturation Adjustment Yellow : 0
Saturation Adjustment Green : 0
Saturation Adjustment Aqua : 0
Saturation Adjustment Blue : 0
Saturation Adjustment Purple : 0
Saturation Adjustment Magenta : 0
Luminance Adjustment Red : 0
Luminance Adjustment Orange : 0
Luminance Adjustment Yellow : 0
Luminance Adjustment Green : 0
Luminance Adjustment Aqua : 0
Luminance Adjustment Blue : 0
Luminance Adjustment Purple : 0
Luminance Adjustment Magenta : 0
Split Toning Shadow Hue : 0
Split Toning Shadow Saturation : 0
Split Toning Highlight Hue : 0
Split Toning Highlight Saturation : 0
Split Toning Balance : 0
Parametric Shadows : 0
Parametric Darks : 0
Parametric Lights : 0
Parametric Highlights : 0
Parametric Shadow Split : 25
Parametric Midtone Split : 50
Parametric Highlight Split : 75
Sharpen Radius : +1.0
Sharpen Detail : 25
Sharpen Edge Masking : 0
Post Crop Vignette Amount : 0
Convert To Grayscale : False
Tone Curve Name : Medium Contrast
Camera Profile : Adobe Standard
Has Settings : True
Has Crop : False
Already Applied : True
Format : image/jpeg
Color Mode : RGB
ICC Profile Name : Adobe RGB (1998)
Flash Fired : False
Flash Return : No return detection
Flash Mode : Auto
Flash Function : False
Flash Red Eye Mode : False
Tone Curve : 0, 0, 32, 22, 64, 56, 128, 128, 192, 196, 255, 255
Image Width : 192
Image Height : 300
Bits Per Sample : 8
Color Components : 3
Aperture : 5.7
Image Size : 192x300
Megapixels : 0.058
Scale Factor To 35 mm Equivalent : 1.3
Shutter Speed : 1/350
Flash : Auto, Did not fire
Circle Of Confusion : 0.022 mm
Field Of View : 30.1 deg
Focal Length : 50.0 mm (35 mm equivalent: 67.0 mm)
Hyperfocal Distance : 19.56 m
Light Value : 12.8
Lens ID : Noctilux-M 50mm f/0.95 ASPH.