Uber Exif Photo
Copyright Notice : © Anup Changaroth
Copyright Flag : True
Make : LEICA CAMERA AG
Camera Model Name : LEICA X1
Orientation : Horizontal (normal)
Software : Adobe Photoshop CS4 Macintosh
Modify Date : 2010:10:25 13:04:27
Copyright : © Anup Changaroth
Maker Note Safety : Safe
Exposure Time : 1/60
F Number : 5.0
Exposure Program : Shutter speed priority AE
ISO : 1600
Date/Time Original : 2010:08:07 13:37:54
Create Date : 2010:08:07 13:37:54
Shutter Speed Value : 1/60
Aperture Value : 5.0
Exposure Compensation : 0
Max Aperture Value : 2.8
Subject Distance : 5.5 m
Metering Mode : Center-weighted average
Light Source : Daylight
Focal Length : 24.0 mm
Color Space : Uncalibrated
Exif Image Width : 1024
Exif Image Height : 487
Sensing Method : One-chip color area
Custom Rendered : Normal
White Balance : Manual
Digital Zoom Ratio : 1
Focal Length In 35mm Format : 35 mm
Scene Capture Type : Landscape
Contrast : Normal
Saturation : Normal
Sharpness : Soft
Date/Time Digitized : 2010:08:07 13:37:54+08:00
Creator Tool : Adobe Photoshop Lightroom
Rating : 3
Serial Number : 000003817354
Lens Info : 24mm f/2.8
Lens : 24.0 mm f/2.8
Marked : True
Format : image/jpeg
Raw File Name : L1000427.dng
Version : 5.0
Color Temperature : 2850
Tint : 0
Exposure : 0.00
Shadows : 5
Brightness : +10
Luminance Smoothing : 0
Color Noise Reduction : 25
Chromatic Aberration R : 0
Chromatic Aberration B : 0
Vignette Amount : 0
Shadow Tint : 0
Red Hue : 0
Red Saturation : 0
Green Hue : 0
Green Saturation : 0
Blue Hue : 0
Blue Saturation : 0
Fill Light : 0
Highlight Recovery : 42
Clarity : 0
Defringe : 0
Gray Mixer Red : -9
Gray Mixer Orange : -19
Gray Mixer Yellow : -23
Gray Mixer Green : -27
Gray Mixer Aqua : -18
Gray Mixer Blue : +11
Gray Mixer Purple : +17
Gray Mixer Magenta : +5
Split Toning Shadow Hue : 0
Split Toning Shadow Saturation : 0
Split Toning Highlight Hue : 0
Split Toning Highlight Saturation : 0
Split Toning Balance : 0
Parametric Shadows : 0
Parametric Darks : 0
Parametric Lights : 0
Parametric Highlights : 0
Parametric Shadow Split : 25
Parametric Midtone Split : 50
Parametric Highlight Split : 75
Sharpen Radius : +1.0
Sharpen Detail : 25
Sharpen Edge Masking : 0
Post Crop Vignette Amount : 0
Convert To Grayscale : True
Tone Curve Name : Medium Contrast
Camera Profile : Adobe Standard
Has Settings : True
Crop Top : 0.179894
Crop Left : 0
Crop Bottom : 0.890653
Crop Right : 1
Crop Angle : 0
Has Crop : True
Already Applied : True
Color Mode : Grayscale
ICC Profile Name : Gray Gamma 2.2
Flash Fired : False
Flash Return : No return detection
Flash Mode : Off
Flash Function : False
Flash Red Eye Mode : False
Usage Terms : Restricted
Rights : © Anup Changaroth
Tone Curve : 0, 0, 32, 22, 64, 56, 128, 128, 192, 196, 255, 255
Image Width : 300
Image Height : 143
Bits Per Sample : 8
Color Components : 1
Aperture : 5.0
Image Size : 300x143
Megapixels : 0.043
Scale Factor To 35 mm Equivalent : 1.5
Shutter Speed : 1/60
Flash : Off, Did not fire
Circle Of Confusion : 0.021 mm
Depth Of Field : 263.76 m (2.78 - 266.54 m)
Field Of View : 54.4 deg
Focal Length : 24.0 mm (35 mm equivalent: 35.0 mm)
Hyperfocal Distance : 5.59 m
Light Value : 6.6
Lens ID : 24.0mm f/2.8