Uber Exif Photo
Make : LEICA CAMERA AG
Camera Model Name : LEICA X1
Software : Adobe Photoshop Lightroom 4.4 (Macintosh)
Modify Date : 2013:11:16 18:42:29
Exposure Time : 1/40
F Number : 2.8
Exposure Program : Program AE
ISO : 100
Date/Time Original : 2013:11:16 17:32:15
Create Date : 2013:11:16 17:32:15
Shutter Speed Value : 1/40
Aperture Value : 2.8
Exposure Compensation : -1.7
Max Aperture Value : 2.8
Metering Mode : Center-weighted average
Light Source : Unknown
Flash : Off, Did not fire
Focal Length : 24.0 mm
Original File Name : L9996469.DNG
Original Directory : 999LEICA
Focus Distance : 5.5 m
Exposure Mode : Unknown (0 1 0 0)
File Index : 6469
Film Mode : Standard
WB RGB Levels : 0.5278350515 1.122807018 0.7687687688
Internal Serial Number : 000000000000
Sensing Method : One-chip color area
Custom Rendered : Normal
White Balance : Auto
Digital Zoom Ratio : 1
Focal Length In 35mm Format : 36 mm
Scene Capture Type : Landscape
Contrast : Normal
Saturation : Normal
Sharpness : Normal
Serial Number : 000003813159
Lens Info : 24mm f/2.8
Lens Model : 24.0 mm f/2.8
Maker Note Safety : Safe
Creator Tool : Adobe Photoshop Lightroom 4.4 (Macintosh)
Lens : 24.0 mm f/2.8
Approximate Focus Distance : 5.5
Date Created : 2013:11:16 17:32:15
Format : image/jpeg
Version : 7.4
Process Version : 6.7
Color Temperature : 5650
Tint : +43
Luminance Smoothing : 0
Color Noise Reduction : 25
Vignette Amount : 0
Shadow Tint : 0
Red Hue : 0
Red Saturation : 0
Green Hue : 0
Green Saturation : 0
Blue Hue : 0
Blue Saturation : 0
Gray Mixer Red : -9
Gray Mixer Orange : -18
Gray Mixer Yellow : -22
Gray Mixer Green : -26
Gray Mixer Aqua : -18
Gray Mixer Blue : +9
Gray Mixer Purple : +15
Gray Mixer Magenta : +4
Split Toning Shadow Hue : 0
Split Toning Shadow Saturation : 0
Split Toning Highlight Hue : 0
Split Toning Highlight Saturation : 0
Split Toning Balance : 0
Parametric Shadows : 0
Parametric Darks : 0
Parametric Lights : 0
Parametric Highlights : 0
Parametric Shadow Split : 25
Parametric Midtone Split : 50
Parametric Highlight Split : 75
Sharpen Radius : +1.4
Sharpen Detail : 25
Sharpen Edge Masking : 0
Post Crop Vignette Amount : 0
Grain Amount : 0
Color Noise Reduction Detail : 50
Lens Profile Enable : 0
Lens Manual Distortion Amount : 0
Perspective Vertical : 0
Perspective Horizontal : 0
Perspective Rotate : 0.0
Perspective Scale : 100
Auto Lateral CA : 0
Exposure 2012 : +0.15
Contrast 2012 : -7
Highlights 2012 : -23
Shadows 2012 : -5
Whites 2012 : -68
Blacks 2012 : -31
Clarity 2012 : +42
Convert To Grayscale : True
Tone Curve Name 2012 : Linear
Camera Profile : Adobe Standard
Lens Profile Setup : LensDefaults
Has Settings : True
Crop Top : 0.068155
Crop Left : 0.047605
Crop Bottom : 0.868609
Crop Right : 0.850308
Crop Angle : 0
Crop Constrain To Warp : 0
Crop Width : 3429
Crop Height : 2286
Crop Unit : pixels
Has Crop : True
Already Applied : True
Tone Curve PV2012 : 0, 0, 255, 255
Tone Curve PV2012 Red : 0, 0, 255, 255
Tone Curve PV2012 Green : 0, 0, 255, 255
Tone Curve PV2012 Blue : 0, 0, 255, 255
Image Width : 300
Image Height : 200
Bits Per Sample : 8
Color Components : 1
Aperture : 2.8
Blue Balance : 0.684685
Image Size : 300x200
Megapixels : 0.060
Red Balance : 0.470103
Scale Factor To 35 mm Equivalent : 1.5
Shutter Speed : 1/40
Circle Of Confusion : 0.020 mm
Depth Of Field : 8.20 m (3.59 - 11.78 m)
Field Of View : 52.9 deg (5.48 m)
Focal Length : 24.0 mm (35 mm equivalent: 36.0 mm)
Hyperfocal Distance : 10.27 m
Light Value : 8.3
Lens ID : 24.0mm f/2.8